BEGIN:VCALENDAR
VERSION:2.0
PRODID:-//Center Makor - ECPv6.15.20//NONSGML v1.0//EN
CALSCALE:GREGORIAN
METHOD:PUBLISH
X-WR-CALNAME:Center Makor
X-ORIGINAL-URL:https://www.centermakor.org
X-WR-CALDESC:Events for Center Makor
REFRESH-INTERVAL;VALUE=DURATION:PT1H
X-Robots-Tag:noindex
X-PUBLISHED-TTL:PT1H
BEGIN:VTIMEZONE
TZID:America/New_York
BEGIN:DAYLIGHT
TZOFFSETFROM:-0500
TZOFFSETTO:-0400
TZNAME:EDT
DTSTART:20220313T070000
END:DAYLIGHT
BEGIN:STANDARD
TZOFFSETFROM:-0400
TZOFFSETTO:-0500
TZNAME:EST
DTSTART:20221106T060000
END:STANDARD
BEGIN:DAYLIGHT
TZOFFSETFROM:-0500
TZOFFSETTO:-0400
TZNAME:EDT
DTSTART:20230312T070000
END:DAYLIGHT
BEGIN:STANDARD
TZOFFSETFROM:-0400
TZOFFSETTO:-0500
TZNAME:EST
DTSTART:20231105T060000
END:STANDARD
BEGIN:DAYLIGHT
TZOFFSETFROM:-0500
TZOFFSETTO:-0400
TZNAME:EDT
DTSTART:20240310T070000
END:DAYLIGHT
BEGIN:STANDARD
TZOFFSETFROM:-0400
TZOFFSETTO:-0500
TZNAME:EST
DTSTART:20241103T060000
END:STANDARD
END:VTIMEZONE
BEGIN:VEVENT
DTSTART;TZID=America/New_York:20230120T190000
DTEND;TZID=America/New_York:20230120T210000
DTSTAMP:20260420T064354
CREATED:20230105T205306Z
LAST-MODIFIED:20230111T221338Z
UID:14081-1674241200-1674248400@www.centermakor.org
SUMMARY:This Ukrainian American Life
DESCRIPTION:Vira & Friends Presents \nThis Ukrainian American Life\ncontralto Vira Slywotzky & pianist Dina Pruzhansky\nperform classical\, popular and folk songs from the US and Ukraine \nJoin us on Friday\, January 20th at 7pm in Cambridge\nand\nSunday\, January 22 at 5pm in New Haven! \nA CONCERT/CABARET FUNDRAISER FOR RAZOM FOR UKRAINE \nAdmission is free\nDonations to RAZOM FOR UKRAINE strongly encouraged\n$25 per attendee suggested \nClick Here to Donate \nEmail virasly@razomforukraine.org to reserve seats \n7 p.m.\, Friday\, January 20\nFirst Church Cambridge\n11 Garden Street\, Cambridge\, MA 02138 \n5 p.m.\, Sunday\, January 22\nBethesda Lutheran Church\n305 Saint Ronan Street\, New Haven\, CT 06511
URL:https://www.centermakor.org/event/this-ukrainian-american-life/
CATEGORIES:Community Events
ATTACH;FMTTYPE=image/png:https://www.centermakor.org/wp-content/uploads/2023/01/January-20-Cambridge.png
END:VEVENT
END:VCALENDAR