BEGIN:VCALENDAR
VERSION:2.0
PRODID:-//Center Makor - ECPv6.15.20//NONSGML v1.0//EN
CALSCALE:GREGORIAN
METHOD:PUBLISH
X-ORIGINAL-URL:https://www.centermakor.org
X-WR-CALDESC:Events for Center Makor
REFRESH-INTERVAL;VALUE=DURATION:PT1H
X-Robots-Tag:noindex
X-PUBLISHED-TTL:PT1H
BEGIN:VTIMEZONE
TZID:America/New_York
BEGIN:DAYLIGHT
TZOFFSETFROM:-0500
TZOFFSETTO:-0400
TZNAME:EDT
DTSTART:20220313T070000
END:DAYLIGHT
BEGIN:STANDARD
TZOFFSETFROM:-0400
TZOFFSETTO:-0500
TZNAME:EST
DTSTART:20221106T060000
END:STANDARD
BEGIN:DAYLIGHT
TZOFFSETFROM:-0500
TZOFFSETTO:-0400
TZNAME:EDT
DTSTART:20230312T070000
END:DAYLIGHT
BEGIN:STANDARD
TZOFFSETFROM:-0400
TZOFFSETTO:-0500
TZNAME:EST
DTSTART:20231105T060000
END:STANDARD
BEGIN:DAYLIGHT
TZOFFSETFROM:-0500
TZOFFSETTO:-0400
TZNAME:EDT
DTSTART:20240310T070000
END:DAYLIGHT
BEGIN:STANDARD
TZOFFSETFROM:-0400
TZOFFSETTO:-0500
TZNAME:EST
DTSTART:20241103T060000
END:STANDARD
END:VTIMEZONE
BEGIN:VEVENT
DTSTART;TZID=America/New_York:20230127T190000
DTEND;TZID=America/New_York:20230127T210000
DTSTAMP:20260422T104941
CREATED:20230120T204521Z
LAST-MODIFIED:20230120T204556Z
UID:14475-1674846000-1674853200@www.centermakor.org
SUMMARY:An Evening of Gypsy Romances
DESCRIPTION:Commonwealth Lyric Theater\nPresents \nALEXANDER PROKHOROV-TOLSTOY\nAn Evening of Gypsy Romances \nJanuary 27\, 2023 at 7:00 P.M.\n381 Dudley Road\, Newton\, MA 02459 \nTICKETS: $45.00 in advance; $50.00 at the door \nWine and Cheese will be offered during intermission. \nAbout the Artist: \nAlexander Prokhorov-Tolstoy is legendary for his candlelit evening of Russian and Gypsy romances. He is a connoisseur and collector of well-known\, as well as rare and forgotten Russian and Gypsy romances\, that he performs with his own improvised piano accompaniment. \nwww.prokhorov-tolstoy.com \nZELLE: irina@commonwealthlyrictheater.com or 617-538-8191 \nVENMO \nAny Questions please email irina@commonwealthlyrictheater.com
URL:https://www.centermakor.org/event/an-evening-of-gypsy-romances/
CATEGORIES:Community Events
ATTACH;FMTTYPE=image/jpeg:https://www.centermakor.org/wp-content/uploads/2023/01/Gypsy-Romances.jpg
END:VEVENT
END:VCALENDAR