BEGIN:VCALENDAR
VERSION:2.0
PRODID:-//Center Makor - ECPv6.15.20//NONSGML v1.0//EN
CALSCALE:GREGORIAN
METHOD:PUBLISH
X-WR-CALNAME:Center Makor
X-ORIGINAL-URL:https://www.centermakor.org
X-WR-CALDESC:Events for Center Makor
REFRESH-INTERVAL;VALUE=DURATION:PT1H
X-Robots-Tag:noindex
X-PUBLISHED-TTL:PT1H
BEGIN:VTIMEZONE
TZID:America/New_York
BEGIN:DAYLIGHT
TZOFFSETFROM:-0500
TZOFFSETTO:-0400
TZNAME:EDT
DTSTART:20220313T070000
END:DAYLIGHT
BEGIN:STANDARD
TZOFFSETFROM:-0400
TZOFFSETTO:-0500
TZNAME:EST
DTSTART:20221106T060000
END:STANDARD
BEGIN:DAYLIGHT
TZOFFSETFROM:-0500
TZOFFSETTO:-0400
TZNAME:EDT
DTSTART:20230312T070000
END:DAYLIGHT
BEGIN:STANDARD
TZOFFSETFROM:-0400
TZOFFSETTO:-0500
TZNAME:EST
DTSTART:20231105T060000
END:STANDARD
BEGIN:DAYLIGHT
TZOFFSETFROM:-0500
TZOFFSETTO:-0400
TZNAME:EDT
DTSTART:20240310T070000
END:DAYLIGHT
BEGIN:STANDARD
TZOFFSETFROM:-0400
TZOFFSETTO:-0500
TZNAME:EST
DTSTART:20241103T060000
END:STANDARD
END:VTIMEZONE
BEGIN:VEVENT
DTSTART;TZID=America/New_York:20230304T193000
DTEND;TZID=America/New_York:20230304T213000
DTSTAMP:20260421T182518
CREATED:20230220T032003Z
LAST-MODIFIED:20230220T032003Z
UID:15137-1677958200-1677965400@www.centermakor.org
SUMMARY:Слава Толстой и Максим Любарский в программе “Линия Фронта”
DESCRIPTION:Слава Толстой и Максим Любарский \nв программе \nЛиния Фронта\n4 марта\, 7:30 p.m. \nИзвестные бостонские музыканты Слава Толстой (гитара\, вокал) и Максим Любарский (фортепьяно) хорошо знакомы широкому кругу слушателей как своими сольным проектам так и совместным выступлениям. На этом концерте вы услышите полюбившиеся многим песни Славы Толстого с уникальным аккомпанементом фортепьяно и клавиш\, а также инструментальные вещи из репертуара Максима. \nСлава – коренной петербуржец\, Максим – одессит; их объединяет не только многолетняя дружба и профессионализм (они выпускники Berklee College of Music)\, но и отношение к сегодняшним событиям – оба занимают бескомпромиссную про-украинскую позицию\, и все это будет отражено в программе концерта. Приходите\, количество мест ограничено (на большинстве их выступлений – аншлаг!). Будем грустить\, думать\, плакать и смеяться вместе! \nYou can reserve your seat by donating here\, the following amounts are strongly encouraged: \n$35 – предварительные продажи (до 25 февраля) \n$45 – цена билета с 25 февраля – 3 марта \n$50 – в день концерта \nЗарезервировать места заранее можно тремя способами: Venmo\, Zelle или Paypal \nVenmo to: Sviatoslav-Tolstoy \nZelle to (if you have BoA account): 617-966-7947 \nPaypal to: stolstoy@yahoo.com \nPlease make sure to select “Family and Friends” option to avoid fees on paypal. \nPlease contact Slava Tolstoy’s team with any questions / for any additional information by email: top40songs@yahoo.com \n \nСлава Толстой – гитарист\, певец\, продюсер; известен по выступлениям и записям с Федором Чистяковым (Ноль) и Борисом Пелехом (Gogol Bordello). \nОбъездил с гастролями США со своим инструментальным проектом “International String Trio”. В 2021 году Слава выпустил альбом “Песни Про Море”\, его уникальный стиль можно описать как мелодичный поп-рок с гитарным драйвом\, зажигательными соло и глубокими текстами в лучших традициях русского рока. Осенью 2022 года у него выходит анти-военный сингл и видео “Ты Вне” которые встречают теплый прием и отзывы в музыкальных кругах (А. Троицкий\, М. Козырев\, Новая Газета. Европа). \nСлава выступит с программой “Линия Фронта” в которой представлены как песни написанные после начала войны так и полюбившиеся многим вещи с последнего альбома. \nВыпускник престижного колледжа музыки Беркли (Бостон\, США) Слава комфортно себя чувствует в самых разных стилях (цыганский джаз и классика\, рок и этническая музыка)\, и все это находит отражение в его песнях. \nС самых первых дней начала войны Слава занял активную позицию по поддержке Украины – участвовал в митингах протеста\, в большом сборном концерте в Бостоне в клубе “Royale” для сбора средств Украине\, а также дал много сольных концертов в поддержку Украины в разных городах мира (Бостон\, Сан-Франциско\, Сан-Хосе\, Берлин). \nMaxim Lubarsky is a remarkable pianist\, whose stylistic versatility and musicality makes him one of the most sought-after musicians. \nNative of Odessa Ukraine\, Maxim was originally trained as a classical pianist at famous Stolyarsky school of Music and Odessa State Conservatory. Already in school he has developed a passion for jazz and received a scholarship to come to Berklee College of Music to further his studies\, where currently he is an assistant professor. \nMaxim has performed and recorded with such musicians as Dee Dee Bridgewater\, Terri Lynn Carrington\, Steve Gadd\, Abe Laboriel\, Dave Samuels\, and participated in St. Petersburg Music Fest (Russia)\, Spoleto Festival (SC)\, Beantown Festival (MA)\, Diacetum Festival (Italy)\, “Black Sea Weekend” (Ukraine)\, “Usadba Jazz” Festival (Russia)\, ArtNaples Festival (FL). \n\n \n\n \n\n \n\n \n\n \n\n \n\nО Песне “Ты Вне”: \n“Песня Славы Толстого “Ты Вне” мне очень понравилась и потому что она прекрасно исполнена\, сыграна и спета и потому что\, на самом деле\, тема этой песни такая тревожащая… Хорошая\, очень точная песня. Посвящается\, к сожалению\, очень многим – в том числе и некоторым моим друзьям.” \nАртемий Троицкий \n  \n“Американский гитарист-виртуоз Слава Толстой\, участник множества джазовых проектов\, партнер Федора Чистякова по американским концертам\, записал песню о людях вне политики\, которые стараются не обращать внимание на горящие дома и убитых мирных жителей. \nПо стилистике это самый что ни на есть русский рок\, но честнее и смелее в разы. Многие русские рокеры сегодня не могут позволить себе такого\, они как раз в позиции «вне».” \nЯн Шенкман. Новая Газета. Европа \n  \n“Слава Толстой еще в самом начале войны написал пронзительный песню про позицию\, которой увы жило большинство вполне себе неплохих русских людей и которая\, в итоге\, и привела к Катастрофе. \nСпасибо тебе\, Слава\, от всех нас – обездоленных\, потерявших родину\, но не равнодушных. Переможемо.” \nМихаил Нодельман (скрипач виртуоз\, Германия). \n  \n“Слава Толстой – “Ты вне” #Премьера \nОткрыл для себя новое имя. Спасибо\, Ян Шенкман!” \nМихаил Козырев. \n  \nОб альбоме “Песни Про Море”: \n“Друзья\, сегодня я хочу представить\, и одновременно поздравить Славу Толстого с выходом его сольного альбома. \nMожно сказать однозначно\, что Слава интересен не только как гитарист\, но и как автор и исполнитель собственных песен. Это сильная музыка\, это прекрасные музыканты.” \nФедор Чистяков \n  \n“Послушал альбом Славы Толстого. Очень здорово! Музыкально сделано\, от души и отлично спето.” \nПрофессор Лебединский
URL:https://www.centermakor.org/event/tolstoy-lubarsky/
LOCATION:Театр на крыше\, 50 Kearney Road\, Needham\, 02494\, United States
CATEGORIES:Community Events
ATTACH;FMTTYPE=image/jpeg:https://www.centermakor.org/wp-content/uploads/2023/02/ST-and-Max-Flyer-GREAT.jpg
END:VEVENT
END:VCALENDAR