BEGIN:VCALENDAR
VERSION:2.0
PRODID:-//Center Makor - ECPv6.15.20//NONSGML v1.0//EN
CALSCALE:GREGORIAN
METHOD:PUBLISH
X-WR-CALNAME:Center Makor
X-ORIGINAL-URL:https://www.centermakor.org
X-WR-CALDESC:Events for Center Makor
REFRESH-INTERVAL;VALUE=DURATION:PT1H
X-Robots-Tag:noindex
X-PUBLISHED-TTL:PT1H
BEGIN:VTIMEZONE
TZID:America/New_York
BEGIN:DAYLIGHT
TZOFFSETFROM:-0500
TZOFFSETTO:-0400
TZNAME:EDT
DTSTART:20220313T070000
END:DAYLIGHT
BEGIN:STANDARD
TZOFFSETFROM:-0400
TZOFFSETTO:-0500
TZNAME:EST
DTSTART:20221106T060000
END:STANDARD
BEGIN:DAYLIGHT
TZOFFSETFROM:-0500
TZOFFSETTO:-0400
TZNAME:EDT
DTSTART:20230312T070000
END:DAYLIGHT
BEGIN:STANDARD
TZOFFSETFROM:-0400
TZOFFSETTO:-0500
TZNAME:EST
DTSTART:20231105T060000
END:STANDARD
BEGIN:DAYLIGHT
TZOFFSETFROM:-0500
TZOFFSETTO:-0400
TZNAME:EDT
DTSTART:20240310T070000
END:DAYLIGHT
BEGIN:STANDARD
TZOFFSETFROM:-0400
TZOFFSETTO:-0500
TZNAME:EST
DTSTART:20241103T060000
END:STANDARD
END:VTIMEZONE
BEGIN:VEVENT
DTSTART;TZID=America/New_York:20230308T163000
DTEND;TZID=America/New_York:20230308T180000
DTSTAMP:20260421T182543
CREATED:20230306T223458Z
LAST-MODIFIED:20230306T223957Z
UID:15394-1678293000-1678298400@www.centermakor.org
SUMMARY:Babyn Yar: Ukrainian Poets Respond
DESCRIPTION:Babyn Yar: Ukrainian Poets Respond\nDate: Wednesday\, March 8\, 2023\, 4:30pm to 6:00pm\nLocation: K-354 CGIS Knafel\, 1737 Cambridge Street\, Cambridge MA \nIn Person and Online \nOstap Kin\, editor and translator\nJohn Hennessy\, translator\nModerated by Oleh Kotsyuba\, Manager of Publications\, HURI \nAbstract\nOn September 29 and 30\, 1941\, Nazis executed 33\,771 Kyivan Jews by machine gun at a ravine near Babyn Yar. By the time the Soviet army recaptured Kyiv\, some 100\,000 to 150\,000 had been exterminated at the ravine. The name of Babyn Yar is now synonymous with one of the most horrific massacres of World War II. Babyn Yar: Ukrainian Poets Respond presents poems by Ukrainian Jewish and non-Jewish poets of the Soviet and post-Soviet periods\, written in response to the tragic and senseless mass murders at Babyn Yar. \nBabyn Yar editor and translator Ostap Kin and translator John Hennessy join us for a discussion of the Babyn Yar massacre and their new book (forthcoming from HURI)\, which presents this collection of poems in the original Ukrainian and English translation. In addition to offering historical background about the massacre\, they will read several selections and discuss the poems and art of translation. \nLearn More and Register
URL:https://www.centermakor.org/event/babyn-yar-ukrainian-poets-respond/
CATEGORIES:Community Events,Online Events
ATTACH;FMTTYPE=image/jpeg:https://www.centermakor.org/wp-content/uploads/2023/03/babyn_yar_poster_web.jpg
END:VEVENT
END:VCALENDAR