BEGIN:VCALENDAR
VERSION:2.0
PRODID:-//Center Makor - ECPv6.15.20//NONSGML v1.0//EN
CALSCALE:GREGORIAN
METHOD:PUBLISH
X-WR-CALNAME:Center Makor
X-ORIGINAL-URL:https://www.centermakor.org
X-WR-CALDESC:Events for Center Makor
REFRESH-INTERVAL;VALUE=DURATION:PT1H
X-Robots-Tag:noindex
X-PUBLISHED-TTL:PT1H
BEGIN:VTIMEZONE
TZID:America/New_York
BEGIN:DAYLIGHT
TZOFFSETFROM:-0500
TZOFFSETTO:-0400
TZNAME:EDT
DTSTART:20220313T070000
END:DAYLIGHT
BEGIN:STANDARD
TZOFFSETFROM:-0400
TZOFFSETTO:-0500
TZNAME:EST
DTSTART:20221106T060000
END:STANDARD
BEGIN:DAYLIGHT
TZOFFSETFROM:-0500
TZOFFSETTO:-0400
TZNAME:EDT
DTSTART:20230312T070000
END:DAYLIGHT
BEGIN:STANDARD
TZOFFSETFROM:-0400
TZOFFSETTO:-0500
TZNAME:EST
DTSTART:20231105T060000
END:STANDARD
BEGIN:DAYLIGHT
TZOFFSETFROM:-0500
TZOFFSETTO:-0400
TZNAME:EDT
DTSTART:20240310T070000
END:DAYLIGHT
BEGIN:STANDARD
TZOFFSETFROM:-0400
TZOFFSETTO:-0500
TZNAME:EST
DTSTART:20241103T060000
END:STANDARD
END:VTIMEZONE
BEGIN:VEVENT
DTSTART;TZID=America/New_York:20230311T190000
DTEND;TZID=America/New_York:20230311T210000
DTSTAMP:20260423T110353
CREATED:20230303T190327Z
LAST-MODIFIED:20230303T190556Z
UID:15329-1678561200-1678568400@www.centermakor.org
SUMMARY:Я люблю — и\, значит\, я живу!
DESCRIPTION:Влада Брофман\nпри участии Макса Гусельщикова \nЯ люблю — и\, значит\, я живу!\nВы услышите яркую\, драматичную программу – в ней прозвучат песни на стихи поэтов Серебряного века (Ахматова\, Пастернак\, Цветаева\, Гумилёв\, Заболоцкий\, Бродский); классика авторской песни (Окуджава\, Высоцкий\, Никитин\, Берковский\, Щербаков); а также Гребенщиков и Хвостенко. \nПри участии Макса Гусельщикова! (скрипка\, экс-скрипач группы “Крематорий”) – и специальных гостей из студии “Пять вечеров.” \nНа концерте Влады возникает “ощущение\, что ты присутствуешь на празднике\, такое маленькое чудо\, и надо запоминать каждую секунду.” (Алексей Карташов) \n“Голос Влады опьяняет. Она потрясающе перевоплощается в каждую из своих героинь – в знойно-коварную Орландину\, в ветреную француженку\, чья любовь длится не дольше одного танца\, или в воздушную Амалию\, пред которой склонился вечный гусар… Каждая песня – это целый эмоциональный мир\, который долго потом остается с нами.” Слава Герович \nНе упустите этот уникальный концерт – на данный момент эту программу не планируется повторять. \nМесто: Arts at the Armory\nMarch 11\, 7:00pm.\nБилеты: $30.00. Количество мест ограничено! \nTickets \nМакс Гусельщиков (скрипка) наиболее известен поклонникам группы “Крематорий”\, в которой он участвовал с 2007-2022 год. До сотрудничества с «Крематорием» Максим Гусельщиков успел поработать в десятках музыкальных коллективов – приехав в Москву из Казахстана\, он практически сразу познакомился со знаменитым Михаилом Кругом\, который пригласил молодого артиста в свою команду. В репертуаре артиста также есть место «сказочной» и завораживающей этно-музыке\, современному фолку и конечно\, старому доброму рок-н-роллу. \nPoster design by Anastasia Bogushevsky.
URL:https://www.centermakor.org/event/i-love-i-live/
CATEGORIES:Community Events
ATTACH;FMTTYPE=image/jpeg:https://www.centermakor.org/wp-content/uploads/2023/03/334055334_855831275491395_6394811584200562333_n.jpg
END:VEVENT
BEGIN:VEVENT
DTSTART;TZID=America/New_York:20230311T193000
DTEND;TZID=America/New_York:20230311T213000
DTSTAMP:20260423T110353
CREATED:20230225T035146Z
LAST-MODIFIED:20230225T035146Z
UID:15232-1678563000-1678570200@www.centermakor.org
SUMMARY:Голубцы по объявлению
DESCRIPTION:Театр на крыше\nприглашает вас на спектакль \nГолубцы по объявлению\nАнтон Финк \nЛирическая комедия для субботнего вечера – легкая\, забавная\, с узнаваемыми ситуациями семейного быта. Но и с неожиданными экстравагантными поворотами! \nО спектакле \nЗаказать билеты!
URL:https://www.centermakor.org/event/golubcy-8/
LOCATION:Театр на крыше\, 50 Kearney Road\, Needham\, 02494\, United States
CATEGORIES:Community Events
ATTACH;FMTTYPE=image/jpeg:https://www.centermakor.org/wp-content/uploads/2020/02/голубцы-по-объявлению.jpg
END:VEVENT
END:VCALENDAR