BEGIN:VCALENDAR
VERSION:2.0
PRODID:-//Center Makor - ECPv6.15.20//NONSGML v1.0//EN
CALSCALE:GREGORIAN
METHOD:PUBLISH
X-WR-CALNAME:Center Makor
X-ORIGINAL-URL:https://www.centermakor.org
X-WR-CALDESC:Events for Center Makor
REFRESH-INTERVAL;VALUE=DURATION:PT1H
X-Robots-Tag:noindex
X-PUBLISHED-TTL:PT1H
BEGIN:VTIMEZONE
TZID:America/New_York
BEGIN:DAYLIGHT
TZOFFSETFROM:-0500
TZOFFSETTO:-0400
TZNAME:EDT
DTSTART:20220313T070000
END:DAYLIGHT
BEGIN:STANDARD
TZOFFSETFROM:-0400
TZOFFSETTO:-0500
TZNAME:EST
DTSTART:20221106T060000
END:STANDARD
BEGIN:DAYLIGHT
TZOFFSETFROM:-0500
TZOFFSETTO:-0400
TZNAME:EDT
DTSTART:20230312T070000
END:DAYLIGHT
BEGIN:STANDARD
TZOFFSETFROM:-0400
TZOFFSETTO:-0500
TZNAME:EST
DTSTART:20231105T060000
END:STANDARD
BEGIN:DAYLIGHT
TZOFFSETFROM:-0500
TZOFFSETTO:-0400
TZNAME:EDT
DTSTART:20240310T070000
END:DAYLIGHT
BEGIN:STANDARD
TZOFFSETFROM:-0400
TZOFFSETTO:-0500
TZNAME:EST
DTSTART:20241103T060000
END:STANDARD
END:VTIMEZONE
BEGIN:VEVENT
DTSTART;TZID=America/New_York:20230316T193000
DTEND;TZID=America/New_York:20230316T213000
DTSTAMP:20260421T182559
CREATED:20230227T232336Z
LAST-MODIFIED:20230301T205001Z
UID:15267-1678995000-1679002200@www.centermakor.org
SUMMARY:Carol Of The Bells
DESCRIPTION:Center Makor invites you to an exclusive screening\nof the largest premier of the year 2023 in Ukraine \nCarol Of The Bells / Schedryk\nWith subtitles/closed captions in English \nThe name of the movie is adapted from a popular and loved Ukrainian folk melody. The peaceful and neighborly existence of three families\, Polish\, Ukrainian\, and Jewish\, sharing a large house\, musical evenings\, and merriment in the city of Stanislaviv in the years preceding and post-war\, is shattered. First in the Soviet occupation and the persecution of the Polish family\, then\, by the Nazi occupation of Ukraine\, and the decimation of the Jewish family. Sacrificing their lives the Ukrainian family manages to save their neighbors’ children and their own daughter. \nThursday\, March 9\, 7:30 p.m. at Center Makor. Newton.\n50 Winchester St. Newton\n \nLight refreshments will be served. \nThe proceeds will benefit the people of Ukraine. \n\nTickets \nRated PG \nIMDB rating 8.0 – https://www.imdb.com/title/tt8332658/
URL:https://www.centermakor.org/event/carol-of-the-bells-3/
LOCATION:Center Makor. Newton.\, 50 Winchester St.\, Newton\, MA\, 02461\, United States
CATEGORIES:Makor Events
ATTACH;FMTTYPE=image/jpeg:https://www.centermakor.org/wp-content/uploads/2023/02/Carol-03.16.23.jpg
END:VEVENT
END:VCALENDAR