BEGIN:VCALENDAR
VERSION:2.0
PRODID:-//Center Makor - ECPv6.15.20//NONSGML v1.0//EN
CALSCALE:GREGORIAN
METHOD:PUBLISH
X-WR-CALNAME:Center Makor
X-ORIGINAL-URL:https://www.centermakor.org
X-WR-CALDESC:Events for Center Makor
REFRESH-INTERVAL;VALUE=DURATION:PT1H
X-Robots-Tag:noindex
X-PUBLISHED-TTL:PT1H
BEGIN:VTIMEZONE
TZID:America/New_York
BEGIN:DAYLIGHT
TZOFFSETFROM:-0500
TZOFFSETTO:-0400
TZNAME:EDT
DTSTART:20220313T070000
END:DAYLIGHT
BEGIN:STANDARD
TZOFFSETFROM:-0400
TZOFFSETTO:-0500
TZNAME:EST
DTSTART:20221106T060000
END:STANDARD
BEGIN:DAYLIGHT
TZOFFSETFROM:-0500
TZOFFSETTO:-0400
TZNAME:EDT
DTSTART:20230312T070000
END:DAYLIGHT
BEGIN:STANDARD
TZOFFSETFROM:-0400
TZOFFSETTO:-0500
TZNAME:EST
DTSTART:20231105T060000
END:STANDARD
BEGIN:DAYLIGHT
TZOFFSETFROM:-0500
TZOFFSETTO:-0400
TZNAME:EDT
DTSTART:20240310T070000
END:DAYLIGHT
BEGIN:STANDARD
TZOFFSETFROM:-0400
TZOFFSETTO:-0500
TZNAME:EST
DTSTART:20241103T060000
END:STANDARD
END:VTIMEZONE
BEGIN:VEVENT
DTSTART;TZID=America/New_York:20230319T170000
DTEND;TZID=America/New_York:20230319T190000
DTSTAMP:20260423T123540
CREATED:20230207T184318Z
LAST-MODIFIED:20230207T184318Z
UID:14875-1679245200-1679252400@www.centermakor.org
SUMMARY:Буратино
DESCRIPTION:Театр на крыше\nприглашает вас на спектакль \nБуратино\nдля детей с 4 лет \nИстория настолько известна\, что и рассказывать не надо. В поисках золотого ключика Буратино встречает добрых и не очень героев\, заглядывает в страну Дураков и находит настоящий театр прямо в кaморке Папы Карло. Ваши дети познакомятся с героями «Буратино»: Мальвиной\, Пьеро\, Арлекино\, Карабасом Барабасом\, Черепахой Тортилой и многими другими\, услышат авторские песни под живое музыкальное сопровождение\, а\, главное\, получат море удовольствия! \nО спектакле \nЗаказать билеты! \n\nЦена билета $30\nВ цену билета включен буфет. \nВнимание! Оплата производится наличными при входе!
URL:https://www.centermakor.org/event/buratino-14/
LOCATION:Театр на крыше\, 50 Kearney Road\, Needham\, 02494\, United States
CATEGORIES:Community Events,Kids Events
ATTACH;FMTTYPE=image/png:https://www.centermakor.org/wp-content/uploads/2018/10/BuratinoAfisha.png
END:VEVENT
BEGIN:VEVENT
DTSTART;TZID=America/New_York:20230319T190000
DTEND;TZID=America/New_York:20230319T200000
DTSTAMP:20260423T123541
CREATED:20230215T221547Z
LAST-MODIFIED:20230218T174810Z
UID:15060-1679252400-1679256000@www.centermakor.org
SUMMARY:Если б не было войны
DESCRIPTION:Литературно-музыкальная композиция \nЕсли б не было войны\nАвтор и ведущая – Алла Цыбульская\nПартия фортепиано – Борис Фогель \n\n\nВ программе: фрагменты из литературных произведений \nЭ. Золя • “Осада старой мельницы”\nИ. Бунин • “Холодная осень”\nЭ. Казакевич • “Звезда”\nК. Манн • “Мефистофель”\nБ.Брехт • “Матушка Кураж и её дети” \nА также прозвучат фрагменты из музыкальных произведений \nФрансис Лемарк • “Когда солдат идёт на войну”\nИоханн Бах–Александр Зилоти • Прелюдия  си минор\nШарль Легран • “The Windmills of Your Mind” (Мельниц шум у нас в уме)\nДжакомо Пуччини • Молитва Тоски (фортепианная транскрипция)\nСергей Рахманинов • Вокализ (фортепианная транскрипция)\nКристоф Виллибальд Глюк • Мелодия (фортепианная транскрипция)\nСергей Прокофьев • Вальс из оперы “Война и мир”\nШарль Гуно • Ария Мефистофеля (фортепианная транскрипция)\nФранц Шуберт • Фантазия \nВоскресенье\, 19 марта\, 7:00 p.m. Center Makor. The Campus. 384 Harvard St.\, Brookline. \nВесь сбор пойдёт в приют животных “Ласка” в г. Днепр в Украине. \nБилеты
URL:https://www.centermakor.org/event/esli-b-ne-bylo-voiny/
LOCATION:Center Makor: The Campus\, 384 Harvard St.\, Brookline\, MA\, 02446\, United States
CATEGORIES:Makor Events
ATTACH;FMTTYPE=image/jpeg:https://www.centermakor.org/wp-content/uploads/2023/02/Flyer-No-War-3-edited.jpg
END:VEVENT
END:VCALENDAR