BEGIN:VCALENDAR
VERSION:2.0
PRODID:-//Center Makor - ECPv6.15.20//NONSGML v1.0//EN
CALSCALE:GREGORIAN
METHOD:PUBLISH
X-ORIGINAL-URL:https://www.centermakor.org
X-WR-CALDESC:Events for Center Makor
REFRESH-INTERVAL;VALUE=DURATION:PT1H
X-Robots-Tag:noindex
X-PUBLISHED-TTL:PT1H
BEGIN:VTIMEZONE
TZID:America/New_York
BEGIN:DAYLIGHT
TZOFFSETFROM:-0500
TZOFFSETTO:-0400
TZNAME:EDT
DTSTART:20220313T070000
END:DAYLIGHT
BEGIN:STANDARD
TZOFFSETFROM:-0400
TZOFFSETTO:-0500
TZNAME:EST
DTSTART:20221106T060000
END:STANDARD
BEGIN:DAYLIGHT
TZOFFSETFROM:-0500
TZOFFSETTO:-0400
TZNAME:EDT
DTSTART:20230312T070000
END:DAYLIGHT
BEGIN:STANDARD
TZOFFSETFROM:-0400
TZOFFSETTO:-0500
TZNAME:EST
DTSTART:20231105T060000
END:STANDARD
BEGIN:DAYLIGHT
TZOFFSETFROM:-0500
TZOFFSETTO:-0400
TZNAME:EDT
DTSTART:20240310T070000
END:DAYLIGHT
BEGIN:STANDARD
TZOFFSETFROM:-0400
TZOFFSETTO:-0500
TZNAME:EST
DTSTART:20241103T060000
END:STANDARD
END:VTIMEZONE
BEGIN:VEVENT
DTSTART;TZID=America/New_York:20230508T163000
DTEND;TZID=America/New_York:20230526T190000
DTSTAMP:20260421T170057
CREATED:20230503T005838Z
LAST-MODIFIED:20230503T010056Z
UID:16321-1683563400-1685127600@www.centermakor.org
SUMMARY:Lag B'Omer celebrations
DESCRIPTION:Lag B’Omer celebrations with our partners: \nCongregation Kehillath Israel\, Brookline \nShaloh House\, Stoughton\, South Area \nShaloh House\, Brighton \nWhat is Lag B’Omer? Learn more!
URL:https://www.centermakor.org/event/lag-bomer-celebrations/
END:VEVENT
BEGIN:VEVENT
DTSTART;TZID=America/New_York:20230510T163000
DTEND;TZID=America/New_York:20230510T183000
DTSTAMP:20260421T170057
CREATED:20230414T045701Z
LAST-MODIFIED:20230414T050017Z
UID:16042-1683736200-1683743400@www.centermakor.org
SUMMARY:Hollywood & WWII
DESCRIPTION:National Center for Jewish Film’s Annual Film Festival\nMay 7-23\, 2023\nCoolidge Corner Theatre\, Brookline\, MA\nAll screening in person – on the big screen! \nHollywood & WWII\nNEW ENGLAND PREMIERE\n \n\n\nQ&A with Brandeis University Professor Thomas Doherty\, Author Hollywood & Hitler and Interviewee in the Film \nDuring WWII\, the U.S. government enlisted Hollywood’s best talent to rally the troops\, galvanize the public\, and thwart Hitler’s sophisticated propaganda machine. This fascinating new documentary focuses on the wartime films of five acclaimed Hollywood directors\, three of whom were Jewish émigrés. William Wyler (Ben-Hur\, The Best Years of Our Lives)\, Billy Wilder (Double Indemnity\, Some Like it Hot)\, Frank Capra (It Happened One Night\, It’s a Wonderful Life)\, George Stevens (A Place in the Sun\, Giant)\, and Anatole Litvak (Confessions of Nazi Spy) understood the power of cinema and its capacity to effectively reach the masses. Working for the US Office of War Information\, Capra and Litvak created the influential film series Why We Fight\, others documented the ground war and aerial battles from the front lines in Germany and Italy\, and later\, the liberation of the concentration camps. Jascha Hannover’s meticulously crafted film is chock full of rare film clips and interviews with an a-list cast of discussants\, including Brandeis University film historian Tom Doherty. \nDirector: Jascha Hannover | Germany | 2019 | 90m | English \nTickets
URL:https://www.centermakor.org/event/hollywood-wwii/
LOCATION:Coolidge Corner Theatre\, 290 Harvard St.\, Brookline\, MA\, 02446\, United States
CATEGORIES:Community Events
ATTACH;FMTTYPE=image/jpeg:https://www.centermakor.org/wp-content/uploads/2023/04/Hollywood-WWII.jpg
END:VEVENT
BEGIN:VEVENT
DTSTART;TZID=America/New_York:20230510T180000
DTEND;TZID=America/New_York:20230510T190000
DTSTAMP:20260421T170057
CREATED:20230331T182312Z
LAST-MODIFIED:20230331T182401Z
UID:15873-1683741600-1683745200@www.centermakor.org
SUMMARY:Бостон. Город и люди.
DESCRIPTION:Презентация историко-литературного альманаха «Бостон. Город и люди». В книге более 30 известных и новых авторов\, широко представлены поэзия\, эссеистика и проза. В альманахе также опубликованы мемуары русской эмиграции\, заметки по бостонской истории\, редкие фотографии. Вход свободный. \nДавно ожидаемый историко-литературный альманах «Бостон. Город и люди» (составители Л. Спивак и М. Минаев) выходит в свет. \nЛитературный вечер и презентация альманаха состоится 10 мая\, в среду\, в 6 вечера в концертном зале Ulin House по адресу: 30 Wallingford Rd\, Brighton\, MA 02135. \nВ книге более 30 известных и новых авторов\, широко представлены поэзия\, эссеистика и проза. В альманахе также опубликованы мемуары русской эмиграции\, заметки по бостонской истории\, редкие фотографии. \nУже сейчас можно оформить предзаказ на книгу в твердой обложке (цена – $28 включая доставку) – присылайте ваши заказы по электронной почте  mgraphics.books@gmail.com (не забудьте указать ваше имя\, точный почтовый адрес и емейл или телефон для связи в случае необходимости). Просьба поторопиться\, так как заявка на печать будет отдана в типографию 10 апреля и допечатка книги в твердой обложке в будущем не планируется. \nТот же сборник в мягком переплете (стоимость $22 + доставка) можно будет приобрести через вебсайт издательства M-Graphics www.mgraphics-books.com начиная с середины апреля.
URL:https://www.centermakor.org/event/boston/
CATEGORIES:Community Events
ATTACH;FMTTYPE=image/jpeg:https://www.centermakor.org/wp-content/uploads/2023/03/бостон-город-и-люди.jpg
END:VEVENT
BEGIN:VEVENT
DTSTART;TZID=America/New_York:20230510T191500
DTEND;TZID=America/New_York:20230510T210000
DTSTAMP:20260421T170057
CREATED:20230414T051910Z
LAST-MODIFIED:20230414T051910Z
UID:16068-1683746100-1683752400@www.centermakor.org
SUMMARY:Shttl
DESCRIPTION:National Center for Jewish Film’s Annual Film Festival\nMay 7-23\, 2023\nCoolidge Corner Theatre\, Brookline\, MA\nAll screening in person – on the big screen! \nShttl\nMASSACHUSETTS PREMIERE\n \n\n\nOne of the most spellbinding films of the year\, Shttl beautifully captures the expansive\, multi-character lives and loves of a Yiddish-speaking Jewish village in the Ukraine on the Polish border. Mendele\, who has been living a secular life in Kiev\, finds himself back in the familiar and comforting world of his shtetl\, a vibrant place\, brimming with the romance\, politics\, and intrigue of everyday life\, and simmering tensions between tradition and modernity. Set a day before the Nazi invasion of the Soviet Union in 1941\, this is a world on the precipice of disaster\, and the film unspools with our knowledge of the looming terror and does not flinch in depicting the destruction and loss. Writer-director Ady Walter’s debut masterpiece (filmed outside of Kyiv before the present war in Ukraine) was audaciously captured in one single take. The remarkable cast is led by Moshe Lobel (Broadway’s Yiddish revival of Fiddler on the Roof) and consummate character actor Saul Rubinek (Hunters\, Unforgiven) who is himself fluent in Yiddish and the son of holocaust survivors (See So Many Miracles distributed by NCJF). \nWinner – Rome Film Festival\, Best Film Audience Award \n“Shttl is a gem. A film that deserves a viewing on the loftiest screen available. This film left me breathless.” – Reel News Daily \n“The cinematography is consistently stunning…Walter’s camera feels like an extra member of the community…keen to join in on the spirited debate and conversation. A towering masterpiece of the lives we’ve lost” —Slash \nDirector: Ady Walter | Ukraine/France | 2022 | 114m | Yiddish and Ukrainian with English subtitles \nTickets
URL:https://www.centermakor.org/event/shttl/
LOCATION:Coolidge Corner Theatre\, 290 Harvard St.\, Brookline\, MA\, 02446\, United States
CATEGORIES:Community Events
ATTACH;FMTTYPE=image/jpeg:https://www.centermakor.org/wp-content/uploads/2023/04/Shttl.jpg
END:VEVENT
END:VCALENDAR