BEGIN:VCALENDAR
VERSION:2.0
PRODID:-//Center Makor - ECPv6.15.20//NONSGML v1.0//EN
CALSCALE:GREGORIAN
METHOD:PUBLISH
X-ORIGINAL-URL:https://www.centermakor.org
X-WR-CALDESC:Events for Center Makor
REFRESH-INTERVAL;VALUE=DURATION:PT1H
X-Robots-Tag:noindex
X-PUBLISHED-TTL:PT1H
BEGIN:VTIMEZONE
TZID:America/New_York
BEGIN:DAYLIGHT
TZOFFSETFROM:-0500
TZOFFSETTO:-0400
TZNAME:EDT
DTSTART:20220313T070000
END:DAYLIGHT
BEGIN:STANDARD
TZOFFSETFROM:-0400
TZOFFSETTO:-0500
TZNAME:EST
DTSTART:20221106T060000
END:STANDARD
BEGIN:DAYLIGHT
TZOFFSETFROM:-0500
TZOFFSETTO:-0400
TZNAME:EDT
DTSTART:20230312T070000
END:DAYLIGHT
BEGIN:STANDARD
TZOFFSETFROM:-0400
TZOFFSETTO:-0500
TZNAME:EST
DTSTART:20231105T060000
END:STANDARD
BEGIN:DAYLIGHT
TZOFFSETFROM:-0500
TZOFFSETTO:-0400
TZNAME:EDT
DTSTART:20240310T070000
END:DAYLIGHT
BEGIN:STANDARD
TZOFFSETFROM:-0400
TZOFFSETTO:-0500
TZNAME:EST
DTSTART:20241103T060000
END:STANDARD
END:VTIMEZONE
BEGIN:VTIMEZONE
TZID:America/Halifax
BEGIN:DAYLIGHT
TZOFFSETFROM:-0400
TZOFFSETTO:-0300
TZNAME:ADT
DTSTART:20220313T060000
END:DAYLIGHT
BEGIN:STANDARD
TZOFFSETFROM:-0300
TZOFFSETTO:-0400
TZNAME:AST
DTSTART:20221106T050000
END:STANDARD
BEGIN:DAYLIGHT
TZOFFSETFROM:-0400
TZOFFSETTO:-0300
TZNAME:ADT
DTSTART:20230312T060000
END:DAYLIGHT
BEGIN:STANDARD
TZOFFSETFROM:-0300
TZOFFSETTO:-0400
TZNAME:AST
DTSTART:20231105T050000
END:STANDARD
BEGIN:DAYLIGHT
TZOFFSETFROM:-0400
TZOFFSETTO:-0300
TZNAME:ADT
DTSTART:20240310T060000
END:DAYLIGHT
BEGIN:STANDARD
TZOFFSETFROM:-0300
TZOFFSETTO:-0400
TZNAME:AST
DTSTART:20241103T050000
END:STANDARD
END:VTIMEZONE
BEGIN:VEVENT
DTSTART;TZID=America/New_York:20230508T163000
DTEND;TZID=America/New_York:20230526T190000
DTSTAMP:20260425T141835
CREATED:20230503T005838Z
LAST-MODIFIED:20230503T010056Z
UID:16321-1683563400-1685127600@www.centermakor.org
SUMMARY:Lag B'Omer celebrations
DESCRIPTION:Lag B’Omer celebrations with our partners: \nCongregation Kehillath Israel\, Brookline \nShaloh House\, Stoughton\, South Area \nShaloh House\, Brighton \nWhat is Lag B’Omer? Learn more!
URL:https://www.centermakor.org/event/lag-bomer-celebrations/
LOCATION:MA
END:VEVENT
BEGIN:VEVENT
DTSTART;TZID=America/Halifax:20230513T193000
DTEND;TZID=America/Halifax:20230513T213000
DTSTAMP:20260425T141835
CREATED:20230413T015852Z
LAST-MODIFIED:20230413T015955Z
UID:16022-1684006200-1684013400@www.centermakor.org
SUMMARY:Виктор Шендерович. Потерпевший Гольдинер. Премьера!
DESCRIPTION:Театр на крыше\nприглашает вас на спектакль \nПотерпевший Гольдинер\nЛирическая комедия \nАвтор: В. Шендерович \nОна – американка с устоявшимся положением\, полноправный гражданин своей страны. Он – старый еврей\, эмигрировавший из Советского Союза в новую для него реальность. Она сбивает его на улочках Манхэттэна\, и суд приговаривает ее в качестве наказания ухаживать за сбитым ею человеком. Герои вынуждены проводить много времени в обществе друг друга. В результате оказывается\, что это общение необходимо обоим\, а у потерпевшего есть шанс на десять недель стать не одиноким и даже счастливым. \nРЕЖИССЕР – Людмила Старобинец \nО спектакле     Заказ билетов \n  \n\nЦена билета $45\, пенсионерам и студентам $30\nВ цену билета включен буфет. \nВнимание! Оплата производится наличными при входе!
URL:https://www.centermakor.org/event/goldiner-4/
LOCATION:Театр на крыше\, 50 Kearney Road\, Needham\, 02494\, United States
CATEGORIES:Community Events
ATTACH;FMTTYPE=image/jpeg:https://www.centermakor.org/wp-content/uploads/2023/03/Afisha_Goldiner_FINAL.jpg
END:VEVENT
END:VCALENDAR