BEGIN:VCALENDAR
VERSION:2.0
PRODID:-//Center Makor - ECPv6.15.20//NONSGML v1.0//EN
CALSCALE:GREGORIAN
METHOD:PUBLISH
X-WR-CALNAME:Center Makor
X-ORIGINAL-URL:https://www.centermakor.org
X-WR-CALDESC:Events for Center Makor
REFRESH-INTERVAL;VALUE=DURATION:PT1H
X-Robots-Tag:noindex
X-PUBLISHED-TTL:PT1H
BEGIN:VTIMEZONE
TZID:America/New_York
BEGIN:DAYLIGHT
TZOFFSETFROM:-0500
TZOFFSETTO:-0400
TZNAME:EDT
DTSTART:20220313T070000
END:DAYLIGHT
BEGIN:STANDARD
TZOFFSETFROM:-0400
TZOFFSETTO:-0500
TZNAME:EST
DTSTART:20221106T060000
END:STANDARD
BEGIN:DAYLIGHT
TZOFFSETFROM:-0500
TZOFFSETTO:-0400
TZNAME:EDT
DTSTART:20230312T070000
END:DAYLIGHT
BEGIN:STANDARD
TZOFFSETFROM:-0400
TZOFFSETTO:-0500
TZNAME:EST
DTSTART:20231105T060000
END:STANDARD
BEGIN:DAYLIGHT
TZOFFSETFROM:-0500
TZOFFSETTO:-0400
TZNAME:EDT
DTSTART:20240310T070000
END:DAYLIGHT
BEGIN:STANDARD
TZOFFSETFROM:-0400
TZOFFSETTO:-0500
TZNAME:EST
DTSTART:20241103T060000
END:STANDARD
END:VTIMEZONE
BEGIN:VEVENT
DTSTART;TZID=America/New_York:20230508T163000
DTEND;TZID=America/New_York:20230526T190000
DTSTAMP:20260421T140207
CREATED:20230503T005838Z
LAST-MODIFIED:20230503T010056Z
UID:16321-1683563400-1685127600@www.centermakor.org
SUMMARY:Lag B'Omer celebrations
DESCRIPTION:Lag B’Omer celebrations with our partners: \nCongregation Kehillath Israel\, Brookline \nShaloh House\, Stoughton\, South Area \nShaloh House\, Brighton \nWhat is Lag B’Omer? Learn more!
URL:https://www.centermakor.org/event/lag-bomer-celebrations/
END:VEVENT
BEGIN:VEVENT
DTSTART;TZID=America/New_York:20230514T160000
DTEND;TZID=America/New_York:20230514T180000
DTSTAMP:20260421T140207
CREATED:20230414T045157Z
LAST-MODIFIED:20230414T045157Z
UID:16037-1684080000-1684087200@www.centermakor.org
SUMMARY:1341 Frames of Love and War
DESCRIPTION:National Center for Jewish Film’s Annual Film Festival\nMay 7-23\, 2023\nCoolidge Corner Theatre\, Brookline\, MA\nAll screening in person – on the big screen! \n1341 Frames of Love and War\nMASSACHUSETTS PREMIERE\nSpecial Screening – Israel at 75 \n\n\nAcclaimed Israeli photojournalist Micha Bar-Am\, who was also the New York Times Middle East photographer from 1968-1992\, allowed filmmaker Ran Tal rare and total access to his vast archive of a half million photos and negatives. The images\, many of which are deeply etched in Israeli collective memory\, cover the years of Israeli statehood\, in its most beautiful and bleakest moments. Composed entirely of Bar-Am’s images\, along with audio commentary from the artist and his family\, 1341 Frames provides an intimate portrait of an artist\, as well as a meditation on memory\, violence\, beauty\, and the price of documenting atrocities and war. \nRan Tal (Children of the Sun and The Museum\, both presented by NCJF) is one of the world’s leading documentarians. So stunning was his innovative and rigorous embrace of Bar-Am’s photos\, that the Tel Aviv Museum of Art\, mounted the film as a multi-channel video installation. 1341 Frames premiered at the Berlinale and Telluride film festivals and won directing and editing awards at DocAviv. \nDirector: Ran Tal | Israel | 2022 | 90m | Hebrew with English subtitles \nTickets
URL:https://www.centermakor.org/event/1341-frames-of-love-and-war/
LOCATION:Coolidge Corner Theatre\, 290 Harvard St.\, Brookline\, MA\, 02446\, United States
CATEGORIES:Community Events
ATTACH;FMTTYPE=image/jpeg:https://www.centermakor.org/wp-content/uploads/2023/04/frames-of-love-and-war.jpg
END:VEVENT
BEGIN:VEVENT
DTSTART;TZID=America/New_York:20230514T180000
DTEND;TZID=America/New_York:20230514T180000
DTSTAMP:20260421T140207
CREATED:20230324T184516Z
LAST-MODIFIED:20230411T151729Z
UID:15784-1684087200-1684087200@www.centermakor.org
SUMMARY:Алексей Иващенко. Бортинженер летающей тарелки.
DESCRIPTION:Алексей Иващенко\nБортинженер летающей тарелки\nСоавтор хитов легендарного бардовского дуэта «Иваси»\, Алексей Иващенко в новой программе «Бортинженер летающей тарелки»! \nВ программе «Бортинженер летающей тарелки» прозвучат как старые\, известные слушателям песни\, так и новые работы автора. Приходите за доверительным и слегка ироничным разговором\, дружеской атмосферой и душевным теплом. \nБилеты без комиссии в книжном магазине Петрополе по телефону 617-232-8820 или на сайте www.petropol.com. Так же их можно приобрести послав платеж Venmo на @Ilya-Klebanov или Paypal: petropolbooks@gmail.com с подписью “Иващенко\, ваш имэйл”. Цена $50 \nПесни «Ивасей» знала и пела в 80-е и 90-е вся интеллигенция\, и казалось\, что им нет места в беспринципные двухтысячные. Но в сентябре 2022 года\, через 20 лет после завершения концертной деятельности\, дуэт вновь объединился\, чтобы дать в самом большом театре Москвы «Несанкционированный концерт»\, запись которого на YouTube посмотрели 1\,3 миллиона человек. А недавно Алексей Иващенко вместе со звездным джаз-бэндом Stellar представил программу «Бортинженер летающей тарелки»\, в которую вошли как всеми любимые хиты\, так и совершенно новые песни. Программа получила множество восторженных отзывов от зрителей\, соскучившихся по мягкому юмору и тонкой лирике\, присущим творчеству Иващенко. Американская премьера программы состоится в Филадельфии\, Вашингтоне\, Нью-Йорке и Бостоне.
URL:https://www.centermakor.org/event/alexey-ivaschenko/
LOCATION:Center Makor: The Campus\, 384 Harvard St.\, Brookline\, MA\, 02446\, United States
CATEGORIES:Community Events
ATTACH;FMTTYPE=image/jpeg:https://www.centermakor.org/wp-content/uploads/2023/03/ivashenko-bortingener.jpg
END:VEVENT
BEGIN:VEVENT
DTSTART;TZID=America/New_York:20230514T183000
DTEND;TZID=America/New_York:20230514T193000
DTSTAMP:20260421T140207
CREATED:20230414T052459Z
LAST-MODIFIED:20230414T052531Z
UID:16075-1684089000-1684092600@www.centermakor.org
SUMMARY:Where Life Begins
DESCRIPTION:National Center for Jewish Film’s Annual Film Festival\nMay 7-23\, 2023\nCoolidge Corner Theatre\, Brookline\, MA\nAll screening in person – on the big screen! \nWhere Live Begins\nTu choisiras la vie\nMASSACHUSETTS PREMIERE\n \n\n\nIn this beautifully rendered and calibrated romantic drama\, Esther Zelnik (Lou de Laâge\, The Innocents) arrives with her ultra-orthodox French family from Aix-les-Bains for their annual stay at an idyllic seaside Calabrian farm at the toe of Italy’s boot\, to help with the harvest of the etrogim (kosher lemons) used for the Jewish holiday of Sukkot. But while everyone carries on with their routines\, Esther is in inner turmoil\, questioning her faith\, chafing at the bonds of her religious upbringing\, and resentful of her imminent arranged marriage. When she feels a growing attraction for the farm’s owner\, Elio De Angelis (played by Italian heartthrob Riccardo Scamarcio)\, an artist recently returned from Rome after his father’s death\, she dares to imagine a different\, potentially happier path for herself. In subtle but profound ways\, the two form a bond that may alter their futures. The directorial debut of veteran French actor Stéphane Freiss (Call My Agent!). \nDirector: Stéphane Freiss | France/Italy | 2022 | 100m | Italian and French with English subtitles \nTickets
URL:https://www.centermakor.org/event/where-life-begins/
LOCATION:Coolidge Corner Theatre\, 290 Harvard St.\, Brookline\, MA\, 02446\, United States
CATEGORIES:Community Events
ATTACH;FMTTYPE=image/jpeg:https://www.centermakor.org/wp-content/uploads/2023/04/Where-Live-Begins.jpg
END:VEVENT
END:VCALENDAR