BEGIN:VCALENDAR
VERSION:2.0
PRODID:-//Center Makor - ECPv6.15.20//NONSGML v1.0//EN
CALSCALE:GREGORIAN
METHOD:PUBLISH
X-ORIGINAL-URL:https://www.centermakor.org
X-WR-CALDESC:Events for Center Makor
REFRESH-INTERVAL;VALUE=DURATION:PT1H
X-Robots-Tag:noindex
X-PUBLISHED-TTL:PT1H
BEGIN:VTIMEZONE
TZID:America/New_York
BEGIN:DAYLIGHT
TZOFFSETFROM:-0500
TZOFFSETTO:-0400
TZNAME:EDT
DTSTART:20220313T070000
END:DAYLIGHT
BEGIN:STANDARD
TZOFFSETFROM:-0400
TZOFFSETTO:-0500
TZNAME:EST
DTSTART:20221106T060000
END:STANDARD
BEGIN:DAYLIGHT
TZOFFSETFROM:-0500
TZOFFSETTO:-0400
TZNAME:EDT
DTSTART:20230312T070000
END:DAYLIGHT
BEGIN:STANDARD
TZOFFSETFROM:-0400
TZOFFSETTO:-0500
TZNAME:EST
DTSTART:20231105T060000
END:STANDARD
BEGIN:DAYLIGHT
TZOFFSETFROM:-0500
TZOFFSETTO:-0400
TZNAME:EDT
DTSTART:20240310T070000
END:DAYLIGHT
BEGIN:STANDARD
TZOFFSETFROM:-0400
TZOFFSETTO:-0500
TZNAME:EST
DTSTART:20241103T060000
END:STANDARD
END:VTIMEZONE
BEGIN:VEVENT
DTSTART;TZID=America/New_York:20230917T150000
DTEND;TZID=America/New_York:20230917T170000
DTSTAMP:20260425T155917
CREATED:20230910T201013Z
LAST-MODIFIED:20230910T201326Z
UID:17754-1694962800-1694970000@www.centermakor.org
SUMMARY:Solomiya Ivakhiv. Celebrating the Past\, Embracing the Future
DESCRIPTION:Solomiya Ivakhiv\, violin\nSunday\, September 17 @ 3 PM \nMusic at the Institute (MATI) Concert Series\n35th Anniversary opening “Celebrating the Past\, Embracing the Future”\nwith Mykola Suk\, piano; Jesse Mills\, violin; Ettore Causa\, viola;\nOlexa Mycyk\, cello; Giana DiNatale\, bass \nProgram\nIvan Karabits – Concert Divertimento for String Quintet and Piano\nAntonín Dvorak – Piano Quintet No. 2 in A Major\, Op.81\, B.155 \n\n\nTickets & Info\nTickets may be purchased in advance by calling the Ukrainian Institute of America\nat (212) 288-8660 \nTickets
URL:https://www.centermakor.org/event/celebrating-past-embracing-future/
LOCATION:MA
CATEGORIES:Community Events
ATTACH;FMTTYPE=image/jpeg:https://www.centermakor.org/wp-content/uploads/2023/09/Solomiya-Ivakhiv.jpg
END:VEVENT
END:VCALENDAR