BEGIN:VCALENDAR
VERSION:2.0
PRODID:-//Center Makor - ECPv6.15.20//NONSGML v1.0//EN
CALSCALE:GREGORIAN
METHOD:PUBLISH
X-WR-CALNAME:Center Makor
X-ORIGINAL-URL:https://www.centermakor.org
X-WR-CALDESC:Events for Center Makor
REFRESH-INTERVAL;VALUE=DURATION:PT1H
X-Robots-Tag:noindex
X-PUBLISHED-TTL:PT1H
BEGIN:VTIMEZONE
TZID:America/New_York
BEGIN:DAYLIGHT
TZOFFSETFROM:-0500
TZOFFSETTO:-0400
TZNAME:EDT
DTSTART:20220313T070000
END:DAYLIGHT
BEGIN:STANDARD
TZOFFSETFROM:-0400
TZOFFSETTO:-0500
TZNAME:EST
DTSTART:20221106T060000
END:STANDARD
BEGIN:DAYLIGHT
TZOFFSETFROM:-0500
TZOFFSETTO:-0400
TZNAME:EDT
DTSTART:20230312T070000
END:DAYLIGHT
BEGIN:STANDARD
TZOFFSETFROM:-0400
TZOFFSETTO:-0500
TZNAME:EST
DTSTART:20231105T060000
END:STANDARD
BEGIN:DAYLIGHT
TZOFFSETFROM:-0500
TZOFFSETTO:-0400
TZNAME:EDT
DTSTART:20240310T070000
END:DAYLIGHT
BEGIN:STANDARD
TZOFFSETFROM:-0400
TZOFFSETTO:-0500
TZNAME:EST
DTSTART:20241103T060000
END:STANDARD
END:VTIMEZONE
BEGIN:VEVENT
DTSTART;TZID=America/New_York:20231118T170000
DTEND;TZID=America/New_York:20231118T180000
DTSTAMP:20260421T140330
CREATED:20231031T154706Z
LAST-MODIFIED:20231031T154949Z
UID:18290-1700326800-1700330400@www.centermakor.org
SUMMARY:Вера Павлова. “60 на 60”. Концерт для поэта и экрана.
DESCRIPTION:Вера Павлова. “60 на 60”. Концерт для поэта и экрана.\nПоэтесса Вера Павлова в концерте: “60 на 60”\, зрелище для поэта и экрана. \nПоэтесса Вера Павлова о своём концерте: “60 на 60”\, концерт для поэта и экрана -это 99 моих стихотворений из самых разных книг\, которые я читаю дуэтом с 60-ю видеоклипами длительностью ровно 60 секунд каждый. \nБилеты в Петрополе по телефону 617-232-8820. Их так же можно заказать прислав нам платеж на Venmo: @Ilya-Klebanov или на Paypal: petropolbooks@gmail.com с подписью “Павлова + ваш имэйл”. Цена: $40. \nСпектакли по стихам Павловой поставлены в Москве\, Санкт-Петербурге\, Перми\, Вологде\, Скопине\, Торонто. Фильмы о Вере сняты в России\, США\, Германии и Франции. Участвовала в международных поэтических фестивалях в шестнадцати странах. Записала как чтец семь дисков со стихами поэтов Серебряного века. В течение четырёх лет была колумнистом журнала “Story”. Лауреат премии им. Аполлона Григорьева\, премии “Антология” журнала “Новый мир”\, двух премий “Книга года” и специальной премии “Московский счёт”.\nО концерте: Минуты\, которые удлиняют время в ширину и расширяют в высоту. Снятые мною на айфон. Из коллекции\, которую я собирала более пяти лет и которая насчитывает полторы сотни таких минут. Она особенно пополнилась во время карантина. Тогда же я начала заворачивать в эти видеоклипы стихи и выкладывать в ФБ и Инстаграм – чтобы подбодрить тех\, кого не могла тогда обнять. Этот ежедневный марафон продлился 120 дней. Потом возможность обняться вернулась и я сделала концертную программу – клипы на экране\, я перед экраном\, мы состязаемся\, кто кого. Показала её в Томске\, Новосибирске\, Кемерово\, Москве… Последний раз – В Питере\, в начале февраля 2022 года. В БДТ. На малой сцене. А за стеной\, на большой сцене в то же самое время выступал в “Снежном шоу” мой Коля. Коля Терентьев. Один из основателей легендарных “Лицедеев”\, более полувека сорадник Славы Полунина. Восемь лет – мой сорадник. Коля невероятен. В концерте “60 на 60” он играет главную роль. Роль второго плана – я. А больше там никого и нет.\nЭто второе отделение концерта. В первом – премьера книги “Линия соприкосновения” в трёх главах: страшные стихи (о войне)\, светлые стихи (бумажные фонарики)\, лёгкие стихи (бумажные самолётики). К сожалению\, Вера не сможет привезти с собой книги на продажу. Но её очень легко заказать по ссылке https://bit.ly/3rqwtG5. Доставят за два-три дня! \nЗаказать книгу \nДля тех\, кто не знаком с творчеством Веры Павловой: https://modernpoetry.ru/main/vera-pavlova-stihi-iz-zhurnalnyh-publikaciy-raznyh-let
URL:https://www.centermakor.org/event/vera-pavlova-60-60/
LOCATION:28 Wallingford Rd\, Brighton\, MA 02135\, 28 Wallingford Rd\, Brighton\, MA\, 02135\, United States
CATEGORIES:Community Events
ATTACH;FMTTYPE=image/jpeg:https://www.centermakor.org/wp-content/uploads/2023/10/Вера-Павлова.jpg
END:VEVENT
BEGIN:VEVENT
DTSTART;TZID=America/New_York:20231118T190000
DTEND;TZID=America/New_York:20231118T210000
DTSTAMP:20260421T140330
CREATED:20230209T215727Z
LAST-MODIFIED:20231018T150157Z
UID:14937-1700334000-1700341200@www.centermakor.org
SUMMARY:В ожидании его…
DESCRIPTION:Театр «Круг»\nприглашает Вас на спектакли \n«В ожидании его…»\nЛирическая фантазия в одном действии\nпо пьесе Михаила Хейфеца \nВесь сбор от спектакля будет передан в Israel Emergency Fund \nСпектакли состоятся 6 и 7 мая в 19:00 в помещении Театра на крыше\, 50 Kearny Rd.\, Needham\nЦена билета – $30\nСправки по телефону – 617-875-4521\nСпектакль только для взрослых\, 16+ \nЗаказ билетов – teatrkrug.com/————–1.html \nБилеты
URL:https://www.centermakor.org/event/waiting-for-him-3/
LOCATION:Театр на крыше\, 50 Kearney Road\, Needham\, 02494\, United States
CATEGORIES:Community Events
ATTACH;FMTTYPE=image/jpeg:https://www.centermakor.org/wp-content/uploads/2023/02/Afisha-V-ozhidanii-november-2023_1.jpg
ORGANIZER;CN="%D0%A2%D0%B5%D0%B0%D1%82%D1%80 '%D0%9A%D1%80%D1%83%D0%B3'":MAILTO:info@teatrkrug.com
END:VEVENT
END:VCALENDAR