BEGIN:VCALENDAR
VERSION:2.0
PRODID:-//Center Makor - ECPv6.15.20//NONSGML v1.0//EN
CALSCALE:GREGORIAN
METHOD:PUBLISH
X-WR-CALNAME:Center Makor
X-ORIGINAL-URL:https://www.centermakor.org
X-WR-CALDESC:Events for Center Makor
REFRESH-INTERVAL;VALUE=DURATION:PT1H
X-Robots-Tag:noindex
X-PUBLISHED-TTL:PT1H
BEGIN:VTIMEZONE
TZID:America/New_York
BEGIN:DAYLIGHT
TZOFFSETFROM:-0500
TZOFFSETTO:-0400
TZNAME:EDT
DTSTART:20220313T070000
END:DAYLIGHT
BEGIN:STANDARD
TZOFFSETFROM:-0400
TZOFFSETTO:-0500
TZNAME:EST
DTSTART:20221106T060000
END:STANDARD
BEGIN:DAYLIGHT
TZOFFSETFROM:-0500
TZOFFSETTO:-0400
TZNAME:EDT
DTSTART:20230312T070000
END:DAYLIGHT
BEGIN:STANDARD
TZOFFSETFROM:-0400
TZOFFSETTO:-0500
TZNAME:EST
DTSTART:20231105T060000
END:STANDARD
BEGIN:DAYLIGHT
TZOFFSETFROM:-0500
TZOFFSETTO:-0400
TZNAME:EDT
DTSTART:20240310T070000
END:DAYLIGHT
BEGIN:STANDARD
TZOFFSETFROM:-0400
TZOFFSETTO:-0500
TZNAME:EST
DTSTART:20241103T060000
END:STANDARD
END:VTIMEZONE
BEGIN:VEVENT
DTSTART;TZID=America/New_York:20231119T190000
DTEND;TZID=America/New_York:20231119T210000
DTSTAMP:20260421T165308
CREATED:20230927T192557Z
LAST-MODIFIED:20231018T150154Z
UID:17923-1700420400-1700427600@www.centermakor.org
SUMMARY:В ожидании его…
DESCRIPTION:Театр «Круг»\nприглашает Вас на спектакли \n«В ожидании его…»\nЛирическая фантазия в одном действии\nпо пьесе Михаила Хейфеца \nВесь сбор от спектакля будет передан в Israel Emergency Fund \nСпектакли состоятся 6 и 7 мая в 19:00 в помещении Театра на крыше\, 50 Kearny Rd.\, Needham\nЦена билета – $30\nСправки по телефону – 617-875-4521\nСпектакль только для взрослых\, 16+ \nЗаказ билетов – teatrkrug.com/————–1.html \nБилеты
URL:https://www.centermakor.org/event/waiting-for-him-4-2/
LOCATION:Театр на крыше\, 50 Kearney Road\, Needham\, 02494\, United States
CATEGORIES:Community Events
ATTACH;FMTTYPE=image/jpeg:https://www.centermakor.org/wp-content/uploads/2023/02/Afisha-V-ozhidanii-november-2023-scaled-1.jpg
ORGANIZER;CN="%D0%A2%D0%B5%D0%B0%D1%82%D1%80 '%D0%9A%D1%80%D1%83%D0%B3'":MAILTO:info@teatrkrug.com
END:VEVENT
END:VCALENDAR