BEGIN:VCALENDAR
VERSION:2.0
PRODID:-//Center Makor - ECPv6.15.20//NONSGML v1.0//EN
CALSCALE:GREGORIAN
METHOD:PUBLISH
X-WR-CALNAME:Center Makor
X-ORIGINAL-URL:https://www.centermakor.org
X-WR-CALDESC:Events for Center Makor
REFRESH-INTERVAL;VALUE=DURATION:PT1H
X-Robots-Tag:noindex
X-PUBLISHED-TTL:PT1H
BEGIN:VTIMEZONE
TZID:America/New_York
BEGIN:DAYLIGHT
TZOFFSETFROM:-0500
TZOFFSETTO:-0400
TZNAME:EDT
DTSTART:20230312T070000
END:DAYLIGHT
BEGIN:STANDARD
TZOFFSETFROM:-0400
TZOFFSETTO:-0500
TZNAME:EST
DTSTART:20231105T060000
END:STANDARD
BEGIN:DAYLIGHT
TZOFFSETFROM:-0500
TZOFFSETTO:-0400
TZNAME:EDT
DTSTART:20240310T070000
END:DAYLIGHT
BEGIN:STANDARD
TZOFFSETFROM:-0400
TZOFFSETTO:-0500
TZNAME:EST
DTSTART:20241103T060000
END:STANDARD
BEGIN:DAYLIGHT
TZOFFSETFROM:-0500
TZOFFSETTO:-0400
TZNAME:EDT
DTSTART:20250309T070000
END:DAYLIGHT
BEGIN:STANDARD
TZOFFSETFROM:-0400
TZOFFSETTO:-0500
TZNAME:EST
DTSTART:20251102T060000
END:STANDARD
END:VTIMEZONE
BEGIN:VTIMEZONE
TZID:America/Halifax
BEGIN:DAYLIGHT
TZOFFSETFROM:-0400
TZOFFSETTO:-0300
TZNAME:ADT
DTSTART:20230312T060000
END:DAYLIGHT
BEGIN:STANDARD
TZOFFSETFROM:-0300
TZOFFSETTO:-0400
TZNAME:AST
DTSTART:20231105T050000
END:STANDARD
BEGIN:DAYLIGHT
TZOFFSETFROM:-0400
TZOFFSETTO:-0300
TZNAME:ADT
DTSTART:20240310T060000
END:DAYLIGHT
BEGIN:STANDARD
TZOFFSETFROM:-0300
TZOFFSETTO:-0400
TZNAME:AST
DTSTART:20241103T050000
END:STANDARD
BEGIN:DAYLIGHT
TZOFFSETFROM:-0400
TZOFFSETTO:-0300
TZNAME:ADT
DTSTART:20250309T060000
END:DAYLIGHT
BEGIN:STANDARD
TZOFFSETFROM:-0300
TZOFFSETTO:-0400
TZNAME:AST
DTSTART:20251102T050000
END:STANDARD
END:VTIMEZONE
BEGIN:VEVENT
DTSTART;TZID=America/New_York:20240106T090000
DTEND;TZID=America/New_York:20240106T110000
DTSTAMP:20260421T121615
CREATED:20231226T003328Z
LAST-MODIFIED:20231226T003447Z
UID:18911-1704531600-1704538800@www.centermakor.org
SUMMARY:Taste of Torah
DESCRIPTION:Taste of Torah\nJoin Rabbi David Starr\, Ph.D. in the CMT Lounge\, before  services\, for Torah discussion and a light breakfast. \n9.00 A.M. Taste of Torah and light breakfast – In Person Only \n10.00 A.M. Shabbat Morning Services – Hybrid \nJanuary 6\, February 10\, March 9\, April 6\, May 4\, June 1 \nRSVP –  mishkantefila.org/form/tasteoftorah2024 \nRSVP
URL:https://www.centermakor.org/event/taste-of-torah-1/
LOCATION:Congregation Mishkan Tefila\, 384 Harvard St\,\, Brookline\, MA\, 02446\, United States
CATEGORIES:Campus Events
ATTACH;FMTTYPE=image/jpeg:https://www.centermakor.org/wp-content/uploads/2023/12/Taste-of-Torah2024.jpg
END:VEVENT
BEGIN:VEVENT
DTSTART;TZID=America/Halifax:20240106T193000
DTEND;TZID=America/Halifax:20240106T213000
DTSTAMP:20260421T121615
CREATED:20231126T021242Z
LAST-MODIFIED:20241219T053211Z
UID:18619-1704569400-1704576600@www.centermakor.org
SUMMARY:Говорите! Я вас не слушаю…
DESCRIPTION:Театр на крыше\nприглашает вас на спектакль \n«Говорите! Я вас не слушаю…»\nВ тихом уездном городе разворачивается действие трёх очаровательных водевилей А.П.Чехова – «Предложение»\, «Медведь» и «Юбилей»\, в канву которых органично вплетены старинные русские романсы. \nМы уже показывали этот спектакль\, но Ковид нарушил наши планы. За время карантина некоторые актёры – школьники старших классов – выросли и уехали учиться. И сейчас мы возрождаем спектакль в новом составе. \nРЕЖИССЕР – Людмила Старобинец \nAttention! This performance contains a sequence of flashing lights which may affect customers who are susceptible to photosensitive epilepsy or other photosensitivity. \nВнимание! Этот спектакль содержит яркие вспышки света\, которые могут представлять опасность для людей\, страдающих эпилепсией\, припадочными расстройствами или повышенной светочувствительностью. \nО спектакле     Заказ билетов \n  \n\nЦена билета $50\, пенсионерам и студентам $35\nВ цену билета включен буфет. \nВнимание! Оплата производится наличными при входе!
URL:https://www.centermakor.org/event/chekhov-6/
LOCATION:Театр на крыше\, 50 Kearney Road\, Needham\, 02494\, United States
CATEGORIES:Community Events
ATTACH;FMTTYPE=image/jpeg:https://www.centermakor.org/wp-content/uploads/2018/10/chehov_flaer-s-tekstom-scaled.jpg
END:VEVENT
END:VCALENDAR