BEGIN:VCALENDAR
VERSION:2.0
PRODID:-//Center Makor - ECPv6.15.20//NONSGML v1.0//EN
CALSCALE:GREGORIAN
METHOD:PUBLISH
X-ORIGINAL-URL:https://www.centermakor.org
X-WR-CALDESC:Events for Center Makor
REFRESH-INTERVAL;VALUE=DURATION:PT1H
X-Robots-Tag:noindex
X-PUBLISHED-TTL:PT1H
BEGIN:VTIMEZONE
TZID:America/New_York
BEGIN:DAYLIGHT
TZOFFSETFROM:-0500
TZOFFSETTO:-0400
TZNAME:EDT
DTSTART:20230312T070000
END:DAYLIGHT
BEGIN:STANDARD
TZOFFSETFROM:-0400
TZOFFSETTO:-0500
TZNAME:EST
DTSTART:20231105T060000
END:STANDARD
BEGIN:DAYLIGHT
TZOFFSETFROM:-0500
TZOFFSETTO:-0400
TZNAME:EDT
DTSTART:20240310T070000
END:DAYLIGHT
BEGIN:STANDARD
TZOFFSETFROM:-0400
TZOFFSETTO:-0500
TZNAME:EST
DTSTART:20241103T060000
END:STANDARD
BEGIN:DAYLIGHT
TZOFFSETFROM:-0500
TZOFFSETTO:-0400
TZNAME:EDT
DTSTART:20250309T070000
END:DAYLIGHT
BEGIN:STANDARD
TZOFFSETFROM:-0400
TZOFFSETTO:-0500
TZNAME:EST
DTSTART:20251102T060000
END:STANDARD
END:VTIMEZONE
BEGIN:VEVENT
DTSTART;TZID=America/New_York:20240108T193000
DTEND;TZID=America/New_York:20240108T220000
DTSTAMP:20260421T165329
CREATED:20231205T182619Z
LAST-MODIFIED:20231205T182710Z
UID:18706-1704742200-1704751200@www.centermakor.org
SUMMARY:America and Zion: The Jews of the United States and Israel
DESCRIPTION:America and Zion: The Jews of the United States and Israel\nRabbi David Starr\, Ph.D. \nThis course covers the history of both communities and the ways they have looked at each other and influenced one another. \nCourse Reading:\nJonathan Sarna\, American Judaism\nMichael Stanislawski\, Zionism: A Very Short Introduction \nThis class will meet throughout the next few months on the following Mondays from 7:30p.m. to 9:00p.m.\nThe last class of the session will be in person at CMT.\nJanuary 8\, 22\, 29\nFebruary 5\, 12\, 26\nMarch 4\, 11\, 18\, 25 \nCost:\n$136 – Member\n$180 – Non Member\n$25 – Student \nRegister
URL:https://www.centermakor.org/event/america-and-zion/
CATEGORIES:Campus Events
ATTACH;FMTTYPE=image/jpeg:https://www.centermakor.org/wp-content/uploads/2023/12/America-and-Zion-1.jpg
END:VEVENT
END:VCALENDAR