BEGIN:VCALENDAR
VERSION:2.0
PRODID:-//Center Makor - ECPv6.15.20//NONSGML v1.0//EN
CALSCALE:GREGORIAN
METHOD:PUBLISH
X-ORIGINAL-URL:https://www.centermakor.org
X-WR-CALDESC:Events for Center Makor
REFRESH-INTERVAL;VALUE=DURATION:PT1H
X-Robots-Tag:noindex
X-PUBLISHED-TTL:PT1H
BEGIN:VTIMEZONE
TZID:America/New_York
BEGIN:DAYLIGHT
TZOFFSETFROM:-0500
TZOFFSETTO:-0400
TZNAME:EDT
DTSTART:20230312T070000
END:DAYLIGHT
BEGIN:STANDARD
TZOFFSETFROM:-0400
TZOFFSETTO:-0500
TZNAME:EST
DTSTART:20231105T060000
END:STANDARD
BEGIN:DAYLIGHT
TZOFFSETFROM:-0500
TZOFFSETTO:-0400
TZNAME:EDT
DTSTART:20240310T070000
END:DAYLIGHT
BEGIN:STANDARD
TZOFFSETFROM:-0400
TZOFFSETTO:-0500
TZNAME:EST
DTSTART:20241103T060000
END:STANDARD
BEGIN:DAYLIGHT
TZOFFSETFROM:-0500
TZOFFSETTO:-0400
TZNAME:EDT
DTSTART:20250309T070000
END:DAYLIGHT
BEGIN:STANDARD
TZOFFSETFROM:-0400
TZOFFSETTO:-0500
TZNAME:EST
DTSTART:20251102T060000
END:STANDARD
END:VTIMEZONE
BEGIN:VEVENT
DTSTART;VALUE=DATE:20240117
DTEND;VALUE=DATE:20240218
DTSTAMP:20260421T135210
CREATED:20240206T170640Z
LAST-MODIFIED:20240206T171019Z
UID:19450-1705449600-1708214399@www.centermakor.org
SUMMARY:Don’t Close Your Eyes: Ukrainian Artists Respond to the War
DESCRIPTION:Don’t Close Your Eyes: Ukrainian Artists Respond to the War \nJanuary 17 – Feb 17\, 2024\nOpening reception Wednesday\, January 17\, 5-7pm\nCurator Tour Saturday\, February 10\, 12-1pm\nCurators: Hanna Melnyczuk and Halyna Andrusenko \nJointly curated by Hanna Melnyczuk\, a Ukrainian-American artist\, and Halyna Andrusenko\, an artist from Kyiv\, The Umbrella Arts Center’s iteration of the traveling exhibition\, Don’t Close Your Eyes: Ukrainian Artists Respond to the War\, features the work of 27 artists from various regions of Ukraine\, responding to the invasion of Ukraine\, which began February 24\, 2022. Expressions of grief\, loss\, survival\, and hope range from surrealism to expressionism\, and include drawings\, paintings\, mixed media\, papercuts\, lithographs\, and a six-minute video\, Protected\, in which Halyna Andrusenko echoes the wrapping of monuments in Kyiv by wrapping her parents in cloth. \nDon’t Close Your Eyes features a broad spectrum of powerful work in response to the war in Ukraine. This work is a testament to the power of the human spirit\, and the abilities of artists to synthesize powerful emotions and responses into works that transcend boundaries of time\, geography\, and space. The Umbrella Arts Center’s exhibition will be the final showing of Don’t Close Your Eyes\, which has traveled around Massachusetts including to UMass Lowell and The New Arts Center in Newton and beyond to Madison Arts & Culture Alliance in New Jersey and The Ukrainian Institute of Chicago. \nProceeds from this exhibit will provide support to the exhibiting artists and Ukraine Forward\, an organization providing life-saving supplies to the people of Ukraine. To view a PDF catalog of the exhibition\, please click here. To inquire about purchasing artwork\, please contact Stephanie Marlin-Curiel\, Visual Arts Manager at stephanie@theumbrellaarts.org. \nThe exhibition is free and open to the public. Indoor gallery hours are 9AM-9PM daily. The Umbrella is ADA accessible\, offers free lot and street parking\, and is conveniently located off Route 2 and two blocks from the Fitchburg Line. \nA Curator Tour with Hanna Melnyczuk will be held Saturday\, February 10\, 12-1PM. RSVP to Stephanie Marlin-Curiel at stephanie@theumbrellaarts.org \nCurators’ Statements\nFebruary 24th\, Putin’s invasion of Ukraine\, changed the trajectory of many lives\, including my own. My work has dealt with the theme of my Ukrainian heritage throughout my career. After visiting Ukraine and living there for four months\, I felt very close to the people and the world my parents left in 1945. Some of my work reflects the influence of this experience. Most recently\, I changed course\, from working on large portraits to picture books for children. Writing and illustrating my own books was a new phase in my development as an artist. Then on February 24th came news of the war in Ukraine. In absolute disbelief\, I\, like most of the world\, asked: “How can this be happening in the 21st century?” As the war unfolded\, the images in my mind changed from being colorful representations of a child’s world to darker images depicting tanks\, missiles\, refugees\, and a mass grave in Bucha. These images continued to appear and to trouble me. I began a series of drawings based on my feelings about the war. Soon I also began to look for like- minded artists and found many in Ukraine responding to the war with powerful imagery. These images were being shown in Ukraine and some parts of Europe. I had a vision of bringing them to the U.S.\, so I struck up a partnership with Halyna Andrusenko. With her help\, we sought artists whose works resonated for us in terms of the images they were making in response to the horrific violence and destruction that the war was bringing to a peaceful country. Many of the artists we chose were producing small drawings\, while others were working on larger pieces. We decided\, for practical reasons\, to focus on bringing some of these smaller works on paper to the US. We are very eager to share these tragic\, powerful and documentary images that address the war in Ukraine. Of course\, they can be addressing other wars and acts of violence\, as does Picasso’s famous Guernica. Some of the works are universal\, others more specific. Each artist brings his or her own vision of this tragedy. —Hanna Melnyczuk \nMy collaboration with Hanna on this project began with her post on my Instagram\, complimenting my work\, introducing herself\, and asking if I’d be interested in helping organize an exhibit of Ukrainian artists’ work. I felt that\, in addition to participating in the show\, I could now do something more for Ukraine — expand our reach by including recognized Ukrainian artists also focused on Russia’s war against Ukraine. Artists are stepping up on the cultural front\, using visual language to convey our lived experience and to show the world Ukraine’s frightening current realities. The foremost goal of this project is to engage the world’s attention and appeal for help and support for Ukraine. I’m grateful to Hanna\, the organizing team\, and all participating artists for caring and actively working to realize Don’t Close your Eyes. — Halyna Andrusenko \nArtists\nHalyna Andrusenko\nKsenia Datsiuk\nNastya Didenko\nMitya Fenechkin\nEvgen Klimenko\nNatalia Kurnosova\nInga Levi\nAve Libertatemaveamor\nAnton Logov\nHanna Melnyczuk\nDanylo Movchan\nOleksii Pavlusenko\nOleksii Revika\nVladyslav Riaboshtan\nOlesia Rybchenko\nValeriia Rybchenko\nAndrij Roik\nZakhar Shevchuk\nOlena Shtepura\nNickita Tsoy\nIlya Yarovoy\nOlga Zaremba \nLEARN MORE
URL:https://www.centermakor.org/event/dont-close-your-eyes/
CATEGORIES:Community Events
ATTACH;FMTTYPE=image/jpeg:https://www.centermakor.org/wp-content/uploads/2024/02/Dont-Close-Your-Eyes-v3_HalfPage_vLpWebRGB-1.jpg
END:VEVENT
BEGIN:VEVENT
DTSTART;VALUE=DATE:20240131
DTEND;VALUE=DATE:20240226
DTSTAMP:20260421T135210
CREATED:20240206T164110Z
LAST-MODIFIED:20240225T053256Z
UID:19433-1706659200-1708905599@www.centermakor.org
SUMMARY:Affirmation of Life
DESCRIPTION:Affirmation of Life: Art from Today’s Ukraine \nJanuary 31-February 25\nReception: 3-5pm\, Saturday\, February 3\nFundraiser: 6-8pm\, Wednesday\, February 21st \nThis February\, enjoy Affirmation of Life: Art from Today’s Ukraine\, presented at the Loading Dock Gallery in cooperation with the Ukrainian Cultural Initiative.\nThis colorful show celebrates life as well as Ukrainian heritage\, with work ranging from traditional designs to lush abstracts. Working in war-ravaged Ukraine\, the artists seek not only to make a living\, but to teach and support adults and children\, providing much needed healing through the universal language of art. “Art is like oxygen\,” says artist Lyubov Minenko. “It makes everyone feel comfortable. Comfortable in the individual existence and comfortable in communication with others. Art unites people.” \nLearn More
URL:https://www.centermakor.org/event/affirmation-of-life-2/
CATEGORIES:Community Events
ATTACH;FMTTYPE=image/jpeg:https://www.centermakor.org/wp-content/uploads/2024/02/2024_01_31_Affermation-of-life_Art_Lowell_HalfPage2.jpg
END:VEVENT
BEGIN:VEVENT
DTSTART;TZID=America/New_York:20240217T190000
DTEND;TZID=America/New_York:20240217T210000
DTSTAMP:20260421T135210
CREATED:20240129T034654Z
LAST-MODIFIED:20240205T164314Z
UID:19320-1708196400-1708203600@www.centermakor.org
SUMMARY:Вечер с изданием “Новый журнал” – Владимир Гандельсман и многие другие!
DESCRIPTION:Книжный магазин Петрополь\nприглашает всех\nна литературный вечер с главным редактором и авторами легендарного издания “Новый Журнал” \nЛегендарный “Новый Журнал” приезжает в Бостон на литературный вечер стихов\, прозы и культурного общения с читателями. Плюс книжная ярмарка магазина Петрополь и возможность купить новейшие номера Нового Журнала. \nБилеты без комиссии можно заказать по телефону 617-232-8820 или послав платеж на Venmo: @Ilya-Klebanov или Paypal: petropolbooks@gmail.com с комментарием “Новый Журнал”. Цена: $30. \nВ первом отделении главный редактор Марина Адамович и поэт Владимир Гандельсман расскажут о многолетней работе эпохального эмигрантского издания которое существует в Нью Йорке с 1942-го года. Будет показан фрагмент документального фильма The New Review Inc. (Реж. Александра Свиридова). \nВо втором отеделение авторы журнала будут читать свои стихи и прозу … \nПоэты: \n\nВладимир Гандельсман\nКатя Капович\nАндрей Грицман\nМарина Эскина\n\nПрозаики: \n\nВладимир Грожонко\nВладимир Торчилин\nИрина Муравьева\n\nО журнале:\n«Новый Журнал» был основан в 1942 году известными писателями Марком Алдановым и Михаилом Цетлиным (поэт Амари) при участии Ивана Бунина. Вокруг журнала была сосредоточена вся культурная жизнь русской эмиграции. Авторами журнала были русские Нобелевские лауреаты И.Бунин\, А.Солженицын\, И.Бродский\, а также поэты\, прозаики\, философы\, художники и политические деятели: В.Набоков\, Г.Адамович\, Г.Иванов\, Б.Зайцев\, Б.Бахметев\, А.Керенский\, М.Добужинский (автор обложки НЖ)\, А. Толстая\, Г. Газданов\, В. Варшавский\, Н. Берберова\, Ю. Терапиано\, Г. Федотов\, Ю. Иваск\, И. Чиннов\, Г. Флоровский\, А. Шмеман\, Д. Кленовский\, Н. Нароков\, В. Завалишин\, С. Максимов\, Н. Ульянов\, И. Елагин\, О. Анстей и др. При помощи «Нового Журнала» в свое время на базе Columbia University\, New York\, был создан знаменитый Бахметевский архив. При помощи «Нового Журнала» были собраны архивные документы\, легшие в основу труда известного русского писателя А.Солженицына «Красное колесо»\, посвященного русской трагедии 1917 года. На страницах НЖ впервые по-русски были напечатаны «Темные аллеи» И. Бунина\, главы из «Доктора Живаго» Б. Пастернака\, «Колымские рассказы» В.Шаламова и др. НЖ восемь десятилетий достойно представляет Зарубежную Россию\, отстаивая высочайшие завоевания русской культуры. \nСегодня НЖ распространяется по всем континентам в более чем тридцати странах\, на него подписаны все крупнейшие университеты и библиотеки. В «Новом Журнале» печатаются эмигранты всех «волн» русской эмиграции из разных стран мира и лучшие российские авторы. \nНа страницах журнала можно прочитать произведения современной литературы многонациональной русскоязычной диаспоры на всех континентах; статьи и обзоры по истории и истории культуры русской эмиграции в ХХ-ХХI веках; по истории Русской Православной Церкви за рубежом; материалы по культурологии; литературоведению; критике.
URL:https://www.centermakor.org/event/new-magazine/
LOCATION:28 Wallingford Rd\, Brighton\, MA 02135\, 28 Wallingford Rd\, Brighton\, MA\, 02135\, United States
CATEGORIES:Makor Events
ATTACH;FMTTYPE=image/jpeg:https://www.centermakor.org/wp-content/uploads/2024/01/новый-журнал.jpg
END:VEVENT
BEGIN:VEVENT
DTSTART;TZID=America/New_York:20240217T190000
DTEND;TZID=America/New_York:20240217T210000
DTSTAMP:20260421T135210
CREATED:20240208T025911Z
LAST-MODIFIED:20240208T030145Z
UID:19483-1708196400-1708203600@www.centermakor.org
SUMMARY:Havdallah with Nova Festival Survivors: Daniel and Neria Sharabi
DESCRIPTION:Havdallah with Nova Festival Survivors: Daniel and Neria Sharabi \nSaturday\, February 17\, 2024\, 7:00PM \nCMT and KI are hosting 2 brothers who are survivors of the Nova Festival – they will be speaking on Saturday\, February 17 at 7:00PM in the CMT Sanctuary. They have formed a non-profit to raise money to help Nova survivors and are trying to raise funds. They will speak and hold a q&a. \nThe event is free of charge; all are welcome\, but RSVP is required – mishkantefila.org/form/sharabi \nRSVP
URL:https://www.centermakor.org/event/havdallah-sharabi/
LOCATION:Congregation Mishkan Tefila\, 384 Harvard St\,\, Brookline\, MA\, 02446\, United States
CATEGORIES:Campus Events
ATTACH;FMTTYPE=image/jpeg:https://www.centermakor.org/wp-content/uploads/2024/02/Sharabi-Flyer-1.jpg
END:VEVENT
BEGIN:VEVENT
DTSTART;TZID=America/New_York:20240217T193000
DTEND;TZID=America/New_York:20240217T213000
DTSTAMP:20260421T135210
CREATED:20231227T015406Z
LAST-MODIFIED:20240217T201823Z
UID:18935-1708198200-1708205400@www.centermakor.org
SUMMARY:Голубцы по объявлению
DESCRIPTION:Сбор от ближайших показов спектаклей «Голубцы по объявлению» и «Потерпевший Гольдинер» пойдут в фонд нашей поездки на фестиваль. Помогите нам собрать нужную сумму! Приходите сами и приводите друзей! Ну и\, конечно же\, если вы просто захотите нам помочь деньгами\, мы с благодарностью примем любую помощь. \nПодробнее \n\n \nТеатр на крыше\nприглашает вас на спектакль \nГолубцы по объявлению\nАнтон Финк \nЛирическая комедия для субботнего вечера – легкая\, забавная\, с узнаваемыми ситуациями семейного быта. Но и с неожиданными экстравагантными поворотами! \nВ нашем камерном театре мало мест. Не откладывайте; билеты закончатся очень быстро. Заказ осуществляется через Eventbrite. Оплата осуществляется наличными при входе. Если вам не хватило билетов\, на Eventbrite можно записаться на лист ожидания. А если вы почему-либо не можете прийти на спектакль – не забудьте отменить ваш заказ. \nО спектакле \nЗаказать билеты!
URL:https://www.centermakor.org/event/golubcy-12/
LOCATION:Театр на крыше\, 50 Kearney Road\, Needham\, 02494\, United States
CATEGORIES:Community Events
ATTACH;FMTTYPE=image/jpeg:https://www.centermakor.org/wp-content/uploads/2020/02/голубцы-по-объявлению.jpg
END:VEVENT
END:VCALENDAR