BEGIN:VCALENDAR
VERSION:2.0
PRODID:-//Center Makor - ECPv6.15.20//NONSGML v1.0//EN
CALSCALE:GREGORIAN
METHOD:PUBLISH
X-WR-CALNAME:Center Makor
X-ORIGINAL-URL:https://www.centermakor.org
X-WR-CALDESC:Events for Center Makor
REFRESH-INTERVAL;VALUE=DURATION:PT1H
X-Robots-Tag:noindex
X-PUBLISHED-TTL:PT1H
BEGIN:VTIMEZONE
TZID:America/New_York
BEGIN:DAYLIGHT
TZOFFSETFROM:-0500
TZOFFSETTO:-0400
TZNAME:EDT
DTSTART:20230312T070000
END:DAYLIGHT
BEGIN:STANDARD
TZOFFSETFROM:-0400
TZOFFSETTO:-0500
TZNAME:EST
DTSTART:20231105T060000
END:STANDARD
BEGIN:DAYLIGHT
TZOFFSETFROM:-0500
TZOFFSETTO:-0400
TZNAME:EDT
DTSTART:20240310T070000
END:DAYLIGHT
BEGIN:STANDARD
TZOFFSETFROM:-0400
TZOFFSETTO:-0500
TZNAME:EST
DTSTART:20241103T060000
END:STANDARD
BEGIN:DAYLIGHT
TZOFFSETFROM:-0500
TZOFFSETTO:-0400
TZNAME:EDT
DTSTART:20250309T070000
END:DAYLIGHT
BEGIN:STANDARD
TZOFFSETFROM:-0400
TZOFFSETTO:-0500
TZNAME:EST
DTSTART:20251102T060000
END:STANDARD
END:VTIMEZONE
BEGIN:VEVENT
DTSTART;VALUE=DATE:20240131
DTEND;VALUE=DATE:20240226
DTSTAMP:20260421T121621
CREATED:20240206T164110Z
LAST-MODIFIED:20240225T053256Z
UID:19433-1706659200-1708905599@www.centermakor.org
SUMMARY:Affirmation of Life
DESCRIPTION:Affirmation of Life: Art from Today’s Ukraine \nJanuary 31-February 25\nReception: 3-5pm\, Saturday\, February 3\nFundraiser: 6-8pm\, Wednesday\, February 21st \nThis February\, enjoy Affirmation of Life: Art from Today’s Ukraine\, presented at the Loading Dock Gallery in cooperation with the Ukrainian Cultural Initiative.\nThis colorful show celebrates life as well as Ukrainian heritage\, with work ranging from traditional designs to lush abstracts. Working in war-ravaged Ukraine\, the artists seek not only to make a living\, but to teach and support adults and children\, providing much needed healing through the universal language of art. “Art is like oxygen\,” says artist Lyubov Minenko. “It makes everyone feel comfortable. Comfortable in the individual existence and comfortable in communication with others. Art unites people.” \nLearn More
URL:https://www.centermakor.org/event/affirmation-of-life-2/
CATEGORIES:Community Events
ATTACH;FMTTYPE=image/jpeg:https://www.centermakor.org/wp-content/uploads/2024/02/2024_01_31_Affermation-of-life_Art_Lowell_HalfPage2.jpg
END:VEVENT
END:VCALENDAR