BEGIN:VCALENDAR
VERSION:2.0
PRODID:-//Center Makor - ECPv6.15.20//NONSGML v1.0//EN
CALSCALE:GREGORIAN
METHOD:PUBLISH
X-ORIGINAL-URL:https://www.centermakor.org
X-WR-CALDESC:Events for Center Makor
REFRESH-INTERVAL;VALUE=DURATION:PT1H
X-Robots-Tag:noindex
X-PUBLISHED-TTL:PT1H
BEGIN:VTIMEZONE
TZID:America/New_York
BEGIN:DAYLIGHT
TZOFFSETFROM:-0500
TZOFFSETTO:-0400
TZNAME:EDT
DTSTART:20230312T070000
END:DAYLIGHT
BEGIN:STANDARD
TZOFFSETFROM:-0400
TZOFFSETTO:-0500
TZNAME:EST
DTSTART:20231105T060000
END:STANDARD
BEGIN:DAYLIGHT
TZOFFSETFROM:-0500
TZOFFSETTO:-0400
TZNAME:EDT
DTSTART:20240310T070000
END:DAYLIGHT
BEGIN:STANDARD
TZOFFSETFROM:-0400
TZOFFSETTO:-0500
TZNAME:EST
DTSTART:20241103T060000
END:STANDARD
BEGIN:DAYLIGHT
TZOFFSETFROM:-0500
TZOFFSETTO:-0400
TZNAME:EDT
DTSTART:20250309T070000
END:DAYLIGHT
BEGIN:STANDARD
TZOFFSETFROM:-0400
TZOFFSETTO:-0500
TZNAME:EST
DTSTART:20251102T060000
END:STANDARD
END:VTIMEZONE
BEGIN:VEVENT
DTSTART;TZID=America/New_York:20240317T170000
DTEND;TZID=America/New_York:20240317T190000
DTSTAMP:20260421T090436
CREATED:20240216T160621Z
LAST-MODIFIED:20240216T160621Z
UID:19589-1710694800-1710702000@www.centermakor.org
SUMMARY:День рождения Бабы Яги
DESCRIPTION:Театр на крыше\nприглашает вас на спектакль \nДень рождения Бабы Яги\nМузыкальная сказка для детей с 6 лет и взрослых \nБабе-Яге сегодня исполняется 100 лет. По старинному заклятию\, если в этот день за ее праздничным котлом будет 13 гостей\, то она «обнулится»\, то есть\, станет десятилетней девочкой. Это заветная мечта старухи Яги\, но не так-то просто найти в загнивающем Тмутараканском лесу столько нечистой силы. \nСумеет ли Баба-Яга добиться успеха? Увидим\, пройдя вместе с нею все колдовские шаги. \nПриходите на «День рождения Бабы-Яги»! \nБилеты \n\n\n\nЦена билета $30\nВнимание! Оплата производится наличными при входе! \nВ нашем маленьком зале билеты без мест. Если вашим детям обязательно сидеть вместе с вами или со своими друзьями\, пожалуйста\, придите заранее\, чтобы занять места. \nAttention! This performance contains a sequence of flashing lights which may affect customers who are susceptible to photosensitive epilepsy or other photo sensitivity. \nВнимание! Этот спектакль содержит яркие вспышки света\, которые могут представлять опасность для людей\, страдающих эпилепсией\, припадочными расстройствами или повышенной светочувствительностью. \nВ нашем камерном театре мало мест. В связи с карантинными мерами их стало ещё меньше. Билеты закончатся очень быстро. Если вы хотите посмотреть – не откладывайте заказ билетов. А если вы почему-либо не можете прийти на спектакль – не забудьте отменить ваш заказ.
URL:https://www.centermakor.org/event/baba-yaga-11/
LOCATION:Театр на крыше\, 50 Kearney Road\, Needham\, 02494\, United States
CATEGORIES:Community Events,Kids Events
ATTACH;FMTTYPE=image/jpeg:https://www.centermakor.org/wp-content/uploads/2023/04/Баба-Яга-афиша.jpg
END:VEVENT
BEGIN:VEVENT
DTSTART;TZID=America/New_York:20240317T180000
DTEND;TZID=America/New_York:20240317T190000
DTSTAMP:20260421T090436
CREATED:20240206T035714Z
LAST-MODIFIED:20240218T221247Z
UID:19424-1710698400-1710702000@www.centermakor.org
SUMMARY:Чуть мерцает призрачная сцена
DESCRIPTION:ТЕАТРАЛЬНЫЕ ОБРАЗЫ В ПОЭЗИИ \nЧУТЬ МЕРЦАЕТ ПРИЗРАЧНАЯ СЦЕНА\nАВТОР И ВЕДУЩАЯ – ТЕАТРОВЕД Алла ЦЫБУЛЬСКАЯ \nПАРТИЯ ФОРТЕПИАНО – БОРИС ФОГЕЛЬ \n\n\nГерои и героини пьес\, упоминаемые в поэзии Осипа Мандельштама\, Давида Самойлова\, Бориса Пастернака\, Александра Блока\, Константина Случевского\, Николая Заболоцкого\, Генрика Ибсена… \nНИНА и ЕВГЕНИЙ АРБЕНИНЫ\, ДЕЗДЕМОНА и ОТЕЛЛО\,\nГАМЛЕТ и ОФЕЛИЯ\, ГЕКУБА\, ФЕДРА и АНТИГОНА\, СОЛЬВЕЙГ и ПЕР ГЮНТ\,\nМАНОН и КАВАЛЕР де ГРИЕ\, ДОН-ЖУАН и КАРМЕН\, МАДАМ БОВАРИ\,\nГРЕТХЕН\, ГЕРТРУДА и ЯРОСЛАВНА…\nВеликие актрисы ПРОШЛОГО В РОЛЯХ ЭТИХ ПЕРСОНАЖЕЙ…\nАДРИЕННА ЛЕКУВРЕР\, ЭЛИЗА РАШЕЛЬ\, САРА БЕРНАР\, АЛИСА КООНЕН… \nВ программе прозвучит музыка композиторов: \nМануэль Понсе\, Феликс Мендельсон\, Фридерик Шопен\, Эдвард Элгар\, Антон Рубинштейн\, Антонин Дворжак\, Эдвард Григ\, Александр Скрябин. \nА также три вокальные миниатюры: \n“Эмма Бовари” – музыка Мари Филиппа Жерара\, слова Жоржа Вальтера…\n“Манон” и “Была у Дон-Жуана шпага” – слова М. Цветаевой\, муз. Тимура Когана \nВоскресенье\, 17 марта\, 6 p.m.\nShaloh House\n29 Chestnut Hill Ave.\nBrighton \nБИЛЕТЫ \nБилеты без комиссии можно заказать в магазине Петрополь по телефону 617-232-8820 или послав платеж на Venmo: @Ilya-Klebanov или PayPal: petropolbooks@gmail.com с комментарием “Алла Цыбульская”. Цена: $20. \nСбор от концерта будет передан в пользу приютов для бездомных животных в Украине. \n\nАртистический дуэт из Бостона – Алла Цыбульская и Борис Фогель. Если б не было войны\nЖурнал Чайка \n\nОб Алле Цыбульской \n“Вы хранитель традиции. Хранитель культуры в широком смысле слова. И в смысле жанра и в смысле обращения со словом. Не смотря на все сегодняшние кризисы\, в том числе кризис русского языка\, кризис стиля\, кризис общения с залом\, вы остаетесь верны благородному\, уважительному отношению к публике\, к чистому русскому слову и зал вам отвечает взаимностью и радостно внимает вам. \nЯ порадовался вашему успеху от души. Единственное\, что смазывает этот успех – это не слишком качественная запись вечера. Понимаю\, что это от вас не зависит\, что это вообще\, может быть\, первая проба и дело в чисто технических причинах\, конечно же. Но буду надеятся\, что ваша следующая работа будет записана на более высоком уровне. \nАлла\, новых работ\, успехов и здоровья!” \n— Александр Урес\, театровед \n\n“Милая Алла! Мы с удовольствием посмотрели Вашу программу. Чудесно\, что Вы с годами не утратили таких важных Ваших особенностей — благородной красоты\, прелестной интеллигентной интонации. Все очень близко нам и тема очень актуальная. Ждем продолжения! Обнимаем.” \n— Екатерина Дмитриевская \n\n“Дорогая\, уважаемая всеми любителями искусства\, Аллочка!\nМы высоко оценили и последнюю Вашу очень ценную работу.\nСпасибо Вам за то\, что Вы делитесь с русскоговорящими слушателями своими разносторонними\, глубокими знаниями и впечатлениями высокообразованного искусствоведа. Будьте здоровы\, продолжайте благотворно трудиться и жить с таким добрым сердцем.” \n— Юрий Волшин\, валторниста; Лилия Заец\, арфистка\, его жена \n\n“Дорогая Алла! С огромным волнением мы с Виталием Николаевичем посмотрели Вашу программу целиком. Это настоящий подвиг. Вам удалось найти нужную интонацию для такой огромной и страшной темы как Холокост. И музыка\, и кадры из фильмов подобраны очень верно и деликатно. Это очень важно\, чтобы люди (и\, в особенности молодые) помнили историю. А для этого им нужно об этом напоминать. Без гнева\, но и не без пристрастия. Вы — большой молодец. Спасибо Вам. \nВремя сейчас трудное и\, порой\, делается очень горько\, что доживать приходится в таком тяжелом контексте. Потому\, наверное\, особенно важно то\, что Вы делаете. Когда думаешь о тех нечеловеческих испытаниях\, свои беды отступают. Огромная благодарность Вам. Обнимаем. Дмитриевские.” \n— Екатерина Дмитриевская; Виталий Дмитриевский\, выдающийся историк и критик театра \n\n“Аллочка\, Вы героиня! Преодолели все препоны и заторы — и одержали победу. Впечатление сильное\, и главное здесь — Ваша личность\, Ваша искренность и глубокая вовлеченность в то\, что Вы стремиесь передать людям. \nБраво!” \n— Владимир Фрумкин
URL:https://www.centermakor.org/event/flickering-stage/
LOCATION:Shaloh House Jewish Russian Center\, 29 Chestnut Avenue\, Brighton\, MA\, United States
CATEGORIES:Makor Events
ATTACH;FMTTYPE=image/jpeg:https://www.centermakor.org/wp-content/uploads/2024/02/Theatrical-Charecters-Fl.jpg
END:VEVENT
END:VCALENDAR