BEGIN:VCALENDAR
VERSION:2.0
PRODID:-//Center Makor - ECPv6.15.20//NONSGML v1.0//EN
CALSCALE:GREGORIAN
METHOD:PUBLISH
X-WR-CALNAME:Center Makor
X-ORIGINAL-URL:https://www.centermakor.org
X-WR-CALDESC:Events for Center Makor
REFRESH-INTERVAL;VALUE=DURATION:PT1H
X-Robots-Tag:noindex
X-PUBLISHED-TTL:PT1H
BEGIN:VTIMEZONE
TZID:America/New_York
BEGIN:DAYLIGHT
TZOFFSETFROM:-0500
TZOFFSETTO:-0400
TZNAME:EDT
DTSTART:20230312T070000
END:DAYLIGHT
BEGIN:STANDARD
TZOFFSETFROM:-0400
TZOFFSETTO:-0500
TZNAME:EST
DTSTART:20231105T060000
END:STANDARD
BEGIN:DAYLIGHT
TZOFFSETFROM:-0500
TZOFFSETTO:-0400
TZNAME:EDT
DTSTART:20240310T070000
END:DAYLIGHT
BEGIN:STANDARD
TZOFFSETFROM:-0400
TZOFFSETTO:-0500
TZNAME:EST
DTSTART:20241103T060000
END:STANDARD
BEGIN:DAYLIGHT
TZOFFSETFROM:-0500
TZOFFSETTO:-0400
TZNAME:EDT
DTSTART:20250309T070000
END:DAYLIGHT
BEGIN:STANDARD
TZOFFSETFROM:-0400
TZOFFSETTO:-0500
TZNAME:EST
DTSTART:20251102T060000
END:STANDARD
END:VTIMEZONE
BEGIN:VEVENT
DTSTART;TZID=America/New_York:20240328T193000
DTEND;TZID=America/New_York:20240328T213000
DTSTAMP:20260421T182604
CREATED:20240312T143022Z
LAST-MODIFIED:20240312T143106Z
UID:19946-1711654200-1711661400@www.centermakor.org
SUMMARY:A Star Without a Name
DESCRIPTION:A Star Without a Name\nВ Бостон приезжает блестящий Офф-Бродвейский театр с постановкой пьесы Румынского драматурга Михаила Себастьяна “Безымянная звезда”. Действие на английском языке. \nБилеты по телефону 617-232-8820 или по ссылке: https://petropol.com/browse/fetch.php?id=182886&type=book \nTICKETS \n\nNew York’s PM Theater eagerly presents its second Off-Broadway production of A Star Without a Name on a nationwide tour in the Spring of 2024.\nА Star Without a Name is a melodramatic tragicomedy adapted by Ilya Eckstein from a translation of Mihail Sebastian’s Steaua Fără Nume. Written in 1942 in Romania to instant success\, the play\, produced by PM Theater\, makes its NYC premiere at the Theatre at St. Clement’s. Commissioned by the Eckstein Family Fund and fiscally sponsored by COJECO\, PM Theater’s А Star Without a Name is produced by Sergey Nagorny and directed by Gera Sandler. \nThe setting is a provincial town in Romania\, situated along the popular train route from Bucharest to Sinai. By sheer chance\, an express train that usually flies by without slowing down\, makes a quick stop at the town’s only train station\, leaving behind a sole passenger: a mysterious young redhead. Her beauty strikes right through the heart of a simple school teacher\, who’s fascinated by stars and astronomy. Will their improbable love survive past its cosmic conception or will it combust like so many nameless stars in the sky? \nTICKETS
URL:https://www.centermakor.org/event/a-star-without-a-name/
LOCATION:The Dorothy and Charles Mosesian Center for the Arts\, 21 Arsenal Street\, Watertown\, 02472\, United States
CATEGORIES:Community Events
ATTACH;FMTTYPE=image/jpeg:https://www.centermakor.org/wp-content/uploads/2024/03/A-Star-Without-a-Name.jpg
END:VEVENT
END:VCALENDAR