BEGIN:VCALENDAR
VERSION:2.0
PRODID:-//Center Makor - ECPv6.15.20//NONSGML v1.0//EN
CALSCALE:GREGORIAN
METHOD:PUBLISH
X-WR-CALNAME:Center Makor
X-ORIGINAL-URL:https://www.centermakor.org
X-WR-CALDESC:Events for Center Makor
REFRESH-INTERVAL;VALUE=DURATION:PT1H
X-Robots-Tag:noindex
X-PUBLISHED-TTL:PT1H
BEGIN:VTIMEZONE
TZID:America/New_York
BEGIN:DAYLIGHT
TZOFFSETFROM:-0500
TZOFFSETTO:-0400
TZNAME:EDT
DTSTART:20230312T070000
END:DAYLIGHT
BEGIN:STANDARD
TZOFFSETFROM:-0400
TZOFFSETTO:-0500
TZNAME:EST
DTSTART:20231105T060000
END:STANDARD
BEGIN:DAYLIGHT
TZOFFSETFROM:-0500
TZOFFSETTO:-0400
TZNAME:EDT
DTSTART:20240310T070000
END:DAYLIGHT
BEGIN:STANDARD
TZOFFSETFROM:-0400
TZOFFSETTO:-0500
TZNAME:EST
DTSTART:20241103T060000
END:STANDARD
BEGIN:DAYLIGHT
TZOFFSETFROM:-0500
TZOFFSETTO:-0400
TZNAME:EDT
DTSTART:20250309T070000
END:DAYLIGHT
BEGIN:STANDARD
TZOFFSETFROM:-0400
TZOFFSETTO:-0500
TZNAME:EST
DTSTART:20251102T060000
END:STANDARD
END:VTIMEZONE
BEGIN:VEVENT
DTSTART;TZID=America/New_York:20240414T140000
DTEND;TZID=America/New_York:20240414T150000
DTSTAMP:20260421T152257
CREATED:20240206T172909Z
LAST-MODIFIED:20240304T161311Z
UID:19463-1713103200-1713106800@www.centermakor.org
SUMMARY:Women’s Bandura Ensemble of North America
DESCRIPTION:LEARN MORE
URL:https://www.centermakor.org/event/womens-bandura-ensemble-of-north-america/
LOCATION:The Dorothy and Charles Mosesian Center for the Arts\, 21 Arsenal Street\, Watertown\, 02472\, United States
CATEGORIES:Community Events
ATTACH;FMTTYPE=image/jpeg:https://www.centermakor.org/wp-content/uploads/2024/02/Flyer-WBENA-April-Boston-Concert.jpg
END:VEVENT
BEGIN:VEVENT
DTSTART;TZID=America/New_York:20240414T190000
DTEND;TZID=America/New_York:20240414T210000
DTSTAMP:20260421T152257
CREATED:20240320T154313Z
LAST-MODIFIED:20240320T154434Z
UID:20016-1713121200-1713128400@www.centermakor.org
SUMMARY:Слава Гауфберг. Вечер к юбилею Булата Окуджавы.
DESCRIPTION:В этом году исполняется 100 лет\nсо дня рождения Булата Шалвовича Окуджавы \nТЕАТР НА КРЫШЕ\nи\nСЛАВА ГАУФБЕРГ\nприглашают вас\nотпраздновать этот замечательный юбилей\nв нашем уютном зале\nи послушать любимые песни Булата Окуджавы\nи его современников – мэтров авторской песни \nРекомендованные пожертвования $50\nСобранные средства будут переданы\nв фонд поездки Театра на крыше на фестиваль в Варне \nСлава Гауфберг пишет песни в основном на свои стихи\, русские и английские\, но иногда на стихи разных поэтов: Гумилева\, Бродского\, Йейтса\, Фроста\, Пастернака\, Магида\, Габриэля\, Кураса и других. \nПосчастливилось быть знакомым с Галичем\, Высоцким\, Кукиным\, Клячкиным\, Дольским\, Окуджавой и другими бардами. Аккомпанировал Высоцкому в домашних записях. В 90е годы вышли две пластинки с этими записями. \nВ 2016\, 2017\, 2018 и 2019 году по приглашению Фонда Булата Окуджавы выступал с сольными концертами в Доме Булата на Арбате в Москве. В сентябре 2017 выступал в Доме Журналиста в Москве. В декабре 2019 года выступал в Московском Доме Кино со своими песнями и воспоминаниями о замечательном писателе Фазиле Искандере. В том же декабре в Москве провёл вечер памяти ближайшего друга\, актера Московского Театра на Таганке Димы Межевича. \nВ октябре 2019 выступил с сольным концертом в главном концертном зале Берлина Konzerthaus Berlin по приглашению организаторов фестиваля в честь великого скрипача Гидона Кремера. \nВсе концерты Славы благотворительные. Сборы от концертов полностью идут на различные гуманитарные и культурные нужды. \nПосетите веб-сайт Славы\, чтобы больше узнать об этом интересном человеке. \nО Славе   О концерте   Заказать \nОплата наличными при входе. Если вы почему-либо не можете прийти на спектакль – не забудьте отменить ваш заказ\, напсав на theaterontheroof@gmail.com. \nПожертвования принимаются на месте наличными; у нас нет возможности принимать кредитные карты и электронные методы оплаты.
URL:https://www.centermakor.org/event/slava-gaufberg-bulat-okudjava-tor-24/
LOCATION:Театр на крыше\, 50 Kearney Road\, Needham\, 02494\, United States
CATEGORIES:Community Events
ATTACH;FMTTYPE=image/jpeg:https://www.centermakor.org/wp-content/uploads/2024/03/TOR-2024-Окуджава.jpg
END:VEVENT
END:VCALENDAR