BEGIN:VCALENDAR
VERSION:2.0
PRODID:-//Center Makor - ECPv6.15.20//NONSGML v1.0//EN
CALSCALE:GREGORIAN
METHOD:PUBLISH
X-WR-CALNAME:Center Makor
X-ORIGINAL-URL:https://www.centermakor.org
X-WR-CALDESC:Events for Center Makor
REFRESH-INTERVAL;VALUE=DURATION:PT1H
X-Robots-Tag:noindex
X-PUBLISHED-TTL:PT1H
BEGIN:VTIMEZONE
TZID:America/New_York
BEGIN:DAYLIGHT
TZOFFSETFROM:-0500
TZOFFSETTO:-0400
TZNAME:EDT
DTSTART:20230312T070000
END:DAYLIGHT
BEGIN:STANDARD
TZOFFSETFROM:-0400
TZOFFSETTO:-0500
TZNAME:EST
DTSTART:20231105T060000
END:STANDARD
BEGIN:DAYLIGHT
TZOFFSETFROM:-0500
TZOFFSETTO:-0400
TZNAME:EDT
DTSTART:20240310T070000
END:DAYLIGHT
BEGIN:STANDARD
TZOFFSETFROM:-0400
TZOFFSETTO:-0500
TZNAME:EST
DTSTART:20241103T060000
END:STANDARD
BEGIN:DAYLIGHT
TZOFFSETFROM:-0500
TZOFFSETTO:-0400
TZNAME:EDT
DTSTART:20250309T070000
END:DAYLIGHT
BEGIN:STANDARD
TZOFFSETFROM:-0400
TZOFFSETTO:-0500
TZNAME:EST
DTSTART:20251102T060000
END:STANDARD
END:VTIMEZONE
BEGIN:VEVENT
DTSTART;TZID=America/New_York:20240420T193000
DTEND;TZID=America/New_York:20240420T213000
DTSTAMP:20260421T121519
CREATED:20240218T185037Z
LAST-MODIFIED:20240226T053643Z
UID:19647-1713641400-1713648600@www.centermakor.org
SUMMARY:Голубцы по объявлению
DESCRIPTION:Сбор от ближайших показов спектаклей «Голубцы по объявлению» и «Потерпевший Гольдинер» пойдут в фонд нашей поездки на фестиваль. Помогите нам собрать нужную сумму! Приходите сами и приводите друзей! Ну и\, конечно же\, если вы просто захотите нам помочь деньгами\, мы с благодарностью примем любую помощь. Перевод можно сделать по Venmo или Zelle® на номер +1 (617) 320-6473 с пометкой “на фестиваль”. \nПодробнее \n\n \nТеатр на крыше\nприглашает вас на спектакль \nГолубцы по объявлению\nАнтон Финк \nЛирическая комедия для субботнего вечера – легкая\, забавная\, с узнаваемыми ситуациями семейного быта. Но и с неожиданными экстравагантными поворотами! \n\n\nО спектакле     Заказ билетов \n  \n\nЦена билета $50\, пенсионерам и студентам $30\nВ цену билета включен буфет. \nВнимание! Оплата производится наличными при входе!
URL:https://www.centermakor.org/event/golubcy-13/
LOCATION:Театр на крыше\, 50 Kearney Road\, Needham\, 02494\, United States
CATEGORIES:Community Events
ATTACH;FMTTYPE=image/jpeg:https://www.centermakor.org/wp-content/uploads/2020/02/голубцы-по-объявлению.jpg
END:VEVENT
END:VCALENDAR