BEGIN:VCALENDAR
VERSION:2.0
PRODID:-//Center Makor - ECPv6.15.20//NONSGML v1.0//EN
CALSCALE:GREGORIAN
METHOD:PUBLISH
X-ORIGINAL-URL:https://www.centermakor.org
X-WR-CALDESC:Events for Center Makor
REFRESH-INTERVAL;VALUE=DURATION:PT1H
X-Robots-Tag:noindex
X-PUBLISHED-TTL:PT1H
BEGIN:VTIMEZONE
TZID:America/New_York
BEGIN:DAYLIGHT
TZOFFSETFROM:-0500
TZOFFSETTO:-0400
TZNAME:EDT
DTSTART:20230312T070000
END:DAYLIGHT
BEGIN:STANDARD
TZOFFSETFROM:-0400
TZOFFSETTO:-0500
TZNAME:EST
DTSTART:20231105T060000
END:STANDARD
BEGIN:DAYLIGHT
TZOFFSETFROM:-0500
TZOFFSETTO:-0400
TZNAME:EDT
DTSTART:20240310T070000
END:DAYLIGHT
BEGIN:STANDARD
TZOFFSETFROM:-0400
TZOFFSETTO:-0500
TZNAME:EST
DTSTART:20241103T060000
END:STANDARD
BEGIN:DAYLIGHT
TZOFFSETFROM:-0500
TZOFFSETTO:-0400
TZNAME:EDT
DTSTART:20250309T070000
END:DAYLIGHT
BEGIN:STANDARD
TZOFFSETFROM:-0400
TZOFFSETTO:-0500
TZNAME:EST
DTSTART:20251102T060000
END:STANDARD
END:VTIMEZONE
BEGIN:VEVENT
DTSTART;TZID=America/New_York:20240424T200000
DTEND;TZID=America/New_York:20240424T210000
DTSTAMP:20260425T141758
CREATED:20240417T004953Z
LAST-MODIFIED:20240417T005247Z
UID:20294-1713988800-1713992400@www.centermakor.org
SUMMARY:Jewish Fantasy & Science  ﻿Fiction Book Club
DESCRIPTION:Jewish Fantasy & Science Fiction Book Club \nWednesday\, April 24\, 8:00 pm \nOur exploration of Jewish Fantasy and Science Fiction continues with Gentlemen of the Road: A Tale of Adventure by Michael Chabon \nEssen­tial­ly a bud­dy sto­ry\, it’s a Jew­ish tale and a dynasty saga set in the Khaz­ar Empire in about the year 950. The char­ac­ters man­age to be both broad car­i­ca­ture and all-too-human at the same time. In true mag­a­zine-ser­i­al style\, cliffhang­er sus­pense abounds\, keep­ing the read­er as breath­less as the char­ac­ters who leap on and off hors­es\, throw unerr­ing spears and wield mighty swords. But it’s not only the sto­ry that makes this expe­ri­ence spe­cial; it’s the phys­i­cal book itself that makes this old-time bib­lio­phile smile. End­pa­pers with maps of the ter­ri­to­ry\, black and white illus­tra­tions with a line of text run­ning below\, a list of illus­tra­tions fol­low­ing the table of con­tents\, the print font\, itself\, as well as count­less oth­er touch­es are all rem­i­nis­cent of the days when a book looked and smelled and felt like a reflec­tion of his­to­ry. \n(Read the full review at The Jewish Book Council) \nJoin in the conversation at our regular Zoom link — and spread the word; all are warmly invited to join for this evening of conversation and magic!
URL:https://www.centermakor.org/event/jewish-fantasy-science-fiction-book-club-gentlemen-of-the-road/
LOCATION:MA
CATEGORIES:Community Events
ATTACH;FMTTYPE=image/jpeg:https://www.centermakor.org/wp-content/uploads/2024/04/Gentlemen-of-the-Road-A-Tale-of-Adventure-by-Michael-Chabon.jpg
ORGANIZER;CN="Congregation Beth El":MAILTO:info@bethelsudbury.org
END:VEVENT
END:VCALENDAR