BEGIN:VCALENDAR
VERSION:2.0
PRODID:-//Center Makor - ECPv6.15.20//NONSGML v1.0//EN
CALSCALE:GREGORIAN
METHOD:PUBLISH
X-ORIGINAL-URL:https://www.centermakor.org
X-WR-CALDESC:Events for Center Makor
REFRESH-INTERVAL;VALUE=DURATION:PT1H
X-Robots-Tag:noindex
X-PUBLISHED-TTL:PT1H
BEGIN:VTIMEZONE
TZID:America/New_York
BEGIN:DAYLIGHT
TZOFFSETFROM:-0500
TZOFFSETTO:-0400
TZNAME:EDT
DTSTART:20230312T070000
END:DAYLIGHT
BEGIN:STANDARD
TZOFFSETFROM:-0400
TZOFFSETTO:-0500
TZNAME:EST
DTSTART:20231105T060000
END:STANDARD
BEGIN:DAYLIGHT
TZOFFSETFROM:-0500
TZOFFSETTO:-0400
TZNAME:EDT
DTSTART:20240310T070000
END:DAYLIGHT
BEGIN:STANDARD
TZOFFSETFROM:-0400
TZOFFSETTO:-0500
TZNAME:EST
DTSTART:20241103T060000
END:STANDARD
BEGIN:DAYLIGHT
TZOFFSETFROM:-0500
TZOFFSETTO:-0400
TZNAME:EDT
DTSTART:20250309T070000
END:DAYLIGHT
BEGIN:STANDARD
TZOFFSETFROM:-0400
TZOFFSETTO:-0500
TZNAME:EST
DTSTART:20251102T060000
END:STANDARD
END:VTIMEZONE
BEGIN:VEVENT
DTSTART;TZID=America/New_York:20240425T193000
DTEND;TZID=America/New_York:20240425T203000
DTSTAMP:20260421T104312
CREATED:20240326T032934Z
LAST-MODIFIED:20240326T033139Z
UID:20071-1714073400-1714077000@www.centermakor.org
SUMMARY:The Zionist Idea with Rabbi David Starr\, Ph.D.
DESCRIPTION:The Zionist Idea with Rabbi David Starr\, Ph.D.\nThis class will focus on three questions:\nHow did Zionism create Israel in 1948?\nWhat were the various strands of Zionism e.g. religious\, secular\, socialist\, political\, etc?\nWhat have been the successes and failures of Zionism? \nClass required books will be provided:\nArthur Hertzberg\, The Zionist Idea\nMichael Stanislawski\, A Very Short Introduction to Zionism \nClass Dates:\nApril 25\nMay 2\, 9\nJune 6\, 13\, 20\, 27 \nCost:\nCMT Members: $136\nNon-Members: $180\nStudents under 25: $25 \nAll classes held at Congregation Mishkan Tefila\,\n384 Harvard St. Brookline\, MA 02446 \nRegister at mishkantefila.org/form/thezionistidea \nREGISTER
URL:https://www.centermakor.org/event/the-zionist-idea/
LOCATION:Congregation Mishkan Tefila\, 384 Harvard St\,\, Brookline\, MA\, 02446\, United States
CATEGORIES:Campus Events
ATTACH;FMTTYPE=image/jpeg:https://www.centermakor.org/wp-content/uploads/2024/03/The-Zionist-Idea.jpg
END:VEVENT
END:VCALENDAR