BEGIN:VCALENDAR
VERSION:2.0
PRODID:-//Center Makor - ECPv6.15.20//NONSGML v1.0//EN
CALSCALE:GREGORIAN
METHOD:PUBLISH
X-ORIGINAL-URL:https://www.centermakor.org
X-WR-CALDESC:Events for Center Makor
REFRESH-INTERVAL;VALUE=DURATION:PT1H
X-Robots-Tag:noindex
X-PUBLISHED-TTL:PT1H
BEGIN:VTIMEZONE
TZID:America/New_York
BEGIN:DAYLIGHT
TZOFFSETFROM:-0500
TZOFFSETTO:-0400
TZNAME:EDT
DTSTART:20230312T070000
END:DAYLIGHT
BEGIN:STANDARD
TZOFFSETFROM:-0400
TZOFFSETTO:-0500
TZNAME:EST
DTSTART:20231105T060000
END:STANDARD
BEGIN:DAYLIGHT
TZOFFSETFROM:-0500
TZOFFSETTO:-0400
TZNAME:EDT
DTSTART:20240310T070000
END:DAYLIGHT
BEGIN:STANDARD
TZOFFSETFROM:-0400
TZOFFSETTO:-0500
TZNAME:EST
DTSTART:20241103T060000
END:STANDARD
BEGIN:DAYLIGHT
TZOFFSETFROM:-0500
TZOFFSETTO:-0400
TZNAME:EDT
DTSTART:20250309T070000
END:DAYLIGHT
BEGIN:STANDARD
TZOFFSETFROM:-0400
TZOFFSETTO:-0500
TZNAME:EST
DTSTART:20251102T060000
END:STANDARD
END:VTIMEZONE
BEGIN:VEVENT
DTSTART;TZID=America/New_York:20240504T090000
DTEND;TZID=America/New_York:20240504T110000
DTSTAMP:20260421T152642
CREATED:20231226T003749Z
LAST-MODIFIED:20231226T003749Z
UID:18921-1714813200-1714820400@www.centermakor.org
SUMMARY:Taste of Torah
DESCRIPTION:Taste of Torah\nJoin Rabbi David Starr\, Ph.D. in the CMT Lounge\, before  services\, for Torah discussion and a light breakfast. \n9.00 A.M. Taste of Torah and light breakfast – In Person Only \n10.00 A.M. Shabbat Morning Services – Hybrid \nJanuary 6\, February 10\, March 9\, April 6\, May 4\, June 1 \nRSVP –  mishkantefila.org/form/tasteoftorah2024 \nRSVP
URL:https://www.centermakor.org/event/taste-of-torah-5/
LOCATION:Congregation Mishkan Tefila\, 384 Harvard St\,\, Brookline\, MA\, 02446\, United States
CATEGORIES:Campus Events
ATTACH;FMTTYPE=image/jpeg:https://www.centermakor.org/wp-content/uploads/2023/12/Taste-of-Torah2024.jpg
END:VEVENT
END:VCALENDAR