BEGIN:VCALENDAR
VERSION:2.0
PRODID:-//Center Makor - ECPv6.15.20//NONSGML v1.0//EN
CALSCALE:GREGORIAN
METHOD:PUBLISH
X-ORIGINAL-URL:https://www.centermakor.org
X-WR-CALDESC:Events for Center Makor
REFRESH-INTERVAL;VALUE=DURATION:PT1H
X-Robots-Tag:noindex
X-PUBLISHED-TTL:PT1H
BEGIN:VTIMEZONE
TZID:America/New_York
BEGIN:DAYLIGHT
TZOFFSETFROM:-0500
TZOFFSETTO:-0400
TZNAME:EDT
DTSTART:20230312T070000
END:DAYLIGHT
BEGIN:STANDARD
TZOFFSETFROM:-0400
TZOFFSETTO:-0500
TZNAME:EST
DTSTART:20231105T060000
END:STANDARD
BEGIN:DAYLIGHT
TZOFFSETFROM:-0500
TZOFFSETTO:-0400
TZNAME:EDT
DTSTART:20240310T070000
END:DAYLIGHT
BEGIN:STANDARD
TZOFFSETFROM:-0400
TZOFFSETTO:-0500
TZNAME:EST
DTSTART:20241103T060000
END:STANDARD
BEGIN:DAYLIGHT
TZOFFSETFROM:-0500
TZOFFSETTO:-0400
TZNAME:EDT
DTSTART:20250309T070000
END:DAYLIGHT
BEGIN:STANDARD
TZOFFSETFROM:-0400
TZOFFSETTO:-0500
TZNAME:EST
DTSTART:20251102T060000
END:STANDARD
END:VTIMEZONE
BEGIN:VEVENT
DTSTART;TZID=America/New_York:20240519T150000
DTEND;TZID=America/New_York:20240519T190000
DTSTAMP:20260421T140356
CREATED:20240509T221528Z
LAST-MODIFIED:20240509T221642Z
UID:20638-1716130800-1716145200@www.centermakor.org
SUMMARY:Israel’s Independence Day
DESCRIPTION:Israel’s Independence Day\nNow and Forever\, let’s come together as a community\, as we stand strong for Israel.\nTour Israeli cities\, as we have turned each location into a kid’s attraction.\nKosher food will be available on site\, as well as many more surprises!\nThis Celebrate Israel Festival will be a day filled with fun activities and entertainment!\nDon’t miss our Massachusetts Shuk with local Israeli artists (we highly recommend to bring your American shekels–dollars–to get the full experience). \nEarly Bird Single Tickets: $15. This ticket is valid for one person.\nAges Two (2) and older require a ticket for entry.\nTicket prices will increase on May 16th. \nTICKETS \nEvent takes place in Newton; exact address will be included in the email.
URL:https://www.centermakor.org/event/israels-independence-day/
CATEGORIES:Community Events
ATTACH;FMTTYPE=image/jpeg:https://www.centermakor.org/wp-content/uploads/2024/05/WhatsApp-Image-2024-05-09-at-1.55.36-PM.jpeg
END:VEVENT
END:VCALENDAR