BEGIN:VCALENDAR
VERSION:2.0
PRODID:-//Center Makor - ECPv6.15.20//NONSGML v1.0//EN
CALSCALE:GREGORIAN
METHOD:PUBLISH
X-ORIGINAL-URL:https://www.centermakor.org
X-WR-CALDESC:Events for Center Makor
REFRESH-INTERVAL;VALUE=DURATION:PT1H
X-Robots-Tag:noindex
X-PUBLISHED-TTL:PT1H
BEGIN:VTIMEZONE
TZID:America/New_York
BEGIN:DAYLIGHT
TZOFFSETFROM:-0500
TZOFFSETTO:-0400
TZNAME:EDT
DTSTART:20230312T070000
END:DAYLIGHT
BEGIN:STANDARD
TZOFFSETFROM:-0400
TZOFFSETTO:-0500
TZNAME:EST
DTSTART:20231105T060000
END:STANDARD
BEGIN:DAYLIGHT
TZOFFSETFROM:-0500
TZOFFSETTO:-0400
TZNAME:EDT
DTSTART:20240310T070000
END:DAYLIGHT
BEGIN:STANDARD
TZOFFSETFROM:-0400
TZOFFSETTO:-0500
TZNAME:EST
DTSTART:20241103T060000
END:STANDARD
BEGIN:DAYLIGHT
TZOFFSETFROM:-0500
TZOFFSETTO:-0400
TZNAME:EDT
DTSTART:20250309T070000
END:DAYLIGHT
BEGIN:STANDARD
TZOFFSETFROM:-0400
TZOFFSETTO:-0500
TZNAME:EST
DTSTART:20251102T060000
END:STANDARD
END:VTIMEZONE
BEGIN:VEVENT
DTSTART;TZID=America/New_York:20240601T090000
DTEND;TZID=America/New_York:20240601T110000
DTSTAMP:20260423T164551
CREATED:20231226T003828Z
LAST-MODIFIED:20231226T003828Z
UID:18923-1717232400-1717239600@www.centermakor.org
SUMMARY:Taste of Torah
DESCRIPTION:Taste of Torah\nJoin Rabbi David Starr\, Ph.D. in the CMT Lounge\, before  services\, for Torah discussion and a light breakfast. \n9.00 A.M. Taste of Torah and light breakfast – In Person Only \n10.00 A.M. Shabbat Morning Services – Hybrid \nJanuary 6\, February 10\, March 9\, April 6\, May 4\, June 1 \nRSVP –  mishkantefila.org/form/tasteoftorah2024 \nRSVP
URL:https://www.centermakor.org/event/taste-of-torah-6/
LOCATION:Congregation Mishkan Tefila\, 384 Harvard St\,\, Brookline\, MA\, 02446\, United States
CATEGORIES:Campus Events
ATTACH;FMTTYPE=image/jpeg:https://www.centermakor.org/wp-content/uploads/2023/12/Taste-of-Torah2024.jpg
END:VEVENT
BEGIN:VEVENT
DTSTART;TZID=America/New_York:20240601T193000
DTEND;TZID=America/New_York:20240601T220000
DTSTAMP:20260423T164551
CREATED:20240401T030045Z
LAST-MODIFIED:20240329T032021Z
UID:20112-1717270200-1717279200@www.centermakor.org
SUMMARY:Дракон
DESCRIPTION:Театр на крыше\nприглашает вас на спектакль \nДракон\nЕвгений Щварц \nОчень актуально для сегодняшней ситуации в России и вообще…\n12+ \nРЕЖИССЁР – Людмила Старобинец. \nБилеты \n\n\nAttention! This performance contains a sequence of flashing lights which may affect customers who are susceptible to photosensitive epilepsy or other photo sensitivity. \nВнимание! Этот спектакль содержит яркие вспышки света\, которые могут представлять опасность для людей\, страдающих эпилепсией\, припадочными расстройствами или повышенной светочувствительностью. \nО спектакле \n\nЦена билета $50; пенсионерам и студентам – $35.\nВнимание! Оплата производится наличными при входе!
URL:https://www.centermakor.org/event/drakon-5/
LOCATION:Театр на крыше\, 50 Kearney Road\, Needham\, 02494\, United States
CATEGORIES:Community Events,Kids Events
ATTACH;FMTTYPE=image/jpeg:https://www.centermakor.org/wp-content/uploads/2024/01/Дракон.jpg
END:VEVENT
END:VCALENDAR