BEGIN:VCALENDAR
VERSION:2.0
PRODID:-//Center Makor - ECPv6.15.20//NONSGML v1.0//EN
CALSCALE:GREGORIAN
METHOD:PUBLISH
X-ORIGINAL-URL:https://www.centermakor.org
X-WR-CALDESC:Events for Center Makor
REFRESH-INTERVAL;VALUE=DURATION:PT1H
X-Robots-Tag:noindex
X-PUBLISHED-TTL:PT1H
BEGIN:VTIMEZONE
TZID:America/New_York
BEGIN:DAYLIGHT
TZOFFSETFROM:-0500
TZOFFSETTO:-0400
TZNAME:EDT
DTSTART:20230312T070000
END:DAYLIGHT
BEGIN:STANDARD
TZOFFSETFROM:-0400
TZOFFSETTO:-0500
TZNAME:EST
DTSTART:20231105T060000
END:STANDARD
BEGIN:DAYLIGHT
TZOFFSETFROM:-0500
TZOFFSETTO:-0400
TZNAME:EDT
DTSTART:20240310T070000
END:DAYLIGHT
BEGIN:STANDARD
TZOFFSETFROM:-0400
TZOFFSETTO:-0500
TZNAME:EST
DTSTART:20241103T060000
END:STANDARD
BEGIN:DAYLIGHT
TZOFFSETFROM:-0500
TZOFFSETTO:-0400
TZNAME:EDT
DTSTART:20250309T070000
END:DAYLIGHT
BEGIN:STANDARD
TZOFFSETFROM:-0400
TZOFFSETTO:-0500
TZNAME:EST
DTSTART:20251102T060000
END:STANDARD
END:VTIMEZONE
BEGIN:VEVENT
DTSTART;TZID=America/New_York:20240626T193000
DTEND;TZID=America/New_York:20240626T213000
DTSTAMP:20260423T074835
CREATED:20240511T015009Z
LAST-MODIFIED:20240511T015009Z
UID:20655-1719430200-1719437400@www.centermakor.org
SUMMARY:Женщина в белом
DESCRIPTION:Женщина в белом\nДраматический спектакль Александра Щербины по самой пронзительной поэме Сергея Есенина «Анна Снегина»\, написанной в 1924 году. \nКогда рушится привычный мир и ломаются судьбы\, когда всё ближе грохот гражданской войны – кто осмелится петь о нежности и мечтать о любви? Они осмелились – петь\, любить\, надеяться. Встретиться среди сирени и расстаться на пепелище. К 100-летию поэмы «Анна Снегина». \nВ ролях:\nПоэт – Александр Щербина\nЖенщина в белом – Ирина Груминская\nЧёрный человек\, Возница\, Мельник\, Прон – Евгений Бельтюков \nВ спектакле использованы также отрывки из поэмы «Чёрный человек»\, стихотворение «Письмо к женщине»\, живое исполнение песен и романсов на стихи Сергея Есенина. \nБилеты $40\nPaypal – kmaslova@comcast.net (friends and family only\, please)\nVenmo – @Katherine_Maslova\nКоличество мест ограничено. \nСпектакль проводится в помещении Театра на крыше\, 50 Kearney Road\, Needham\, MA 02494\ntheaterontheroof.com/event/esenin
URL:https://www.centermakor.org/event/%d0%b6%d0%b5%d0%bd%d1%89%d0%b8%d0%bd%d0%b0-%d0%b2-%d0%b1%d0%b5%d0%bb%d0%be%d0%bc/
LOCATION:Театр на крыше\, 50 Kearney Road\, Needham\, 02494\, United States
CATEGORIES:Community Events
ATTACH;FMTTYPE=image/jpeg:https://www.centermakor.org/wp-content/uploads/2024/05/Afisha-Esenin-qr.jpg
END:VEVENT
END:VCALENDAR