BEGIN:VCALENDAR
VERSION:2.0
PRODID:-//Center Makor - ECPv6.15.20//NONSGML v1.0//EN
CALSCALE:GREGORIAN
METHOD:PUBLISH
X-WR-CALNAME:Center Makor
X-ORIGINAL-URL:https://www.centermakor.org
X-WR-CALDESC:Events for Center Makor
REFRESH-INTERVAL;VALUE=DURATION:PT1H
X-Robots-Tag:noindex
X-PUBLISHED-TTL:PT1H
BEGIN:VTIMEZONE
TZID:America/New_York
BEGIN:DAYLIGHT
TZOFFSETFROM:-0500
TZOFFSETTO:-0400
TZNAME:EDT
DTSTART:20230312T070000
END:DAYLIGHT
BEGIN:STANDARD
TZOFFSETFROM:-0400
TZOFFSETTO:-0500
TZNAME:EST
DTSTART:20231105T060000
END:STANDARD
BEGIN:DAYLIGHT
TZOFFSETFROM:-0500
TZOFFSETTO:-0400
TZNAME:EDT
DTSTART:20240310T070000
END:DAYLIGHT
BEGIN:STANDARD
TZOFFSETFROM:-0400
TZOFFSETTO:-0500
TZNAME:EST
DTSTART:20241103T060000
END:STANDARD
BEGIN:DAYLIGHT
TZOFFSETFROM:-0500
TZOFFSETTO:-0400
TZNAME:EDT
DTSTART:20250309T070000
END:DAYLIGHT
BEGIN:STANDARD
TZOFFSETFROM:-0400
TZOFFSETTO:-0500
TZNAME:EST
DTSTART:20251102T060000
END:STANDARD
END:VTIMEZONE
BEGIN:VEVENT
DTSTART;TZID=America/New_York:20240725T193000
DTEND;TZID=America/New_York:20240725T213000
DTSTAMP:20260423T153351
CREATED:20240716T231139Z
LAST-MODIFIED:20240716T231220Z
UID:21434-1721935800-1721943000@www.centermakor.org
SUMMARY:Bombay to Babylon: Music along the Silk Road – featuring Vishnu R\, Moshe Elmakias\, Nittin Mitta
DESCRIPTION:Bombay to Babylon\nMusic along the Silk Road\nfeaturing Vishnu R\, Moshe Elmakias\, Nittin Mitta \nFrom the bustling streets of Bombay to the deserts of Babylon\, embark on a magical journey along the ‘Silk Road’\, where Strings are silk and Rhythm is spice! Tickets @ bombaytobabylon.eventbrite.com \nA trio of international musicians (Vishnu R on Navtar\, Moshe Elmakias on piano and Nitin Mitta on tabla) perform a specially selected program of original compositions by Vishnu and Moshe as well as new arrangements of traditional Jewish and Hindu music\, including a composition from the historic Jewish community in India. \nTICKETS
URL:https://www.centermakor.org/event/bombay-to-babylon/
LOCATION:Congregation Kehillath Israel\, 384 Harvard Street\, Brookline\, MA\, 02446\, United States
CATEGORIES:Campus Events
ATTACH;FMTTYPE=image/jpeg:https://www.centermakor.org/wp-content/uploads/2024/07/music-along-the-silk-road.jpg
END:VEVENT
END:VCALENDAR