BEGIN:VCALENDAR
VERSION:2.0
PRODID:-//Center Makor - ECPv6.15.20//NONSGML v1.0//EN
CALSCALE:GREGORIAN
METHOD:PUBLISH
X-ORIGINAL-URL:https://www.centermakor.org
X-WR-CALDESC:Events for Center Makor
REFRESH-INTERVAL;VALUE=DURATION:PT1H
X-Robots-Tag:noindex
X-PUBLISHED-TTL:PT1H
BEGIN:VTIMEZONE
TZID:America/New_York
BEGIN:DAYLIGHT
TZOFFSETFROM:-0500
TZOFFSETTO:-0400
TZNAME:EDT
DTSTART:20230312T070000
END:DAYLIGHT
BEGIN:STANDARD
TZOFFSETFROM:-0400
TZOFFSETTO:-0500
TZNAME:EST
DTSTART:20231105T060000
END:STANDARD
BEGIN:DAYLIGHT
TZOFFSETFROM:-0500
TZOFFSETTO:-0400
TZNAME:EDT
DTSTART:20240310T070000
END:DAYLIGHT
BEGIN:STANDARD
TZOFFSETFROM:-0400
TZOFFSETTO:-0500
TZNAME:EST
DTSTART:20241103T060000
END:STANDARD
BEGIN:DAYLIGHT
TZOFFSETFROM:-0500
TZOFFSETTO:-0400
TZNAME:EDT
DTSTART:20250309T070000
END:DAYLIGHT
BEGIN:STANDARD
TZOFFSETFROM:-0400
TZOFFSETTO:-0500
TZNAME:EST
DTSTART:20251102T060000
END:STANDARD
END:VTIMEZONE
BEGIN:VEVENT
DTSTART;TZID=America/New_York:20240815T193000
DTEND;TZID=America/New_York:20240815T213000
DTSTAMP:20260425T141734
CREATED:20240716T153023Z
LAST-MODIFIED:20240716T160152Z
UID:21422-1723750200-1723757400@www.centermakor.org
SUMMARY:Libra Band – концерт
DESCRIPTION:Libra Band\nиз Нью-Джерси\nв гостях у Театра на крыше \nУкраинские\, советские и авторские песни. \nДушевное исполнение знакомых мелодий!\nЧетыре гитариста и два скрипача сделают ваш вечер незабываемым! \nБилеты $40\, оплата наличными у входа\, предварительный заказ не нужен.\nСправки по телефону 847-915-1601 \nТеатр на крыше: 50 Kearney Road\, Needham\, MA 02494 \n\n\nО мероприятии \nО группе
URL:https://www.centermakor.org/event/libra-band/
LOCATION:Театр на крыше\, 50 Kearney Road\, Needham\, 02494\, United States
CATEGORIES:Community Events
ATTACH;FMTTYPE=image/jpeg:https://www.centermakor.org/wp-content/uploads/2024/07/libra-group.jpeg
END:VEVENT
END:VCALENDAR