BEGIN:VCALENDAR
VERSION:2.0
PRODID:-//Center Makor - ECPv6.15.20//NONSGML v1.0//EN
CALSCALE:GREGORIAN
METHOD:PUBLISH
X-WR-CALNAME:Center Makor
X-ORIGINAL-URL:https://www.centermakor.org
X-WR-CALDESC:Events for Center Makor
REFRESH-INTERVAL;VALUE=DURATION:PT1H
X-Robots-Tag:noindex
X-PUBLISHED-TTL:PT1H
BEGIN:VTIMEZONE
TZID:America/New_York
BEGIN:DAYLIGHT
TZOFFSETFROM:-0500
TZOFFSETTO:-0400
TZNAME:EDT
DTSTART:20230312T070000
END:DAYLIGHT
BEGIN:STANDARD
TZOFFSETFROM:-0400
TZOFFSETTO:-0500
TZNAME:EST
DTSTART:20231105T060000
END:STANDARD
BEGIN:DAYLIGHT
TZOFFSETFROM:-0500
TZOFFSETTO:-0400
TZNAME:EDT
DTSTART:20240310T070000
END:DAYLIGHT
BEGIN:STANDARD
TZOFFSETFROM:-0400
TZOFFSETTO:-0500
TZNAME:EST
DTSTART:20241103T060000
END:STANDARD
BEGIN:DAYLIGHT
TZOFFSETFROM:-0500
TZOFFSETTO:-0400
TZNAME:EDT
DTSTART:20250309T070000
END:DAYLIGHT
BEGIN:STANDARD
TZOFFSETFROM:-0400
TZOFFSETTO:-0500
TZNAME:EST
DTSTART:20251102T060000
END:STANDARD
END:VTIMEZONE
BEGIN:VEVENT
DTSTART;VALUE=DATE:20241114
DTEND;VALUE=DATE:20241118
DTSTAMP:20260424T013010
CREATED:20241023T021820Z
LAST-MODIFIED:20241023T041358Z
UID:22363-1731542400-1731887999@www.centermakor.org
SUMMARY:Pinocchio: The Musical
DESCRIPTION:Pinocchio the Musical is Perfect for the Whole Family: Get Tickets Today! \nDear Friends\,\nWe are excited to invite you and your family to a truly magical event this November! Join us for Pinocchio: The Musical at the Emerson Colonial Theatre in Boston from November 14–17\, 2024. This beloved classic tale comes to life with captivating special effects\, stunning performances\, and dreamlike set design that will enchant audiences of all ages. \nPerfect for both first-time theatergoers and seasoned fans\, Pinocchio: The Musical promises to entertain the whole family with its unforgettable vocals\, beautiful choreography\, and heartwarming story. Follow Pinocchio on his thrilling journey of self-discovery as he learns important lessons about honesty\, courage\, and becoming his true self. \nDon’t miss the chance to experience this whimsical adventure together. It’s a perfect outing for families looking to enjoy a night of theater filled with wonder and excitement. \nGrab your tickets today at www.pinocchiomusical.com. We can’t wait to see you in November! \n\n\nThursday\, November 14 and Friday\, November 15 at 7:30 pm\nSaturday\, November 16 at 1pm and 7:30 pm and Sunday\, November 17 at 1 pm and 6 pm \nEmerson Colonial Theatre\n106 Boylston St\, Boston\, MA 02116 \n\nTICKETS at AFISHABOSTON \n(Better price) \n\nTICKETS at EMERSON COLONIAL THEATRE
URL:https://www.centermakor.org/event/pinocchio-the-musical/
LOCATION:Emerson Colonial Theatre\, 106 Boylston St.\, Boston\, MA\, 02116\, United States
CATEGORIES:Community Events
ATTACH;FMTTYPE=image/jpeg:https://www.centermakor.org/wp-content/uploads/2024/10/Pinocchio-poster.jpg
END:VEVENT
END:VCALENDAR