BEGIN:VCALENDAR
VERSION:2.0
PRODID:-//Center Makor - ECPv6.15.20//NONSGML v1.0//EN
CALSCALE:GREGORIAN
METHOD:PUBLISH
X-WR-CALNAME:Center Makor
X-ORIGINAL-URL:https://www.centermakor.org
X-WR-CALDESC:Events for Center Makor
REFRESH-INTERVAL;VALUE=DURATION:PT1H
X-Robots-Tag:noindex
X-PUBLISHED-TTL:PT1H
BEGIN:VTIMEZONE
TZID:America/New_York
BEGIN:DAYLIGHT
TZOFFSETFROM:-0500
TZOFFSETTO:-0400
TZNAME:EDT
DTSTART:20230312T070000
END:DAYLIGHT
BEGIN:STANDARD
TZOFFSETFROM:-0400
TZOFFSETTO:-0500
TZNAME:EST
DTSTART:20231105T060000
END:STANDARD
BEGIN:DAYLIGHT
TZOFFSETFROM:-0500
TZOFFSETTO:-0400
TZNAME:EDT
DTSTART:20240310T070000
END:DAYLIGHT
BEGIN:STANDARD
TZOFFSETFROM:-0400
TZOFFSETTO:-0500
TZNAME:EST
DTSTART:20241103T060000
END:STANDARD
BEGIN:DAYLIGHT
TZOFFSETFROM:-0500
TZOFFSETTO:-0400
TZNAME:EDT
DTSTART:20250309T070000
END:DAYLIGHT
BEGIN:STANDARD
TZOFFSETFROM:-0400
TZOFFSETTO:-0500
TZNAME:EST
DTSTART:20251102T060000
END:STANDARD
END:VTIMEZONE
BEGIN:VEVENT
DTSTART;TZID=America/New_York:20241119T190000
DTEND;TZID=America/New_York:20241119T210000
DTSTAMP:20260424T013920
CREATED:20241102T021913Z
LAST-MODIFIED:20241102T021926Z
UID:22442-1732042800-1732050000@www.centermakor.org
SUMMARY:Гала-концерт «100 лет Булату Окуджаве» в Бостоне
DESCRIPTION:Приглашаем вас на уникальный гала-концерт «100 лет Булату Окуджаве»\, который состоится 19 ноября в 7pm в Regent Theatre! \nБилеты по телефону 617-232-8820 или по ссылке: https://petropol.com/browse/fetch.php?id=183605&type=book \nЕго негромкие песни под гитару стали голосом совести\, а символом веры — «надежды маленький оркестрик под управлением любви». Он не был громогласным пророком — говорил без лозунгов и манифестов о простых истинах\, в которых люди находили утешение. Он пел не для того\, чтобы изменить мир\, а чтобы помочь нам услышать собственное дыхание и сердцебиение. \nПесни Окуджавы разительно отличались от всего официального и «разрешённого»\, утверждая\, что человеческая жизнь важнее побед\, идей и великих целей. \nНа сцене:\nСЕРГЕЙ НИКИТИН\nАЛЕКСАНДР НИКИТИН\nДМИТРИЙ БОГДАНОВ\nГАЛИНА ХОМЧИК\nДМИТРИЙ БЫКОВ\nАЛЕКСЕЙ ИВАЩЕНКО\nМАРИЯ ИВАЩЕНКО\nГАЛИНА БОЧКИНА\nОЛЬГА МУРАТОВА\nВЛАДИМИР МУЗЫКАНТОВ\nДЖАЗОВОЕ ТРИО STELLAR
URL:https://www.centermakor.org/event/okudzhava-100/
LOCATION:Regent Theatre\, 7 Medford Street\, Arlington\, MA\, 02474\, United States
CATEGORIES:Community Events
ATTACH;FMTTYPE=image/jpeg:https://www.centermakor.org/wp-content/uploads/2024/11/okudzhava.jpg
END:VEVENT
END:VCALENDAR