BEGIN:VCALENDAR
VERSION:2.0
PRODID:-//Center Makor - ECPv6.15.20//NONSGML v1.0//EN
CALSCALE:GREGORIAN
METHOD:PUBLISH
X-ORIGINAL-URL:https://www.centermakor.org
X-WR-CALDESC:Events for Center Makor
REFRESH-INTERVAL;VALUE=DURATION:PT1H
X-Robots-Tag:noindex
X-PUBLISHED-TTL:PT1H
BEGIN:VTIMEZONE
TZID:America/New_York
BEGIN:DAYLIGHT
TZOFFSETFROM:-0500
TZOFFSETTO:-0400
TZNAME:EDT
DTSTART:20230312T070000
END:DAYLIGHT
BEGIN:STANDARD
TZOFFSETFROM:-0400
TZOFFSETTO:-0500
TZNAME:EST
DTSTART:20231105T060000
END:STANDARD
BEGIN:DAYLIGHT
TZOFFSETFROM:-0500
TZOFFSETTO:-0400
TZNAME:EDT
DTSTART:20240310T070000
END:DAYLIGHT
BEGIN:STANDARD
TZOFFSETFROM:-0400
TZOFFSETTO:-0500
TZNAME:EST
DTSTART:20241103T060000
END:STANDARD
BEGIN:DAYLIGHT
TZOFFSETFROM:-0500
TZOFFSETTO:-0400
TZNAME:EDT
DTSTART:20250309T070000
END:DAYLIGHT
BEGIN:STANDARD
TZOFFSETFROM:-0400
TZOFFSETTO:-0500
TZNAME:EST
DTSTART:20251102T060000
END:STANDARD
END:VTIMEZONE
BEGIN:VEVENT
DTSTART;TZID=America/New_York:20241125T193000
DTEND;TZID=America/New_York:20241125T213000
DTSTAMP:20260424T031641
CREATED:20241028T163427Z
LAST-MODIFIED:20241028T163538Z
UID:22400-1732563000-1732570200@www.centermakor.org
SUMMARY:Paris Chansons in Boston
DESCRIPTION:Paris Chansons will be on tour in Boston for ONE night only!\nMonday\, November 25th\, 7:30PM at the City Winery! \nIt will be an unforgettable night of French music with an Eastern European gypsy twist! \nFeaturing favorites from Aznavour\, Dassin\, Piaf\, Macias\, Adamo\, Dalida\, Patricia Kaas\, Vaya Con Dios to Zaz PLUS some of the most beautiful Italian and Russian gypsy classics and more! \nINFO & TICKETS \n\n\nGet a taste of Paris Chansons! \n\n\nUn grand merci to @Amélie Belle and the @Boston French Community!
URL:https://www.centermakor.org/event/paris-chansons/
CATEGORIES:Community Events
ATTACH;FMTTYPE=image/jpeg:https://www.centermakor.org/wp-content/uploads/2024/10/paris-chansons-in-boston.jpg
END:VEVENT
END:VCALENDAR