BEGIN:VCALENDAR
VERSION:2.0
PRODID:-//Center Makor - ECPv6.15.20//NONSGML v1.0//EN
CALSCALE:GREGORIAN
METHOD:PUBLISH
X-ORIGINAL-URL:https://www.centermakor.org
X-WR-CALDESC:Events for Center Makor
REFRESH-INTERVAL;VALUE=DURATION:PT1H
X-Robots-Tag:noindex
X-PUBLISHED-TTL:PT1H
BEGIN:VTIMEZONE
TZID:America/New_York
BEGIN:DAYLIGHT
TZOFFSETFROM:-0500
TZOFFSETTO:-0400
TZNAME:EDT
DTSTART:20230312T070000
END:DAYLIGHT
BEGIN:STANDARD
TZOFFSETFROM:-0400
TZOFFSETTO:-0500
TZNAME:EST
DTSTART:20231105T060000
END:STANDARD
BEGIN:DAYLIGHT
TZOFFSETFROM:-0500
TZOFFSETTO:-0400
TZNAME:EDT
DTSTART:20240310T070000
END:DAYLIGHT
BEGIN:STANDARD
TZOFFSETFROM:-0400
TZOFFSETTO:-0500
TZNAME:EST
DTSTART:20241103T060000
END:STANDARD
BEGIN:DAYLIGHT
TZOFFSETFROM:-0500
TZOFFSETTO:-0400
TZNAME:EDT
DTSTART:20250309T070000
END:DAYLIGHT
BEGIN:STANDARD
TZOFFSETFROM:-0400
TZOFFSETTO:-0500
TZNAME:EST
DTSTART:20251102T060000
END:STANDARD
END:VTIMEZONE
BEGIN:VEVENT
DTSTART;TZID=America/New_York:20241201T170000
DTEND;TZID=America/New_York:20241201T190000
DTSTAMP:20260423T235705
CREATED:20241112T223656Z
LAST-MODIFIED:20241112T223656Z
UID:22545-1733072400-1733079600@www.centermakor.org
SUMMARY:Буратино
DESCRIPTION:Театр на крыше\nприглашает вас на спектакль \nБуратино\nдля детей с 4 лет \nСпектакль идёт с обновлённым составом! \nИстория настолько известна\, что и рассказывать не надо. В поисках золотого ключика Буратино встречает добрых и не очень героев\, заглядывает в страну Дураков и находит настоящий театр прямо в кaморке Папы Карло. Ваши дети познакомятся с героями «Буратино»: Мальвиной\, Пьеро\, Арлекино\, Карабасом Барабасом\, Черепахой Тортилой и многими другими\, услышат авторские песни под живое музыкальное сопровождение\, а\, главное\, получат море удовольствия! \nО спектакле \nЗаказать билеты! \n\nЦена билета $30\nВ цену билета включен буфет. \nВнимание! Оплата производится наличными при входе!
URL:https://www.centermakor.org/event/buratino-22/
LOCATION:Театр на крыше\, 50 Kearney Road\, Needham\, 02494\, United States
CATEGORIES:Community Events,Kids Events
ATTACH;FMTTYPE=image/png:https://www.centermakor.org/wp-content/uploads/2018/10/BuratinoAfisha.png
END:VEVENT
BEGIN:VEVENT
DTSTART;TZID=America/New_York:20241201T173000
DTEND;TZID=America/New_York:20241201T210000
DTSTAMP:20260423T235705
CREATED:20241119T192010Z
LAST-MODIFIED:20241119T192036Z
UID:22647-1733074200-1733086800@www.centermakor.org
SUMMARY:Holiday Magic by Candlelight
DESCRIPTION:Holiday Magic by Candlelight with Brio Sonores and Olga Lisovska\n✨ For the First Time: Anniversary Concert and Album Launch – Brio Sonores! 🎉 \n🎤Experience an extraordinary evening with Brio Sonores\, the award-winning Moldovan pop-opera sensation and winners of the 4th season of Romania’s Got Talent. Renowned for their unique crossover style\, Brio Sonores blends pop\, opera\, and traditional music in captivating performances.\nThis special event will feature critically-acclaimed soprano Olga Lisovska\, joining Brio Sonores on stage for beloved duets that will take your breath away. \nThis evening will not only be a musical journey but also an opportunity to hear the band’s new album for the first time. \nWe promise an emotional atmosphere\, filled with soul-stirring music that will reach beyond the stage\, straight to your hearts. Whether you’ve been long-time fans or are discovering this extraordinary group for the first time\, we guarantee it will be a magical experience! \n📅 Date: Sunday\, December 1\, 2024 at 6PM\n📍 Location: Newton City Hall – 1000 Commonwealth Ave\, Newton\, MA \nEvent Program:\n5:30 PM – 6:00 PM: 👐 Welcome!\n6:00 PM – 8:00 PM: 🎤 Brio Sonores Concert – A live\, exceptional performance\, including new songs from the album.\n8:00 PM – 9:00 PM: 📸 Reception\, Meet and Greet – Meet the Brio Sonores artists\, take photos\, and chat with them. \nThis is the perfect opportunity to meet the members of Brio Sonores in person\, take pictures with them\, and share the joy of this special anniversary moment. We look forward to welcoming you to this unique event! \n🎟️ Reserve your tickets now for $65 and be part of a night full of special moments and surprises! \nTICKETS
URL:https://www.centermakor.org/event/holiday-magic-by-candlelight/
LOCATION:Newton City Hall\, 1000 Commonwealth Avenue\, Newton\, MA\, 02459\, United States
CATEGORIES:Community Events
ATTACH;FMTTYPE=image/jpeg:https://www.centermakor.org/wp-content/uploads/2024/11/holiday-magic-candlelight.jpg
END:VEVENT
END:VCALENDAR