BEGIN:VCALENDAR
VERSION:2.0
PRODID:-//Center Makor - ECPv6.15.20//NONSGML v1.0//EN
CALSCALE:GREGORIAN
METHOD:PUBLISH
X-ORIGINAL-URL:https://www.centermakor.org
X-WR-CALDESC:Events for Center Makor
REFRESH-INTERVAL;VALUE=DURATION:PT1H
X-Robots-Tag:noindex
X-PUBLISHED-TTL:PT1H
BEGIN:VTIMEZONE
TZID:America/New_York
BEGIN:DAYLIGHT
TZOFFSETFROM:-0500
TZOFFSETTO:-0400
TZNAME:EDT
DTSTART:20240310T070000
END:DAYLIGHT
BEGIN:STANDARD
TZOFFSETFROM:-0400
TZOFFSETTO:-0500
TZNAME:EST
DTSTART:20241103T060000
END:STANDARD
BEGIN:DAYLIGHT
TZOFFSETFROM:-0500
TZOFFSETTO:-0400
TZNAME:EDT
DTSTART:20250309T070000
END:DAYLIGHT
BEGIN:STANDARD
TZOFFSETFROM:-0400
TZOFFSETTO:-0500
TZNAME:EST
DTSTART:20251102T060000
END:STANDARD
BEGIN:DAYLIGHT
TZOFFSETFROM:-0500
TZOFFSETTO:-0400
TZNAME:EDT
DTSTART:20260308T070000
END:DAYLIGHT
BEGIN:STANDARD
TZOFFSETFROM:-0400
TZOFFSETTO:-0500
TZNAME:EST
DTSTART:20261101T060000
END:STANDARD
END:VTIMEZONE
BEGIN:VEVENT
DTSTART;TZID=America/New_York:20250301T190000
DTEND;TZID=America/New_York:20250301T210000
DTSTAMP:20260422T184238
CREATED:20250201T225117Z
LAST-MODIFIED:20250201T225230Z
UID:23389-1740855600-1740862800@www.centermakor.org
SUMMARY:Алексей Иващенко. Один совсем один.
DESCRIPTION:Алексей Иващенко\nОдин совсем один\nАлексея Иващенко не нужно представлять любителям авторской песни – почти 40 лет назад они в дуэте с Георгием Васильевым (получившим в народе название «Иваси») взорвали привычный мир авторской песни\, наполнив его неожиданными гармониями и остроумными актуальными текстами. А в прошлом году в сентябре они – после почти 20-летнего перерыва – собрались вместе и дали большой концерт в Москве\, который посмотрели на YouTube почти полтора миллиона человек. \nАлексей уже больше 20 лет с успехом выступает с сольными программами. Он – автор нескольких сотен песен\, одинаково свободно чувствующий себя в самых разных жанрах – от городского романса до джаза\, от мюзикла до акустического рока\, он играет на гитаре в своём собственном\, ни на кого не похожем и всегда узнаваемом стиле. Алексей – соавтор мюзикла «Норд-Ост»\, автор русских текстов ко многим известным мюзиклам: «Призрак Оперы»\, «Шахматы»\, «Русалочка»\, «Золушка» и др.; автор либретто для оперетт и даже опер. \nВ программе «ОДИН СОВСЕМ ОДИН» прозвучат и очень старые\, уже хорошо знакомые зрителям\, и совсем новые песни; найдётся в программе место и песням для музыкального театра. \nБилеты по ссылке: https://petropol.com/browse/fetch.php?id=183995&type=book или по телефону 617-232-8820.
URL:https://www.centermakor.org/event/ivashenko-alone/
LOCATION:Bowen School\, 280 Cypress St\, Newton\, MA\, 02459\, United States
CATEGORIES:Community Events
ATTACH;FMTTYPE=image/jpeg:https://www.centermakor.org/wp-content/uploads/2025/02/один-совсем-один.jpg
END:VEVENT
BEGIN:VEVENT
DTSTART;TZID=America/New_York:20250301T193000
DTEND;TZID=America/New_York:20250301T213000
DTSTAMP:20260422T184238
CREATED:20250208T204741Z
LAST-MODIFIED:20250208T204852Z
UID:23473-1740857400-1740864600@www.centermakor.org
SUMMARY:Дочь русского актёра
DESCRIPTION:Премьера!\nТеатр на крыше\nприглашает вас на спектакль \nДочь русского актёра\nВодевиль с песнями\, танцами и переодеваниями \nГениальность актера Лисичкина поставлена под вопрос: его увольняют из театра. Обида выливается на родную дочь\, Верочку\, которую он хочет выдать замуж за отставного прапорщика\, дважды вдовца – Акакия Назарыча Ушицу. Верочку не вдохновляет роль деревенской отставной прапорщицы. Взяв в пособницы свою горничную\, Катерину\, талантливая девушка дурачит жениха и отца и находит выход из положения. Красочный водевиль с песнями\, танцами и переодеваниями будет интересен и взрослым\, и детям! В спектакле звучит живая музыка в исполнении Сергея Беляева. \n\nРЕЖИССЁР – Людмила Старобинец. \nО спектакле     Заказ билетов \n  \n\nЦена билета $50\, пенсионерам и студентам $35\nВ цену билета включен буфет. \nВнимание! Оплата производится наличными при входе!
URL:https://www.centermakor.org/event/doch-1/
LOCATION:Театр на крыше\, 50 Kearney Road\, Needham\, 02494\, United States
CATEGORIES:Community Events
ATTACH;FMTTYPE=image/jpeg:https://www.centermakor.org/wp-content/uploads/2025/02/Дочь-русского-актёра.jpg
END:VEVENT
END:VCALENDAR