BEGIN:VCALENDAR
VERSION:2.0
PRODID:-//Center Makor - ECPv6.15.20//NONSGML v1.0//EN
CALSCALE:GREGORIAN
METHOD:PUBLISH
X-ORIGINAL-URL:https://www.centermakor.org
X-WR-CALDESC:Events for Center Makor
REFRESH-INTERVAL;VALUE=DURATION:PT1H
X-Robots-Tag:noindex
X-PUBLISHED-TTL:PT1H
BEGIN:VTIMEZONE
TZID:America/New_York
BEGIN:DAYLIGHT
TZOFFSETFROM:-0500
TZOFFSETTO:-0400
TZNAME:EDT
DTSTART:20240310T070000
END:DAYLIGHT
BEGIN:STANDARD
TZOFFSETFROM:-0400
TZOFFSETTO:-0500
TZNAME:EST
DTSTART:20241103T060000
END:STANDARD
BEGIN:DAYLIGHT
TZOFFSETFROM:-0500
TZOFFSETTO:-0400
TZNAME:EDT
DTSTART:20250309T070000
END:DAYLIGHT
BEGIN:STANDARD
TZOFFSETFROM:-0400
TZOFFSETTO:-0500
TZNAME:EST
DTSTART:20251102T060000
END:STANDARD
BEGIN:DAYLIGHT
TZOFFSETFROM:-0500
TZOFFSETTO:-0400
TZNAME:EDT
DTSTART:20260308T070000
END:DAYLIGHT
BEGIN:STANDARD
TZOFFSETFROM:-0400
TZOFFSETTO:-0500
TZNAME:EST
DTSTART:20261101T060000
END:STANDARD
END:VTIMEZONE
BEGIN:VEVENT
DTSTART;TZID=America/New_York:20250308T110000
DTEND;TZID=America/New_York:20250308T140000
DTSTAMP:20260422T232032
CREATED:20250304T193413Z
LAST-MODIFIED:20250304T193413Z
UID:23753-1741431600-1741442400@www.centermakor.org
SUMMARY:Jewelry Exchange Fundraiser – Stand with Ukraine
DESCRIPTION:Дорогие друзья\, пока идут горячие споры… люди по-прежнему нуждаются в нашей помощи и поддержке. И финансовой\, и моральной. Возможно\, сейчас даже больше\, чем прежде\, так как многие государственные программы уже обрублены. \nЕсли есть время и возможность\, пожалуйста\, приходите на наш (www.RememberUs.org) очередной фандрейзер! \nИдея простая: все девушки могут принести свои лишние украшения на продажу\, и/или купить то\, что принесли другие.\nЗаодно выпить вместе чаю с конфетами и пообщаться. Сделать благотворительное пожертвование\, помочь кому-то\, кому сейчас труднее. \nСуббота 8 марта 2025\n11 am – 2 pm\n68 Hamilton Rd\, Belmont \nУ нас накопилось огромное количество разнообразных ювелирных украшений\, новых и винтажных\, из разных стран (включая Украину)\, уникальные дизайнерские вещи\, в самых разных стилях\, и на разный вкус. \nНа этот раз\, чтобы увеличить сбор\, я попрошу $20 за вход\, но не более $40 за группу – если вы придёте вместе с подружкой-другом\, или родственниками. \nКапля по капле камень точит\, давайте держаться друг друга и не унывать. \nВсех обнимаю\, до скорого\, увидимся!\nВаша Дорина \nP.S. Наши (www.RememberUs.org) недавние варианты помощи самым остро нуждающимся в Украине включали покупку и установку солнечных панелей для освещения; приготовление и доставку консервированных овощей; изготовление и доставку печек-буржуек. До этого мы посылали тёплую одежду\, детскую обувь\, школьные принадлежности\, бельё для госпиталей\, “походный” инвентарь. Сейчас мы фокусируемся на доставке медикаментов для пожилых людей. Этим занимается в Украине наша давно установившаяся команда волонтёров.
URL:https://www.centermakor.org/event/jewelry-exchange-fundraiser/
CATEGORIES:Community Events
ATTACH;FMTTYPE=image/jpeg:https://www.centermakor.org/wp-content/uploads/2025/03/jewelry-exchange-march-8-2025.jpg
END:VEVENT
BEGIN:VEVENT
DTSTART;TZID=America/New_York:20250308T160000
DTEND;TZID=America/New_York:20250308T180000
DTSTAMP:20260422T232033
CREATED:20250217T203707Z
LAST-MODIFIED:20250217T203707Z
UID:23599-1741449600-1741456800@www.centermakor.org
SUMMARY:Дмитрий Быков. Лекция для детей про Гарри Поттера.
DESCRIPTION:Дмитрий Быков \nЛекция для детей про Гарри Поттера\nБИЛЕТЫ без комиссии по телефону 617-232-8820. Так же их можно заказать послав нам платеж по Venmo: @Ilya-Klebanov или по PayPal: petropolbooks@gmail.com с комментарием “Быков Гарри Поттер + ваш имэйл”. Цена: $40. \nДмитрий Быков — писатель\, поэт\, журналист\, лектор\, сценарист\, кинокритик\, лауреат литературных премий\, преподаватель русского языка и литературы\, — прочитает лекцию для детей и взрослых о Мальчике-Который-Выжил и поделится своими рассуждениями о книгах Джоан Роулинг как о литературном\, социальном и историческом феномене. Эта встреча будет очень полезна для укрепления семейных связей и последующих бесед между родителями и детьми! \nПервая книга вышла более 25 лет назад\, и теперь уже кажется\, что Гарри Поттер был с нами всегда. Как Джоан Роулинг удалось создать такого любимого всеми персонажа\, при этом — совсем не идеального? Как наша жизнь отражена в саге? Какая связь существует между персонажами поттерианы и реальными историческими деятелями\, а также героями других книг? Может ли Хогвартс существовать в реальном мире? Обсудим на нескучной лекции о главном волшебнике нашего времени.
URL:https://www.centermakor.org/event/bykov-harry-potter/
LOCATION:Bowen School\, 280 Cypress St\, Newton\, MA\, 02459\, United States
ATTACH;FMTTYPE=image/jpeg:https://www.centermakor.org/wp-content/uploads/2025/02/быков-гарри-поттер.jpg
END:VEVENT
BEGIN:VEVENT
DTSTART;TZID=America/New_York:20250308T193000
DTEND;TZID=America/New_York:20250308T223000
DTSTAMP:20260422T232033
CREATED:20250208T205538Z
LAST-MODIFIED:20250208T205728Z
UID:23474-1741462200-1741473000@www.centermakor.org
SUMMARY:Сердцу не прикажешь
DESCRIPTION:Театр-студия «Субъект»\,\nиз Вильнюса\,\nучастник международного фестиваля русскоязычных театров в Варне\nв гостях у Театра на крыше \nСердцу не прикажешь\nСатирические театральные новеллы по рассказам Аркадия Аверченко \nСуббота\, 8 марта\, 7:30\nВоскресенье\, 9 марта\, 6:00 \nРуководитель и режиссер – Светлана Баранаускене \nО спектакле     Заказ билетов \n  \n\nЦена билета $50\, пенсионерам и студентам $35\nВ цену билета включен буфет. \nВнимание! Оплата производится наличными при входе!
URL:https://www.centermakor.org/event/serdce-1/
LOCATION:Театр на крыше\, 50 Kearney Road\, Needham\, 02494\, United States
CATEGORIES:Community Events
ATTACH;FMTTYPE=image/jpeg:https://www.centermakor.org/wp-content/uploads/2025/02/Subject-Serdce-flyer.jpg
END:VEVENT
END:VCALENDAR