BEGIN:VCALENDAR
VERSION:2.0
PRODID:-//Center Makor - ECPv6.15.20//NONSGML v1.0//EN
CALSCALE:GREGORIAN
METHOD:PUBLISH
X-WR-CALNAME:Center Makor
X-ORIGINAL-URL:https://www.centermakor.org
X-WR-CALDESC:Events for Center Makor
REFRESH-INTERVAL;VALUE=DURATION:PT1H
X-Robots-Tag:noindex
X-PUBLISHED-TTL:PT1H
BEGIN:VTIMEZONE
TZID:America/New_York
BEGIN:DAYLIGHT
TZOFFSETFROM:-0500
TZOFFSETTO:-0400
TZNAME:EDT
DTSTART:20240310T070000
END:DAYLIGHT
BEGIN:STANDARD
TZOFFSETFROM:-0400
TZOFFSETTO:-0500
TZNAME:EST
DTSTART:20241103T060000
END:STANDARD
BEGIN:DAYLIGHT
TZOFFSETFROM:-0500
TZOFFSETTO:-0400
TZNAME:EDT
DTSTART:20250309T070000
END:DAYLIGHT
BEGIN:STANDARD
TZOFFSETFROM:-0400
TZOFFSETTO:-0500
TZNAME:EST
DTSTART:20251102T060000
END:STANDARD
BEGIN:DAYLIGHT
TZOFFSETFROM:-0500
TZOFFSETTO:-0400
TZNAME:EDT
DTSTART:20260308T070000
END:DAYLIGHT
BEGIN:STANDARD
TZOFFSETFROM:-0400
TZOFFSETTO:-0500
TZNAME:EST
DTSTART:20261101T060000
END:STANDARD
END:VTIMEZONE
BEGIN:VEVENT
DTSTART;TZID=America/New_York:20250313T190000
DTEND;TZID=America/New_York:20250314T190000
DTSTAMP:20260422T184156
CREATED:20250304T204238Z
LAST-MODIFIED:20250304T204312Z
UID:23757-1741892400-1741978800@www.centermakor.org
SUMMARY:Absolut Purim
DESCRIPTION:Dear Friend\, \nWho doesn’t love Purim? Costumes\, feasts\, edible gifts and levity. What’s there not to love? \nThe extreme joy of Purim came after some extremely challenging times. As recounted in the Scroll of Esther (which we read on Purim eve and then the following day)\, the Jews of Persia were under dire threat of extermination\, saved by a divinely orchestrated combination of serendipity\, bravery\, and faith. \nJoin us as we pray that—like our ancestors in Persia—the world experiences a turnaround so drastic\, so breathtakingly absolute\, only G-d could have arranged it! \n\n\nAbsolut Purim – Thursday\, March 13 @ 7pm. No RSVPs necessary.\nPurim Shabbat Feast – Friday\, March 14 @ 5pm – $40 per adult\, $15 per child\, max $110 per family\nEvent sponsor – $180\, $360\, $540 \nRegister for our Purim Feast \nWith wishes for a happy (and healthy!) Purim\, \n– Rabbi Dan Rodkin
URL:https://www.centermakor.org/event/absolut-purim/
LOCATION:Shaloh House Jewish Russian Center\, 29 Chestnut Avenue\, Brighton\, MA\, United States
CATEGORIES:Community Events
ATTACH;FMTTYPE=image/webp:https://www.centermakor.org/wp-content/uploads/2025/03/GBSS13125672.webp
END:VEVENT
END:VCALENDAR