BEGIN:VCALENDAR
VERSION:2.0
PRODID:-//Center Makor - ECPv6.15.20//NONSGML v1.0//EN
CALSCALE:GREGORIAN
METHOD:PUBLISH
X-WR-CALNAME:Center Makor
X-ORIGINAL-URL:https://www.centermakor.org
X-WR-CALDESC:Events for Center Makor
REFRESH-INTERVAL;VALUE=DURATION:PT1H
X-Robots-Tag:noindex
X-PUBLISHED-TTL:PT1H
BEGIN:VTIMEZONE
TZID:America/New_York
BEGIN:DAYLIGHT
TZOFFSETFROM:-0500
TZOFFSETTO:-0400
TZNAME:EDT
DTSTART:20240310T070000
END:DAYLIGHT
BEGIN:STANDARD
TZOFFSETFROM:-0400
TZOFFSETTO:-0500
TZNAME:EST
DTSTART:20241103T060000
END:STANDARD
BEGIN:DAYLIGHT
TZOFFSETFROM:-0500
TZOFFSETTO:-0400
TZNAME:EDT
DTSTART:20250309T070000
END:DAYLIGHT
BEGIN:STANDARD
TZOFFSETFROM:-0400
TZOFFSETTO:-0500
TZNAME:EST
DTSTART:20251102T060000
END:STANDARD
BEGIN:DAYLIGHT
TZOFFSETFROM:-0500
TZOFFSETTO:-0400
TZNAME:EDT
DTSTART:20260308T070000
END:DAYLIGHT
BEGIN:STANDARD
TZOFFSETFROM:-0400
TZOFFSETTO:-0500
TZNAME:EST
DTSTART:20261101T060000
END:STANDARD
END:VTIMEZONE
BEGIN:VEVENT
DTSTART;TZID=America/New_York:20250317T193000
DTEND;TZID=America/New_York:20250317T203000
DTSTAMP:20260422T183736
CREATED:20250310T033825Z
LAST-MODIFIED:20250310T033825Z
UID:23798-1742239800-1742243400@www.centermakor.org
SUMMARY:Jewish Emigration from the Soviet Union
DESCRIPTION:Jewish Emigration from the Soviet Union:\nStories of Emigrants from the 70s and 80s\nMonday\, March 17 @ 7:30-8:30pm at Shaloh House\, 29 Chestnut Hill Ave\, Brighton. Free. \nJoin us for a very interesting evening. Yanina Kisler will be presenting her new book “They Were Fighters: Oral Histories of Jews Leaving the Soviet Union”. The presentation is in English. \nBorn in Soviet Ukraine\, Yanina emigrated to the U.S. in 1977 as a teenager. Recently\, she completed an extensive project interviewing over 100 Jews who emigrated from the Soviet Union in the 1970s and 1980s. These oral histories shed light on a unique emigration story—one driven not by immediate physical danger but by a profound desire to escape antisemitism and political oppression. Her goal is to share these stories and help audiences (children and grandchildren of immigrants\, as well as anyone interested in the 20th century history of Jews) understand this pivotal yet often misunderstood chapter of Jewish history. \nThe book is available on Amazon for purchase. \nPURCHASE
URL:https://www.centermakor.org/event/jewish-emigration-from-the-soviet-union/
LOCATION:Shaloh House Jewish Russian Center\, 29 Chestnut Avenue\, Brighton\, MA\, United States
CATEGORIES:Community Events
ATTACH;FMTTYPE=image/jpeg:https://www.centermakor.org/wp-content/uploads/2025/03/yanina-kissler.jpg
END:VEVENT
END:VCALENDAR