BEGIN:VCALENDAR
VERSION:2.0
PRODID:-//Center Makor - ECPv6.15.20//NONSGML v1.0//EN
CALSCALE:GREGORIAN
METHOD:PUBLISH
X-ORIGINAL-URL:https://www.centermakor.org
X-WR-CALDESC:Events for Center Makor
REFRESH-INTERVAL;VALUE=DURATION:PT1H
X-Robots-Tag:noindex
X-PUBLISHED-TTL:PT1H
BEGIN:VTIMEZONE
TZID:America/New_York
BEGIN:DAYLIGHT
TZOFFSETFROM:-0500
TZOFFSETTO:-0400
TZNAME:EDT
DTSTART:20240310T070000
END:DAYLIGHT
BEGIN:STANDARD
TZOFFSETFROM:-0400
TZOFFSETTO:-0500
TZNAME:EST
DTSTART:20241103T060000
END:STANDARD
BEGIN:DAYLIGHT
TZOFFSETFROM:-0500
TZOFFSETTO:-0400
TZNAME:EDT
DTSTART:20250309T070000
END:DAYLIGHT
BEGIN:STANDARD
TZOFFSETFROM:-0400
TZOFFSETTO:-0500
TZNAME:EST
DTSTART:20251102T060000
END:STANDARD
BEGIN:DAYLIGHT
TZOFFSETFROM:-0500
TZOFFSETTO:-0400
TZNAME:EDT
DTSTART:20260308T070000
END:DAYLIGHT
BEGIN:STANDARD
TZOFFSETFROM:-0400
TZOFFSETTO:-0500
TZNAME:EST
DTSTART:20261101T060000
END:STANDARD
END:VTIMEZONE
BEGIN:VEVENT
DTSTART;TZID=America/New_York:20250329T193000
DTEND;TZID=America/New_York:20250329T213000
DTSTAMP:20260422T214958
CREATED:20250304T060111Z
LAST-MODIFIED:20250304T060111Z
UID:23741-1743276600-1743283800@www.centermakor.org
SUMMARY:Slava Tolstoy & Rob Flax. Violin/guitar/songs in Russian and English.
DESCRIPTION:Объездив с гастролями пол Америки Слава и Роб сыграют долгожданный концерт дома\, в Бостоне (Needham\, MA)! \nРезервируйте места заранее – это камерный зал\, кол-во мест ограничено! \nEARLY BIRD SPECIAL:\n$40 – until March 8\n$45 – March 8-28\n$50 – Day of the show (March 29)\nBuy ticket’s electronically by: Venmo\, PayPal or Zelle.\nPlease make sure to mention the name of the main person who will be attending and how many people will be with him / her – so we will have it all on the list correctly.\nVenmo to: Sviatoslav-Tolstoy\nZelle to (if you have BoA account): 617-966-7947\nPaypal to: stolstoy@yahoo.com\nPlease make sure to select “Family and Friends” option to avoid fees on paypal.\nPlease contact our team with any questions / for any additional information by email: top40songs@yahoo.com \nСлава Толстой и Роб Флэкс много лет активно гастролируют по США с различными проектами (International String Trio\, Федор Чистяков and Boom Chick Trio). Оба – виртуозы на своих инструментах (гитара и скрипка) а также певцы с уникальным тембрами голосов. На их концертах вы услышите песни на русском и английском – умные\, грустные\, серьезные и смешные\, а также виртуозные импровизации. Хорошее настроение и заряд энергии – гарантированы! \nСлава Толстой – гитарист\, певец\, продюсер из Бостона\, известен по выступлениям и записям с Федором Чистяковым (Ноль) и Борисом Пелехом (Gogol Bordello). Объездил с гастролями США со своим инструментальным проектом “International String Trio”. В 2021 году Слава выпустил альбом “Песни Про Море”\, его уникальный стиль можно описать как мелодичный поп-рок с элементами джаза и классики\, виртуозными соло и глубокими текстами. С самого начала войны Слава занял активную про-Украинскую позицию – участвовал в фандрэйзерах и дал много сольных концертов в поддержку Украины в разных городах Америки\, а также в Берлине и Монреале. Осенью 2022 года выпустил анти-военный сингл и видео “Ты Вне” которые встречают теплый прием и отзывы в музыкальных кругах по всему миру (А. Троицкий\, М. Козырев\, Новая Газета. Европа). Выпускник престижного колледжа музыки Беркли (Бостон\, США) Слава комфортно себя чувствует в самых разных стилях (цыганский джаз и классика\, рок и этническая музыка)\, и все это находит отражение в его песнях. \nRob Flax – отмеченный множеством наград мультиинструменталист\, композитор и педагог. Его богатая палитра жанров распространяется от классической и джазовой скрипки до рока\, блюграсс-скрипки\, смелой блюзовой импровизации\, и не только. Он также известен тем\, что часто использует спецэффекты типа дисторшн и овердрайв на скрипке\, благодаря этому она начинает звучать как электрогитара! \nРоб выступал на национальном и международном уровнях с группами самых разных стилей\, в том числе на разогреве у B.B. King and Tower of Power\, играл на альте и скрипке с Trans Siberian Orchestra и звездой YouTube – Jacob Collier\, на контрабасе в Ансамбле Аргентинского Танго\, на мандолине и скрипке в различных блюграсс-группах\, на электрической скрипке и синтезаторах у Billy Wylder и несколько других рок-групп\, сотрудничал с современными танцорами и многое другое. \nКак композитор Роб написал музыку для хореографов и фильмов (включая работу над проектами для James Franco and Anthony Bourdain) и нескольких оригинальных проектов.Роб окончил престижный музыкальный колледж New England Conservatory of Music и в настоящее время живет в Бостоне. \nVIDEOS:\nRob and Slava Together:\nThe Blue Boa / Голубой Удав – https://youtu.be/D9YqaVL_zUY\nHere’s Another Window (Live at Club Passim) – https://youtu.be/ayOLzwv3oRM\nТополя / Poplar Trees – https://youtu.be/GTVDX7BK0CM\nAll Of Me – Rob Flax’s Boom Chick Trio – https://youtu.be/YP1lYUNl-j0?si=e3GsYOh6QQohZ1PR\nHey Baby – Rob Flax’s song / Fedor Chistyakov’s show @ Echo Festival 2019 – https://youtu.be/Y68Ir-db1VI?si=zFSSqvi7eVW5Vk0E\n365th of February / 365-го Февраля – https://youtu.be/7XUYwNAtJuA \nSlava Tolstoy’s songs:\nТы Вне / You’re Out – https://youtu.be/tQnTfbhR9QQ\nБоевые Комары / The Warrior Mosquitoes – https://youtu.be/iY6QuTH6nSg\nОни Остались Там / They Stayed Behind – https://youtu.be/Y4IlqFMZCDU\nЗолотые Костры / Golden Fires – https://youtu.be/fIJSN77wQYI \nSlava Tolstoy’s websites:\nYOUTUBE: https://youtube.com/slavatol\nFACEBOOK: https://www.facebook.com/SlavaTolstoyMusic\nSPOTIFY: https://open.spotify.com/artist/5wpbDoLjF8vJgUYCAS1KRh\nRob Flax’s website: www.robflax.com
URL:https://www.centermakor.org/event/tolstoy-flax/
LOCATION:Театр на крыше\, 50 Kearney Road\, Needham\, 02494\, United States
CATEGORIES:Community Events
ATTACH;FMTTYPE=image/jpeg:https://www.centermakor.org/wp-content/uploads/2025/03/ST-and-Rob-.jpg
END:VEVENT
END:VCALENDAR