BEGIN:VCALENDAR
VERSION:2.0
PRODID:-//Center Makor - ECPv6.15.20//NONSGML v1.0//EN
CALSCALE:GREGORIAN
METHOD:PUBLISH
X-WR-CALNAME:Center Makor
X-ORIGINAL-URL:https://www.centermakor.org
X-WR-CALDESC:Events for Center Makor
REFRESH-INTERVAL;VALUE=DURATION:PT1H
X-Robots-Tag:noindex
X-PUBLISHED-TTL:PT1H
BEGIN:VTIMEZONE
TZID:America/New_York
BEGIN:DAYLIGHT
TZOFFSETFROM:-0500
TZOFFSETTO:-0400
TZNAME:EDT
DTSTART:20240310T070000
END:DAYLIGHT
BEGIN:STANDARD
TZOFFSETFROM:-0400
TZOFFSETTO:-0500
TZNAME:EST
DTSTART:20241103T060000
END:STANDARD
BEGIN:DAYLIGHT
TZOFFSETFROM:-0500
TZOFFSETTO:-0400
TZNAME:EDT
DTSTART:20250309T070000
END:DAYLIGHT
BEGIN:STANDARD
TZOFFSETFROM:-0400
TZOFFSETTO:-0500
TZNAME:EST
DTSTART:20251102T060000
END:STANDARD
BEGIN:DAYLIGHT
TZOFFSETFROM:-0500
TZOFFSETTO:-0400
TZNAME:EDT
DTSTART:20260308T070000
END:DAYLIGHT
BEGIN:STANDARD
TZOFFSETFROM:-0400
TZOFFSETTO:-0500
TZNAME:EST
DTSTART:20261101T060000
END:STANDARD
END:VTIMEZONE
BEGIN:VEVENT
DTSTART;TZID=America/New_York:20250330T150000
DTEND;TZID=America/New_York:20250330T170000
DTSTAMP:20260422T200104
CREATED:20250304T204910Z
LAST-MODIFIED:20250304T204937Z
UID:23760-1743346800-1743354000@www.centermakor.org
SUMMARY:Waltham Philharmonic Orchestra March 30 Premiere of Ukrainian Symphony
DESCRIPTION:Waltham Philharmonic Orchestra\nMichael Korn\, Music Director\nMarch Concert\nSunday\, March 30\, 3:00 PM\nWaltham Government Center\n119 School Street\, Waltham MA 02451 \nProgram:\nSilvestri: Back to the Future Suite\nFrolyak: Symphony No. 2 (U. S. Premiere)\nBruch: Violin Concerto No. 1\nLillian Arnold Mages\, soloist \nTickets $20 Adults; Children ages 5-17 admitted free with paying adult. \nTickets sold online only at https://www.eventbrite.com/e/march-concert-tickets-975161693877?aff=oddtdtcreator \nTICKETS \nFrolyak’s work is of great significance. Aspects of her artistry are described below: \n“Many of B. Frolyak’s works offer imaginary scenarios of overcoming the enemy and bringing about the victory for Ukraine through the symbolic victory of light over darkness in the sound continuum… \nThe distinctive features of B. Frolyak’s postmodern worldview are the presence in her works of elements of different eras and styles from Baroque to Impressionism\, allusions to the music of W. A. Mozart\, V. Sylvestrov\, etc. It is emphasized that the main goal of Ukrainian art during the war is to establish the Ukrainian cultural identity and stimulate the interest of the European and world community in Ukraine through active cultural diplomacy\, and this is the goal of the leading Ukrainian composers\, including Bohdan Frolyak.” \nSource: Berehova\, Olena. (2024). Art as a Weapon: The Works of Composer Bohdana Frolyak During the Russia–Ukraine War. ARTISTIC CULTURE. TOPICAL ISSUES. 81-87. 10.31500/1992-5514.20(2).2024.318254.
URL:https://www.centermakor.org/event/ukrainian-symphony/
CATEGORIES:Community Events
ATTACH;FMTTYPE=image/jpeg:https://www.centermakor.org/wp-content/uploads/2025/03/WPO_03-30-25_Flyer.jpg
END:VEVENT
BEGIN:VEVENT
DTSTART;TZID=America/New_York:20250330T170000
DTEND;TZID=America/New_York:20250330T183000
DTSTAMP:20260422T200104
CREATED:20250215T053334Z
LAST-MODIFIED:20250215T053334Z
UID:23574-1743354000-1743359400@www.centermakor.org
SUMMARY:Три поросёнка
DESCRIPTION:Театр на крыше\nприглашает вас на спектакль \nТри поросёнка\nМузыкальная сказка для детей с 3 лет \nСамый подходящий спектакль для первого похода в театр! \n\nО спектакле \n\nЗаказать билеты! \n\n\n\nЦена билета $35\nВнимание! Оплата производится наличными при входе! \n\nВ нашем камерном театре мало мест. Билеты закончатся очень быстро. Если вы хотите посмотреть – не откладывайте заказ билетов. А если вы почему-либо не можете прийти на спектакль – не забудьте отменить ваш заказ.
URL:https://www.centermakor.org/event/three-little-pigs-14/
LOCATION:Театр на крыше\, 50 Kearney Road\, Needham\, 02494\, United States
CATEGORIES:Community Events,Kids Events
ATTACH;FMTTYPE=image/jpeg:https://www.centermakor.org/wp-content/uploads/2024/02/Три-поросёнка.jpg
END:VEVENT
END:VCALENDAR