BEGIN:VCALENDAR
VERSION:2.0
PRODID:-//Center Makor - ECPv6.15.20//NONSGML v1.0//EN
CALSCALE:GREGORIAN
METHOD:PUBLISH
X-ORIGINAL-URL:https://www.centermakor.org
X-WR-CALDESC:Events for Center Makor
REFRESH-INTERVAL;VALUE=DURATION:PT1H
X-Robots-Tag:noindex
X-PUBLISHED-TTL:PT1H
BEGIN:VTIMEZONE
TZID:America/New_York
BEGIN:DAYLIGHT
TZOFFSETFROM:-0500
TZOFFSETTO:-0400
TZNAME:EDT
DTSTART:20240310T070000
END:DAYLIGHT
BEGIN:STANDARD
TZOFFSETFROM:-0400
TZOFFSETTO:-0500
TZNAME:EST
DTSTART:20241103T060000
END:STANDARD
BEGIN:DAYLIGHT
TZOFFSETFROM:-0500
TZOFFSETTO:-0400
TZNAME:EDT
DTSTART:20250309T070000
END:DAYLIGHT
BEGIN:STANDARD
TZOFFSETFROM:-0400
TZOFFSETTO:-0500
TZNAME:EST
DTSTART:20251102T060000
END:STANDARD
BEGIN:DAYLIGHT
TZOFFSETFROM:-0500
TZOFFSETTO:-0400
TZNAME:EDT
DTSTART:20260308T070000
END:DAYLIGHT
BEGIN:STANDARD
TZOFFSETFROM:-0400
TZOFFSETTO:-0500
TZNAME:EST
DTSTART:20261101T060000
END:STANDARD
END:VTIMEZONE
BEGIN:VEVENT
DTSTART;TZID=America/New_York:20250404T190000
DTEND;TZID=America/New_York:20250404T203000
DTSTAMP:20260422T184243
CREATED:20250324T205920Z
LAST-MODIFIED:20250324T205920Z
UID:23970-1743793200-1743798600@www.centermakor.org
SUMMARY:Not Born for War: Front Line Stories
DESCRIPTION:Not Born for War\nFront Line Stories\nThis event provides a unique opportunity to hear frank stories from the frontlines of Ukraine’s fight for freedom and its right to determine its own future. \nPlease come and support these soldiers and share the information about this event with your friends. \nDuring the performance\, English subtitles will be available and translators will be present for the question-and-answer session. Please see additional details below: \nNot Born for War \n\nA theatrical performance that provides an immersive look into the daily lives of Ukrainian fighters on the front lines\, sharing their realities\, challenges\, and resilience.\nA Question-and-Answer session will follow the performance.\nThe performance is in Ukrainian with English subtitles available. (+14 age appropriate)\n\nFriday April 4th 7-8:30 PM\nSt Andrew Ukrainian Orthodox Church (Hall)\n24 Orchardhill Rd\, Jamaica Plain\, MA 02130-3725\nTickets: $35 \nTICKETS \n(all proceeds will be transferred to the needs of the 3rd Separate Assault Brigade) \nFor additional event Info see ukrainiancenter.org or newwave4.org/item/project/266.\nFor questions email IrynaRozdolska.new.wave@gmail.com or UkrainianCenter.Boston@gmail.com. \n📽️ You can watch a video about the performance at story.ab3.army \nBackground Information:\nThis event is sponsored by local non-profit organizations.\nOur event is part of a national tour organized jointly by New Wave and the Ukrainian Congress Committee of America.
URL:https://www.centermakor.org/event/not-born-for-war/
CATEGORIES:Community Events
ATTACH;FMTTYPE=image/jpeg:https://www.centermakor.org/wp-content/uploads/2025/03/Outlook-zejlerx1.jpg
END:VEVENT
END:VCALENDAR