BEGIN:VCALENDAR
VERSION:2.0
PRODID:-//Center Makor - ECPv6.15.20//NONSGML v1.0//EN
CALSCALE:GREGORIAN
METHOD:PUBLISH
X-ORIGINAL-URL:https://www.centermakor.org
X-WR-CALDESC:Events for Center Makor
REFRESH-INTERVAL;VALUE=DURATION:PT1H
X-Robots-Tag:noindex
X-PUBLISHED-TTL:PT1H
BEGIN:VTIMEZONE
TZID:America/New_York
BEGIN:DAYLIGHT
TZOFFSETFROM:-0500
TZOFFSETTO:-0400
TZNAME:EDT
DTSTART:20240310T070000
END:DAYLIGHT
BEGIN:STANDARD
TZOFFSETFROM:-0400
TZOFFSETTO:-0500
TZNAME:EST
DTSTART:20241103T060000
END:STANDARD
BEGIN:DAYLIGHT
TZOFFSETFROM:-0500
TZOFFSETTO:-0400
TZNAME:EDT
DTSTART:20250309T070000
END:DAYLIGHT
BEGIN:STANDARD
TZOFFSETFROM:-0400
TZOFFSETTO:-0500
TZNAME:EST
DTSTART:20251102T060000
END:STANDARD
BEGIN:DAYLIGHT
TZOFFSETFROM:-0500
TZOFFSETTO:-0400
TZNAME:EDT
DTSTART:20260308T070000
END:DAYLIGHT
BEGIN:STANDARD
TZOFFSETFROM:-0400
TZOFFSETTO:-0500
TZNAME:EST
DTSTART:20261101T060000
END:STANDARD
END:VTIMEZONE
BEGIN:VEVENT
DTSTART;TZID=America/New_York:20250429T083000
DTEND;TZID=America/New_York:20250429T093000
DTSTAMP:20260423T004641
CREATED:20250422T235618Z
LAST-MODIFIED:20250422T235618Z
UID:24311-1745915400-1745919000@www.centermakor.org
SUMMARY:In Conversation with Hen Mazzig
DESCRIPTION:In Conversation with Hen Mazzig\nTuesday\, April 29 | 8:30–9:30 a.m. ET\nVirtual event via Zoom \nREGISTER & LEARN MORE \nJoin us for an illuminating conversation between acclaimed Israeli author and activist Hen Mazzig and CJP’s Dr. Sarah Abramson\, Executive Vice President\, Strategy and Impact\, as they address the role of media in shaping public perception of Israel post October 7\, intersectionality and identity\, and how these and other topics are informing discourse. \nHen Mazzig brings a unique perspective as both a writer and a former IDF humanitarian officer with firsthand experience in the region. As the son of Jewish refugees from Iraq and North Africa and a globally recognized speaker\, educator\, author\, LGBTQIA+ activist\, and digital influencer\, he provides important context to conversations about Israel that often go unheard. \nIf you have any questions or need special accommodations\, please contact Dani.
URL:https://www.centermakor.org/event/in-conversation-with-hen-mazzig/
CATEGORIES:Community Events,Online Events
ATTACH;FMTTYPE=image/jpeg:https://www.centermakor.org/wp-content/uploads/2025/04/in-conversation-with-hen-mazzig.jpg
ORGANIZER;CN="Combined Jewish Philanthropies":MAILTO:info@cjp.org
END:VEVENT
END:VCALENDAR