BEGIN:VCALENDAR
VERSION:2.0
PRODID:-//Center Makor - ECPv6.15.20//NONSGML v1.0//EN
CALSCALE:GREGORIAN
METHOD:PUBLISH
X-WR-CALNAME:Center Makor
X-ORIGINAL-URL:https://www.centermakor.org
X-WR-CALDESC:Events for Center Makor
REFRESH-INTERVAL;VALUE=DURATION:PT1H
X-Robots-Tag:noindex
X-PUBLISHED-TTL:PT1H
BEGIN:VTIMEZONE
TZID:America/New_York
BEGIN:DAYLIGHT
TZOFFSETFROM:-0500
TZOFFSETTO:-0400
TZNAME:EDT
DTSTART:20240310T070000
END:DAYLIGHT
BEGIN:STANDARD
TZOFFSETFROM:-0400
TZOFFSETTO:-0500
TZNAME:EST
DTSTART:20241103T060000
END:STANDARD
BEGIN:DAYLIGHT
TZOFFSETFROM:-0500
TZOFFSETTO:-0400
TZNAME:EDT
DTSTART:20250309T070000
END:DAYLIGHT
BEGIN:STANDARD
TZOFFSETFROM:-0400
TZOFFSETTO:-0500
TZNAME:EST
DTSTART:20251102T060000
END:STANDARD
BEGIN:DAYLIGHT
TZOFFSETFROM:-0500
TZOFFSETTO:-0400
TZNAME:EDT
DTSTART:20260308T070000
END:DAYLIGHT
BEGIN:STANDARD
TZOFFSETFROM:-0400
TZOFFSETTO:-0500
TZNAME:EST
DTSTART:20261101T060000
END:STANDARD
END:VTIMEZONE
BEGIN:VEVENT
DTSTART;TZID=America/New_York:20250501T200000
DTEND;TZID=America/New_York:20250501T220000
DTSTAMP:20260423T005537
CREATED:20250227T154620Z
LAST-MODIFIED:20250227T154620Z
UID:23701-1746129600-1746136800@www.centermakor.org
SUMMARY:Концерт памяти Юрия Визбора
DESCRIPTION:Концерт памяти Юрия Визбора\nМы будем рассказывать друг другу истории\, написанные Юрием Визбором\, как он рассказывал их сам. Под гитару\, но не только. БИЛЕТЫ по телефону 617-232-8820. \nНа сцене будут выступать Вениамин Смехов\, Сергей Никитин\, Алексей и Мария Иващенко\, Дмитрий Богданов\, Тимур Шаов\, Галина и Алексей Хомчики\, Артем Лысков и музыканты джазового трио Stellar! \nБилеты без комиссии можно заказать по телефону 617-232-8820. Билеты с комиссией – eventbrite.com/e/1261646772459 \n«Разрешите вам напомнить о себе» – так мы назвали добрую беседу с близкими людьми\, которые соберутся в этот вечер вместе на сцене и в зале. Мы будем рассказывать друг другу истории\, написанные Юрием Визбором\, как он рассказывал их сам. Под гитару\, но не только. Визбор не был бунтарем\, как Высоцкий\, или философом\, как Окуджава. Скорее как Синатра\, певец обычного человеческого существования\, наполненного дружбой\, добротой и романтикой. Прошлым летом ему исполнилось 90. А в 50 он ушел в лыжной куртке и шапке с помпоном к своим далеким вершинам\, оставив нам песни\, чтобы не забывали. Мы и не забываем\, поем. Заходите вечером в гости\, берите с собой друзей и родных. Давайте проведем эти три часа вместе\, споем его песни\, поговорим\, отметим его юбилей. Искренне ваши\, Вениамин Смехов\, Сергей Никитин\, Алексей и Мария Иващенко\, Дмитрий Богданов\, Тимур Шаов\, Галина и Алексей Хомчики\, Артем Лысков и музыканты джазового трио Stellar.
URL:https://www.centermakor.org/event/vizbor/
LOCATION:John Hancock Hall\, 180 Berkely Street\, Boston\, MA\, 02116\, United States
CATEGORIES:Community Events
ATTACH;FMTTYPE=image/jpeg:https://www.centermakor.org/wp-content/uploads/2025/02/vizbor.jpg
END:VEVENT
END:VCALENDAR