BEGIN:VCALENDAR
VERSION:2.0
PRODID:-//Center Makor - ECPv6.15.20//NONSGML v1.0//EN
CALSCALE:GREGORIAN
METHOD:PUBLISH
X-ORIGINAL-URL:https://www.centermakor.org
X-WR-CALDESC:Events for Center Makor
REFRESH-INTERVAL;VALUE=DURATION:PT1H
X-Robots-Tag:noindex
X-PUBLISHED-TTL:PT1H
BEGIN:VTIMEZONE
TZID:America/New_York
BEGIN:DAYLIGHT
TZOFFSETFROM:-0500
TZOFFSETTO:-0400
TZNAME:EDT
DTSTART:20240310T070000
END:DAYLIGHT
BEGIN:STANDARD
TZOFFSETFROM:-0400
TZOFFSETTO:-0500
TZNAME:EST
DTSTART:20241103T060000
END:STANDARD
BEGIN:DAYLIGHT
TZOFFSETFROM:-0500
TZOFFSETTO:-0400
TZNAME:EDT
DTSTART:20250309T070000
END:DAYLIGHT
BEGIN:STANDARD
TZOFFSETFROM:-0400
TZOFFSETTO:-0500
TZNAME:EST
DTSTART:20251102T060000
END:STANDARD
BEGIN:DAYLIGHT
TZOFFSETFROM:-0500
TZOFFSETTO:-0400
TZNAME:EDT
DTSTART:20260308T070000
END:DAYLIGHT
BEGIN:STANDARD
TZOFFSETFROM:-0400
TZOFFSETTO:-0500
TZNAME:EST
DTSTART:20261101T060000
END:STANDARD
END:VTIMEZONE
BEGIN:VEVENT
DTSTART;TZID=America/New_York:20250504T150000
DTEND;TZID=America/New_York:20250504T180000
DTSTAMP:20260425T110507
CREATED:20250429T165810Z
LAST-MODIFIED:20250429T165947Z
UID:24378-1746370800-1746381600@www.centermakor.org
SUMMARY:From Vision to Blooming Reality
DESCRIPTION:From Vision to Blooming Reality\n🎉 *Join us to Celebrate Israel’s 77th Birthday!* \nGet ready for an unforgettable day as we come together to celebrate Israel’s Independence Day! \n💙 A Joyful celebration of Israel’s culture\, history\, and vibrant spirit featuring:\n      🎶 Live entertainment\n      🍽 Delicious Israeli food\n      🎨Artist’s Market\n      🤝 A vibrant community atmosphere\n      🎉 Fun activities for all ages: Inflatables\, Sensory truck\, Petting Zoo\, Arts & Crafts stations\, Volleyball court and Beach toys\, Sports games\, Face Painting and Temporary Tattoos\, More activities by the Tzofim. \nTICKETS \nNatick\, MA.
URL:https://www.centermakor.org/event/israel-77/
LOCATION:MA
CATEGORIES:Community Events
ATTACH;FMTTYPE=image/jpeg:https://www.centermakor.org/wp-content/uploads/2025/04/israel-77.jpeg
END:VEVENT
BEGIN:VEVENT
DTSTART;TZID=America/New_York:20250504T180000
DTEND;TZID=America/New_York:20250504T200000
DTSTAMP:20260425T110507
CREATED:20250318T021430Z
LAST-MODIFIED:20250318T021430Z
UID:23899-1746381600-1746388800@www.centermakor.org
SUMMARY:Дочь русского актёра
DESCRIPTION:Театр на крыше\nприглашает вас на спектакль \nДочь русского актёра\nВодевиль с песнями\, танцами и переодеваниями \nГениальность актера Лисичкина поставлена под вопрос: его увольняют из театра. Обида выливается на родную дочь\, Верочку\, которую он хочет выдать замуж за отставного прапорщика\, дважды вдовца – Акакия Назарыча Ушицу. Верочку не вдохновляет роль деревенской отставной прапорщицы. Взяв в пособницы свою горничную\, Катерину\, талантливая девушка дурачит жениха и отца и находит выход из положения. Красочный водевиль с песнями\, танцами и переодеваниями будет интересен и взрослым\, и детям! В спектакле звучит живая музыка в исполнении Сергея Беляева. \n\nРЕЖИССЁР – Людмила Старобинец. \nО спектакле     Заказ билетов \n  \n\nЦена билета $50\, пенсионерам и студентам $35\nВ цену билета включен буфет. \nВнимание! Оплата производится наличными при входе!
URL:https://www.centermakor.org/event/doch-6/
LOCATION:Театр на крыше\, 50 Kearney Road\, Needham\, 02494\, United States
CATEGORIES:Community Events
ATTACH;FMTTYPE=image/jpeg:https://www.centermakor.org/wp-content/uploads/2025/02/Дочь-русского-актёра.jpg
END:VEVENT
BEGIN:VEVENT
DTSTART;TZID=America/New_York:20250504T180000
DTEND;TZID=America/New_York:20250504T200000
DTSTAMP:20260425T110507
CREATED:20250429T165327Z
LAST-MODIFIED:20250429T165327Z
UID:24375-1746381600-1746388800@www.centermakor.org
SUMMARY:History Under Attack - Newton Film Screening and Discussion
DESCRIPTION:History Under Attack\nNewton Film Screening and Discussion\nOn Sunday\, May 4\, we will screen Baltic Truth\, a documentary that mines recently released Soviet‑era archives to show how collaboration in Lithuania and Latvia is still minimized. \nAfter the film\, director Eugene Levin and journalist Ben‑Dror Yemini will unpack the methods of historical distortion and show how the same tactics are now used to recast Hamas’s October 7 atrocities. Expect source‑based analysis\, audience Q&A\, and practical tools for countering misinformation. \nTICKETS
URL:https://www.centermakor.org/event/history-under-attack/
LOCATION:MA
CATEGORIES:Community Events
ATTACH;FMTTYPE=image/jpeg:https://www.centermakor.org/wp-content/uploads/2025/04/history-under-attack.jpg
END:VEVENT
BEGIN:VEVENT
DTSTART;TZID=America/New_York:20250504T193000
DTEND;TZID=America/New_York:20250504T213000
DTSTAMP:20260425T110507
CREATED:20250315T154857Z
LAST-MODIFIED:20250315T155350Z
UID:23866-1746387000-1746394200@www.centermakor.org
SUMMARY:Благотворительный концерт памяти Михаила Рудяка
DESCRIPTION:Благотворительный концерт\nпамяти Михаила Рудяка\nСлава Гауфберг\nАвтор-исполнитель\, Бостон \nАлекс Коффман\nСкрипач-виртуоз\, Чикаго \nВ программе:\nпесни Славы Гауфберга\, Булата Окуджавы\,\nЮрия Визбора и других авторов \n\n\nВход свободный\nПожертвования приветствуются в любом размере\nи пойдут в фонд помощи раненым солдатам ЦАХАЛа \nКонцерт спонсирован Благотворительным Фондом имени Михаила Рудяка \nВоскресенье\, 4 мая 2025\, 7:30 вечера\nNewton City Hall\n1000 Commonwealth Ave.\, Newton Centre\, MA 02459
URL:https://www.centermakor.org/event/slava-rudiak/
LOCATION:Newton City Hall\, 1000 Commonwealth Avenue\, Newton\, MA\, 02459\, United States
CATEGORIES:Community Events
ATTACH;FMTTYPE=image/jpeg:https://www.centermakor.org/wp-content/uploads/2025/03/2025-Slava-Alex-Web.jpg
END:VEVENT
END:VCALENDAR