BEGIN:VCALENDAR
VERSION:2.0
PRODID:-//Center Makor - ECPv6.15.20//NONSGML v1.0//EN
CALSCALE:GREGORIAN
METHOD:PUBLISH
X-ORIGINAL-URL:https://www.centermakor.org
X-WR-CALDESC:Events for Center Makor
REFRESH-INTERVAL;VALUE=DURATION:PT1H
X-Robots-Tag:noindex
X-PUBLISHED-TTL:PT1H
BEGIN:VTIMEZONE
TZID:America/New_York
BEGIN:DAYLIGHT
TZOFFSETFROM:-0500
TZOFFSETTO:-0400
TZNAME:EDT
DTSTART:20240310T070000
END:DAYLIGHT
BEGIN:STANDARD
TZOFFSETFROM:-0400
TZOFFSETTO:-0500
TZNAME:EST
DTSTART:20241103T060000
END:STANDARD
BEGIN:DAYLIGHT
TZOFFSETFROM:-0500
TZOFFSETTO:-0400
TZNAME:EDT
DTSTART:20250309T070000
END:DAYLIGHT
BEGIN:STANDARD
TZOFFSETFROM:-0400
TZOFFSETTO:-0500
TZNAME:EST
DTSTART:20251102T060000
END:STANDARD
BEGIN:DAYLIGHT
TZOFFSETFROM:-0500
TZOFFSETTO:-0400
TZNAME:EDT
DTSTART:20260308T070000
END:DAYLIGHT
BEGIN:STANDARD
TZOFFSETFROM:-0400
TZOFFSETTO:-0500
TZNAME:EST
DTSTART:20261101T060000
END:STANDARD
END:VTIMEZONE
BEGIN:VEVENT
DTSTART;TZID=America/New_York:20250606T193000
DTEND;TZID=America/New_York:20250606T213000
DTSTAMP:20260423T090433
CREATED:20250515T171314Z
LAST-MODIFIED:20250515T171422Z
UID:24509-1749238200-1749245400@www.centermakor.org
SUMMARY:Svetlana & Boston Swing Collective at RegattaBar
DESCRIPTION:Svetlana & Boston Swing Collective\nat the legendary RegattaBar jazz club\nInside Charles Hotel\n1 Bennet Street\, Cambridge\, MA\nFriday\, June 6\, 7:30 p.m. \n“Prepare to swing and be moved!” (JazzLives) as Svetlana and her Boston Collective transport you to the carnival of sound\, seamlessly moving from sophisticated tender tones to a rowdy “exuberant\, foot-stomping music” (WPIX11TV) fit for the 21st Century! Join Svetlana & The Boston Collective for a thrilling night of hot jazz\, sultry vocals and swing! Originating during the vintage swing culture revival of 2010s in the only remaining authentic Prohibition Time NYC speakeasy\, The Back Room\, Svetlana and her band have delighted audiences worldwide\, including legendary jazz clubs\, theatres\, and festivals around the US and internationally. Now on the stage of Regattabar\, the show will transport the audience to underground Prohibition-era speakeasies with captivating music and exhilarating swing dancing where “the crowd of revelers gyrate together to the band’s jubilant playing!” (Time Out New York). \nИдеальный вечер ждёт вас в легендарном джазовом клубе Бостона — The Regattabar! «Приготовьтесь окунуться в свинг и быть тронутыми до глубины души!» (JazzLives)\, когда Светлана и её Boston Collective из лучших музыкантов региона перенесут вас на настоящий карнавал звуков\, плавно переходя от утонченной нежной лирики к буйной\, «заразительной\, заводной музыке» (WPIX11TV)! Присоединяйтесь к захватывающему вечеру джаза\, чувственных вокалов и зажигательного свинга! Светлана начала свой путь во времена возрождения свинг-культуры 2010-х годов в единственном сохранившемся настоящем нью-йоркском спикизи эпохи «сухого закона» – The Back Room. Вместе со своей группой она покорила публику по всему миру\, выступая в легендарных джаз-клубах\, театрах и на фестивалях в США и за рубежом. Теперь\, на сцене Regattabar\, это шоу перенесет вас в атмосферу подпольных спикизи времён «сухого закона» с завораживающей музыкой и головокружительными свинговыми танцами\, где «толпа весельчаков танцует в едином ритме под ликующие мелодии группы!» (Time Out New York). \n\nTICKETS \n\nEVENT ON FACEBOOK
URL:https://www.centermakor.org/event/svetlana-boston-swing-collective-regattabar/
LOCATION:RegattaBar\, 1 Bennett St\, Cambridge\, MA\, 02138\, United States
CATEGORIES:Community Events
ATTACH;FMTTYPE=image/jpeg:https://www.centermakor.org/wp-content/uploads/2025/05/FB_IMG_1747328697689.jpg
END:VEVENT
END:VCALENDAR