BEGIN:VCALENDAR
VERSION:2.0
PRODID:-//Center Makor - ECPv6.15.20//NONSGML v1.0//EN
CALSCALE:GREGORIAN
METHOD:PUBLISH
X-WR-CALNAME:Center Makor
X-ORIGINAL-URL:https://www.centermakor.org
X-WR-CALDESC:Events for Center Makor
REFRESH-INTERVAL;VALUE=DURATION:PT1H
X-Robots-Tag:noindex
X-PUBLISHED-TTL:PT1H
BEGIN:VTIMEZONE
TZID:America/Halifax
BEGIN:DAYLIGHT
TZOFFSETFROM:-0400
TZOFFSETTO:-0300
TZNAME:ADT
DTSTART:20240310T060000
END:DAYLIGHT
BEGIN:STANDARD
TZOFFSETFROM:-0300
TZOFFSETTO:-0400
TZNAME:AST
DTSTART:20241103T050000
END:STANDARD
BEGIN:DAYLIGHT
TZOFFSETFROM:-0400
TZOFFSETTO:-0300
TZNAME:ADT
DTSTART:20250309T060000
END:DAYLIGHT
BEGIN:STANDARD
TZOFFSETFROM:-0300
TZOFFSETTO:-0400
TZNAME:AST
DTSTART:20251102T050000
END:STANDARD
BEGIN:DAYLIGHT
TZOFFSETFROM:-0400
TZOFFSETTO:-0300
TZNAME:ADT
DTSTART:20260308T060000
END:DAYLIGHT
BEGIN:STANDARD
TZOFFSETFROM:-0300
TZOFFSETTO:-0400
TZNAME:AST
DTSTART:20261101T050000
END:STANDARD
END:VTIMEZONE
BEGIN:VEVENT
DTSTART;TZID=America/Halifax:20250628T193000
DTEND;TZID=America/Halifax:20250628T213000
DTSTAMP:20260423T121452
CREATED:20250617T152826Z
LAST-MODIFIED:20250617T165310Z
UID:24667-1751139000-1751146200@www.centermakor.org
SUMMARY:Говорите! Я вас не слушаю…
DESCRIPTION:Огромная удача – нам удалось собрать поразъехавшихся актеров на этот спектакль! Мы хотели играть его 3 раза в год\, но в этом сезоне не смогли собрать состав. И вдруг… нашлось решение! А у зрителей будет возможность увидеть спектакль в новом составе\, а одну из наших актрис – в новой роли! \n \nТеатр на крыше\nприглашает вас на спектакль \n«Говорите! Я вас не слушаю…»\nВ тихом уездном городе разворачивается действие трёх очаровательных водевилей А.П.Чехова – «Предложение»\, «Медведь» и «Юбилей»\, в канву которых органично вплетены старинные русские романсы. \nРЕЖИССЕР – Людмила Старобинец \nAttention! This performance contains a sequence of flashing lights which may affect customers who are susceptible to photosensitive epilepsy or other photosensitivity. \nВнимание! Этот спектакль содержит яркие вспышки света\, которые могут представлять опасность для людей\, страдающих эпилепсией\, припадочными расстройствами или повышенной светочувствительностью. \nО спектакле     Билеты \n\nЦена билета $50\, пенсионерам и студентам $35\nВ цену билета включен буфет. \nВнимание! Оплата производится наличными при входе!
URL:https://www.centermakor.org/event/chekhov-8/
LOCATION:Театр на крыше\, 50 Kearney Road\, Needham\, 02494\, United States
CATEGORIES:Community Events
ATTACH;FMTTYPE=image/jpeg:https://www.centermakor.org/wp-content/uploads/2018/10/chehov_flaer-s-tekstom-scaled.jpg
END:VEVENT
END:VCALENDAR