BEGIN:VCALENDAR
VERSION:2.0
PRODID:-//Center Makor - ECPv6.15.20//NONSGML v1.0//EN
CALSCALE:GREGORIAN
METHOD:PUBLISH
X-WR-CALNAME:Center Makor
X-ORIGINAL-URL:https://www.centermakor.org
X-WR-CALDESC:Events for Center Makor
REFRESH-INTERVAL;VALUE=DURATION:PT1H
X-Robots-Tag:noindex
X-PUBLISHED-TTL:PT1H
BEGIN:VTIMEZONE
TZID:America/New_York
BEGIN:DAYLIGHT
TZOFFSETFROM:-0500
TZOFFSETTO:-0400
TZNAME:EDT
DTSTART:20240310T070000
END:DAYLIGHT
BEGIN:STANDARD
TZOFFSETFROM:-0400
TZOFFSETTO:-0500
TZNAME:EST
DTSTART:20241103T060000
END:STANDARD
BEGIN:DAYLIGHT
TZOFFSETFROM:-0500
TZOFFSETTO:-0400
TZNAME:EDT
DTSTART:20250309T070000
END:DAYLIGHT
BEGIN:STANDARD
TZOFFSETFROM:-0400
TZOFFSETTO:-0500
TZNAME:EST
DTSTART:20251102T060000
END:STANDARD
BEGIN:DAYLIGHT
TZOFFSETFROM:-0500
TZOFFSETTO:-0400
TZNAME:EDT
DTSTART:20260308T070000
END:DAYLIGHT
BEGIN:STANDARD
TZOFFSETFROM:-0400
TZOFFSETTO:-0500
TZNAME:EST
DTSTART:20261101T060000
END:STANDARD
END:VTIMEZONE
BEGIN:VEVENT
DTSTART;TZID=America/New_York:20250717T170000
DTEND;TZID=America/New_York:20250717T183000
DTSTAMP:20260425T124745
CREATED:20250715T161028Z
LAST-MODIFIED:20250715T161028Z
UID:24820-1752771600-1752777000@www.centermakor.org
SUMMARY:Art That Heals™ | Artist’s Reception
DESCRIPTION:Art That Heals™\nArtist’s Reception\nThursday\, July 17\, 5:00–6:30 PM \n🎨 Art That Heals™ Arrives at Dartmouth-Hitchcock Medical Center\, Lebanon\, NH – July 1 to Sept. 25\, 2025 \nGreetings! \nIn a cultural landscape where overstimulation often masks disconnection\, artist Irina Gorbman offers a quiet\, powerful antidote: meditative paintings that function as instruments of healing. Following her solo show in SoHo\, Gorbman has brought her Art That Heals™ to Dartmouth-Hitchcock Medical Center—a series of intuitive oil-on-canvas works imbued with energy\, color\, and consciousness – on view till September 25th. \n📍 Reception Details\nThursday\, July 17 | 5:00–6:30 PM\nWilliamson Building Gallery\, 4th Floor\nDartmouth-Hitchcock Medical Center\nOne Medical Center Dr\, Lebanon\, NH 03756 (park in a garage & take an elevator to 4th Floor) \n🎥 Installation Preview:\nStep inside the space and experience the work before you arrive.\n→ Watch the installation video \nGorbman’s work is not just seen—it’s felt. Her signature gestural style—born from a personal healing journey after a mini-stroke—channels color frequencies through movement\, breath\, and presence. Each canvas serves as an energetic “battery” to recharge the body\, uplift the spirit\, and reframe the room it occupies. \n🔸 If you’re seeking a private tour\, please reach out directly at igorbman@gmail.com or 508-494-9772. \nMore Information:\n🌐 www.igorbman.com\n📸 @IrinaGorbmanFineArt \nKind regards\, \nIrina \nP.S. Image above – Balloons 30×40” oil on canvas\, 2014
URL:https://www.centermakor.org/event/art-that-heals-artists-reception/
LOCATION:MA
CATEGORIES:Community Events
ATTACH;FMTTYPE=image/jpeg:https://www.centermakor.org/wp-content/uploads/2025/07/irina-gorbman.jpg
END:VEVENT
END:VCALENDAR