BEGIN:VCALENDAR
VERSION:2.0
PRODID:-//Center Makor - ECPv6.15.20//NONSGML v1.0//EN
CALSCALE:GREGORIAN
METHOD:PUBLISH
X-ORIGINAL-URL:https://www.centermakor.org
X-WR-CALDESC:Events for Center Makor
REFRESH-INTERVAL;VALUE=DURATION:PT1H
X-Robots-Tag:noindex
X-PUBLISHED-TTL:PT1H
BEGIN:VTIMEZONE
TZID:America/New_York
BEGIN:DAYLIGHT
TZOFFSETFROM:-0500
TZOFFSETTO:-0400
TZNAME:EDT
DTSTART:20240310T070000
END:DAYLIGHT
BEGIN:STANDARD
TZOFFSETFROM:-0400
TZOFFSETTO:-0500
TZNAME:EST
DTSTART:20241103T060000
END:STANDARD
BEGIN:DAYLIGHT
TZOFFSETFROM:-0500
TZOFFSETTO:-0400
TZNAME:EDT
DTSTART:20250309T070000
END:DAYLIGHT
BEGIN:STANDARD
TZOFFSETFROM:-0400
TZOFFSETTO:-0500
TZNAME:EST
DTSTART:20251102T060000
END:STANDARD
BEGIN:DAYLIGHT
TZOFFSETFROM:-0500
TZOFFSETTO:-0400
TZNAME:EDT
DTSTART:20260308T070000
END:DAYLIGHT
BEGIN:STANDARD
TZOFFSETFROM:-0400
TZOFFSETTO:-0500
TZNAME:EST
DTSTART:20261101T060000
END:STANDARD
END:VTIMEZONE
BEGIN:VEVENT
DTSTART;TZID=America/New_York:20250723T180000
DTEND;TZID=America/New_York:20250723T200000
DTSTAMP:20260425T092224
CREATED:20250707T133621Z
LAST-MODIFIED:20250707T134204Z
UID:24754-1753293600-1753300800@www.centermakor.org
SUMMARY:SLAVA at the BARN
DESCRIPTION:Common Man for Ukraine presents \nSLAVA at the BARN\nFree benefit concert\n$50 suggested donation – all welcome\nFeaturing Slava Gaufberg & Alex Koffman \nJuly 23 • 6–8 p.m.\nThe Barn on the Pemi\n341 Daniel Webster Highway\, Plymouth\, NH \nRaise awareness and funds for Ukraine’s children of war while enjoying hors d’oeuvres\, refreshments\, and the musical talents of Ukrainian-born songwriter Slava Gaufberg and virtuoso violinist Alex Koffman. \nCan’t make the concert? Support the cause today at commonmanforukraine.org \nDONATE
URL:https://www.centermakor.org/event/slava-at-the-barn/
LOCATION:MA
CATEGORIES:Community Events
ATTACH;FMTTYPE=image/jpeg:https://www.centermakor.org/wp-content/uploads/2025/07/Slava-at-the-Barn.jpeg
END:VEVENT
END:VCALENDAR