BEGIN:VCALENDAR
VERSION:2.0
PRODID:-//Center Makor - ECPv6.15.20//NONSGML v1.0//EN
CALSCALE:GREGORIAN
METHOD:PUBLISH
X-WR-CALNAME:Center Makor
X-ORIGINAL-URL:https://www.centermakor.org
X-WR-CALDESC:Events for Center Makor
REFRESH-INTERVAL;VALUE=DURATION:PT1H
X-Robots-Tag:noindex
X-PUBLISHED-TTL:PT1H
BEGIN:VTIMEZONE
TZID:America/New_York
BEGIN:DAYLIGHT
TZOFFSETFROM:-0500
TZOFFSETTO:-0400
TZNAME:EDT
DTSTART:20240310T070000
END:DAYLIGHT
BEGIN:STANDARD
TZOFFSETFROM:-0400
TZOFFSETTO:-0500
TZNAME:EST
DTSTART:20241103T060000
END:STANDARD
BEGIN:DAYLIGHT
TZOFFSETFROM:-0500
TZOFFSETTO:-0400
TZNAME:EDT
DTSTART:20250309T070000
END:DAYLIGHT
BEGIN:STANDARD
TZOFFSETFROM:-0400
TZOFFSETTO:-0500
TZNAME:EST
DTSTART:20251102T060000
END:STANDARD
BEGIN:DAYLIGHT
TZOFFSETFROM:-0500
TZOFFSETTO:-0400
TZNAME:EDT
DTSTART:20260308T070000
END:DAYLIGHT
BEGIN:STANDARD
TZOFFSETFROM:-0400
TZOFFSETTO:-0500
TZNAME:EST
DTSTART:20261101T060000
END:STANDARD
END:VTIMEZONE
BEGIN:VEVENT
DTSTART;VALUE=DATE:20250801
DTEND;VALUE=DATE:20250816
DTSTAMP:20260423T121511
CREATED:20250722T215721Z
LAST-MODIFIED:20250722T220731Z
UID:24848-1754006400-1755302399@www.centermakor.org
SUMMARY:SABBATH QUEEN
DESCRIPTION:SABBATH QUEEN\nAfter a sold-out show at Boston’s Coolidge Corner\, and its World Premiere at the Tribeca Film Festival\, 65 film festivals\, 50 cinemas\, 8 awards\, a New York Times Critic’s Pick and other sell-out screenings in New York\, Los Angeles\, Santa Fe\, Portland\, and the Bay Area\, you can see SABBATH QUEEN at our West Newton\, Martha’s Vineyard\, and Fire Island screenings and Q&As with director Sandi DuBowski and Rabbi Amichai Lau-Lavie listed below. \n\n\nFriday\, August 1 – Thursday\, August 7\, West Newton Cinema\nSpecial Q&A with director Sandi DuBowski on Sunday\, August 3rd at 4:00pm \nTickets for August 3rd available now at: https://www.westnewtoncinema.com/movie/sabbath-queen–director-event \nTickets for the theatrical run at: https://www.westnewtoncinema.com/movie/sabbath-queen \n  \nMonday\, August 4 at 7:30pm\, Martha’s Vineyard Hebrew Center\nSpecial Q&A to follow with director Sandi DuBowski & Rabbi Amichai Lau-Lavie \nTickets available now at: https://mvsummerinstitute.org/2025-films \n  \nFriday\, August 15\, Arts Project of Cherry Grove\nSabbath Queen Ritual Feast to follow with director Sandi DuBowski & Rabbi Amichai Lau-Lavie \nInfo at: https://www.artsprojectcg.org/ \n  \nDirected by Sandi DuBowski\, SABBATH QUEEN follows Rabbi Amichai Lau-Lavie on his 21-year journey to reinvent religion and ritual\, challenge patriarchy\, and advocate for peace\, interfaith love\, and gender equality. \nWe hope you will join us for these unforgettable screenings and Q&As. The film’s powerful exploration of themes like reimagining spirituality\, Jewish family\, queer identity\, and gender equality provides a unique opportunity to dive into these important topics\, sparking meaningful conversations and fostering deeper dialogue. \n\nABOUT SABBATH QUEEN \n\nRecent Reviews & Press: New York Times\, The Hollywood Reporter\, JWeekly\, Filmmaker Magazine
URL:https://www.centermakor.org/event/sabbath-queen/
CATEGORIES:Community Events
ATTACH;FMTTYPE=image/jpeg:https://www.centermakor.org/wp-content/uploads/2025/07/SQ_4x5_August_Screenings.jpg
END:VEVENT
BEGIN:VEVENT
DTSTART;VALUE=DATE:20250810
DTEND;VALUE=DATE:20250818
DTSTAMP:20260423T121511
CREATED:20250528T015352Z
LAST-MODIFIED:20250528T020015Z
UID:24561-1754784000-1755475199@www.centermakor.org
SUMMARY:Trip to Uzbekistan
DESCRIPTION:ANNOUNCEMENT!!! NEW AUGUST DATES! Trip to Uzbekistan 2025! \nWe’re excited to share a one-of-a-kind opportunity for Young Professionals (ages 23–47\, with some exceptions) to explore the rich history\, vibrant culture\, and breathtaking beauty of Uzbekistan on an exclusive trip this summer! \nWith early bird pricing ending June 15th\, now is the perfect time to spread the word and help more participants take advantage of this unforgettable experience. \n✈️ Trip to Uzbekistan\n🗓️ August 10–17\, 2025 (7 days\, 6 nights)\n📍 Tashkent | Bukhara | Samarkand \n🌟 Trip Highlights: \n\nExplore ancient cities and architectural wonders\nVisit Jewish historical and cultural sites\nExperience the warmth of Uzbek hospitality and cuisine\nTravel with a dynamic group of young professionals\n\n💰 Pricing:\nEarly Bird Rate: $2\,100 (until June 15th)\nStandard Rate: $2\,500 \nWe’d love your help in promoting this exciting journey. To make it easy\, we’ve included flyers\, sample posts\, and newsletter-ready content below. If you need custom materials or have any questions\, just let us know—we’re happy to assist! \nThank you to everyone already helping us spread the word. Your support means the world and makes trips like this possible. \nLet’s inspire a new generation to connect with their roots and explore the world together! \nWarmly\, \nManashe Khaimov\,\nadmin@samiglobal.org \nLEARN MORE \nREGISTER
URL:https://www.centermakor.org/event/trip-to-uzbekistan/
CATEGORIES:Community Events
ATTACH;FMTTYPE=image/png:https://www.centermakor.org/wp-content/uploads/2025/05/uzbekistan-1.png
END:VEVENT
END:VCALENDAR