BEGIN:VCALENDAR
VERSION:2.0
PRODID:-//Center Makor - ECPv6.15.20//NONSGML v1.0//EN
CALSCALE:GREGORIAN
METHOD:PUBLISH
X-ORIGINAL-URL:https://www.centermakor.org
X-WR-CALDESC:Events for Center Makor
REFRESH-INTERVAL;VALUE=DURATION:PT1H
X-Robots-Tag:noindex
X-PUBLISHED-TTL:PT1H
BEGIN:VTIMEZONE
TZID:America/New_York
BEGIN:DAYLIGHT
TZOFFSETFROM:-0500
TZOFFSETTO:-0400
TZNAME:EDT
DTSTART:20240310T070000
END:DAYLIGHT
BEGIN:STANDARD
TZOFFSETFROM:-0400
TZOFFSETTO:-0500
TZNAME:EST
DTSTART:20241103T060000
END:STANDARD
BEGIN:DAYLIGHT
TZOFFSETFROM:-0500
TZOFFSETTO:-0400
TZNAME:EDT
DTSTART:20250309T070000
END:DAYLIGHT
BEGIN:STANDARD
TZOFFSETFROM:-0400
TZOFFSETTO:-0500
TZNAME:EST
DTSTART:20251102T060000
END:STANDARD
BEGIN:DAYLIGHT
TZOFFSETFROM:-0500
TZOFFSETTO:-0400
TZNAME:EDT
DTSTART:20260308T070000
END:DAYLIGHT
BEGIN:STANDARD
TZOFFSETFROM:-0400
TZOFFSETTO:-0500
TZNAME:EST
DTSTART:20261101T060000
END:STANDARD
END:VTIMEZONE
BEGIN:VEVENT
DTSTART;TZID=America/New_York:20251129T180000
DTEND;TZID=America/New_York:20251129T200000
DTSTAMP:20260422T104931
CREATED:20251103T173634Z
LAST-MODIFIED:20251104T164456Z
UID:25737-1764439200-1764446400@www.centermakor.org
SUMMARY:Юбилейный концерт в честь 25-летия бостонского КСП “Посиделки”
DESCRIPTION:Дорогие друзья! \nПриглашаем вас на юбилейный концерт в честь 25-летия бостонского КСП “Посиделки” \n29-е ноября\, 2025\, суббота\, 6 ч. вечера\nKurlat House\n28 Wallingford Rd.\nBrighton\, MA 02135 \nРекомендуемые пожертвования $40 принимаются по PayPal на posidelki.vylazki@gmail.com и будут направлены в Украину и Израиль \nВ концерте участвуют:\nАнна Кричевская\, Евгения Виткина\, Ирина Барская\, Юлия Архитекторова\, Изабелла Гусева\, Ольга Терлицкая\, Яков Белецкий\, Михаил Ганкин\, Аркадий Зильберберг\, Антон Карнаух\, Дмитрий Клейнбок\, Александр Кузьмин\, Андрей Кузьмин (с группой КПСС)\, Евгений Иохвид\, Довлет Овезов\, Владимир Пономарёв\, Леонид Ригин\, Игорь Рощин\, Максим Чуль\, Марк Шмулевич \nТехническая поддержка:\nАндрей Маслов\, Дмитрий Филонов \nИнформация на ФБ
URL:https://www.centermakor.org/event/posidelki-25/
LOCATION:28 Wallingford Rd\, Brighton\, MA 02135\, 28 Wallingford Rd\, Brighton\, MA\, 02135\, United States
CATEGORIES:Community Events
ATTACH;FMTTYPE=image/jpeg:https://www.centermakor.org/wp-content/uploads/2025/11/посиделки-2.jpg
END:VEVENT
END:VCALENDAR