BEGIN:VCALENDAR
VERSION:2.0
PRODID:-//Center Makor - ECPv6.15.20//NONSGML v1.0//EN
CALSCALE:GREGORIAN
METHOD:PUBLISH
X-ORIGINAL-URL:https://www.centermakor.org
X-WR-CALDESC:Events for Center Makor
REFRESH-INTERVAL;VALUE=DURATION:PT1H
X-Robots-Tag:noindex
X-PUBLISHED-TTL:PT1H
BEGIN:VTIMEZONE
TZID:America/New_York
BEGIN:DAYLIGHT
TZOFFSETFROM:-0500
TZOFFSETTO:-0400
TZNAME:EDT
DTSTART:20240310T070000
END:DAYLIGHT
BEGIN:STANDARD
TZOFFSETFROM:-0400
TZOFFSETTO:-0500
TZNAME:EST
DTSTART:20241103T060000
END:STANDARD
BEGIN:DAYLIGHT
TZOFFSETFROM:-0500
TZOFFSETTO:-0400
TZNAME:EDT
DTSTART:20250309T070000
END:DAYLIGHT
BEGIN:STANDARD
TZOFFSETFROM:-0400
TZOFFSETTO:-0500
TZNAME:EST
DTSTART:20251102T060000
END:STANDARD
BEGIN:DAYLIGHT
TZOFFSETFROM:-0500
TZOFFSETTO:-0400
TZNAME:EDT
DTSTART:20260308T070000
END:DAYLIGHT
BEGIN:STANDARD
TZOFFSETFROM:-0400
TZOFFSETTO:-0500
TZNAME:EST
DTSTART:20261101T060000
END:STANDARD
END:VTIMEZONE
BEGIN:VEVENT
DTSTART;TZID=America/New_York:20251203T183000
DTEND;TZID=America/New_York:20251203T203000
DTSTAMP:20260420T080836
CREATED:20251126T031521Z
LAST-MODIFIED:20251126T031640Z
UID:25910-1764786600-1764793800@www.centermakor.org
SUMMARY:JALSA Chanukah Party
DESCRIPTION:Join us for JALSA’s Annual Chanukah Party\n“Babkas and Books” \nWednesday\, December 3rd at 6:30PM in Brookline. \nFeaturing Massachusetts State Senate Assistant Majority Whip\, Julian Cyr\, Lead Sponsor of “An Act Regarding Free Expression\,” who will talk about preventing book bans\, protecting the freedom to read\, and shielding librarians from retaliation during the challenge process. \nFederico Erebia\, author of Pedro & Daniel\, will join to share the perspective of an author of a challenged book\, underscoring the importance of protecting the constitutional right to read freely about a full range of human experiences.\n\n\nTICKETS \nA donation of any amount secures your ticket.\nDonors of $250+ will receive a special gift! \n*Donations in support of JALSA are welcome even if you are unable to attend. \nLocation details will be shared with registrants closer to the event.
URL:https://www.centermakor.org/event/jalsa-chanukah-party/
CATEGORIES:Community Events
ATTACH;FMTTYPE=image/jpeg:https://www.centermakor.org/wp-content/uploads/2025/11/JALSA-Chanukah-Party.jpg
END:VEVENT
END:VCALENDAR